{"text_format":"1","workbook":"xlsx","n_sheets":10,"sheets":["Sichtfeld","Bewegung 1D","Mathematik","Diagramme Bildfeld","Diagramme Modulbreite","Schärfentiefe","Daten Gesamt","IDC Sichtfeldrechner","IDC FoV Calculator English","Kalkulator"],"not_rendered":{"charts":14,"images":8,"macros":1,"external_links":0,"defined_names":0,"comments":6,"pivot_tables":0},"unopened":[],"bounds":{"document_bytes":16777216,"sheet_cells":100000,"rows_first":2000,"rows_last":500,"rows_between":2000,"halvings":0,"cell_chars":16384,"cell_head_chars":4096},"cells_cut":0,"cells_raw":0,"read":"whole","date_system":"1900"}

{"sheet":"Sichtfeld","index":0,"n_rows":284,"n_cols":25,"rows_kept":284,"cut":false,"hidden":true,"merged":[[226,5,226,6],[226,13,226,14],[226,21,226,22],[21,23,21,24],[21,5,21,6],[21,13,21,14],[21,21,21,22],[21,7,21,8],[21,15,21,16],[9,18,9,24],[10,18,10,24],[11,18,11,24],[12,18,12,24],[9,2,9,8],[10,2,10,8],[11,2,11,8],[12,2,12,8],[9,10,9,16],[10,10,10,16],[11,10,11,16],[12,10,12,16]]}
["Bildbreite [px]",null,1280]
["Bildhöhe [px]",null,800]
["Pixelgröße [µm]",null,3]
["Abstand Gehäusefront zu Sensor [mm]",null,34]
["Sensorbreite [mm]",null,{"$f":"$C$3/1000*C1","v":3.84}]
["Sensorhöhe [mm]",null,{"$f":"$C$3/1000*C2","v":2.4}]
["Min. Breite Modul 1D-Code [px]",null,1.5]
["Min. Breite Modul 2D-Code [px]",null,3]
[]
["Hersteller",null,"YTOT",null,null,null,null,null,null,null,"YTOT",null,null,null,null,null,null,null,"EVETAR"]
["Objektiv",null,"YT1028-2MP",null,null,null,null,null,null,null,"YT10051-2MP",null,null,null,null,null,null,null,"M13B1618IRM12R1"]
["Daten allg.",null,"\\\\emea.baumernet.org\\de04d\\Projekte\\34600180_Plattform_Stage_3\\3_kon\\01_Optik\\3_Objektive_YTOT\\Datenblätter\\YT1028-2MP.pdf",null,null,null,null,null,null,null,"\\\\emea.baumernet.org\\de04d\\Projekte\\34600180_Plattform_Stage_3\\3_kon\\01_Optik\\3_Objektive_YTOT\\Datenblätter\\YT10051-2MP.pdf",null,null,null,null,null,null,null," "]
["Daten H1/H2",null,"\\\\emea.baumernet.org\\de04d\\Projekte\\34600180_Plattform_Stage_3\\3_kon\\01_Optik\\3_Objektive_YTOT\\Datenblätter\\YT10028_H1H2.pdf",null,null,null,null,null,null,null,"\\\\emea.baumernet.org\\de04d\\Projekte\\34600180_Plattform_Stage_3\\3_kon\\01_Optik\\3_Objektive_YTOT\\Datenblätter\\YT10051_H1H2.pdf",null,null,null,null,null,null,null,"\\\\emea.baumernet.org\\de04d\\Projekte\\34600180_Plattform_Stage_3\\3_kon\\01_Optik\\2_Objektive_Evetar\\Datenblätter\\16mmF1,8_11162414.pdf"]
["Brennweite f [mm]",null,6,null,null,null,null,null,null,null,8,null,null,null,null,null,null,null,16]
["Hauptebene 1 [mm]",null,{"$f":"C$17-5.63-7.55","v":9.02},null,null,null,null,null,null,null,{"$f":"K$17-4.9-9.02","v":8.2799999999999976},null,null,null,null,null,null,null,{"$f":"S$17-16.29","v":5.8500000000000014}]
["Hauptebene 2 [mm]",null,{"$f":"C$17-5.63-0.2","v":16.37},null,null,null,null,null,null,null,{"$f":"K$17-4.9-3.19","v":14.109999999999998},null,null,null,null,null,null,null,{"$f":"9.17+0.5","v":9.67}]
["Bildebene [mm]",null,22.2,null,null,null,null,null,null,null,22.2,null,null,null,null,null,null,null,{"$f":"15.8+6.34","v":22.14}]
["Position Front Objektiv bei unendlich",null,{"$f":"C17","v":22.2},null,null,null,null,null,null,null,{"$f":"K17","v":22.2},null,null,null,null,null,null,null,{"$f":"S17","v":22.14}]
["Abstand Gehäusefront zu H1 bei unendlich => g_i [mm]",null,{"$f":"$C$4-C17+C15","v":20.82},null,null,null,null,null,null,null,{"$f":"$C$4-K17+K15","v":20.079999999999998},null,null,null,null,null,null,null,{"$f":"$C$4-S17+S15","v":17.71}]
["x_max [mm]",null,2.6,null,null,null,null,null,null,null,2.6,null,null,null,null,null,null,null,2.6]
[]
[null,null,null,null,null,"Sichtfeld [mm]",null,"Mindestbreite Modul [µm]",null,null,null,null,null,"Sichtfeld [mm]",null,"Mindestbreite Modul [µm]",null,null,null,null,null,"Sichtfeld [mm]",null,"Mindestbreite Modul [µm]"]
["Nutzabstand g_a [mm]",null,"p","x","beta","Breite","Höhe","1D-Code","2D-Code",null,"p","x","beta","Breite","Höhe","1D-Code","2D-Code",null,"p","x","beta","Breite","Höhe","1D-Code","2D-Code"]
[0,null,{"$f":"C$14-$A24-C$19","v":-14.82},{"$f":"IF(C24^2/4-C$14^2 >=0,-C24/2-SQRT(C24^2/4-C$14^2),\"\")","v":3.0616554874297268},{"$f":"IF(AND(ISNUMBER(D24),D24<C$20),(C$14+D24)/($A24+C$19-D24),\"\")","v":""},{"$f":"IF(ISNUMBER(E24),$C$5/E24,\"\")","v":""},{"$f":"IF(ISNUMBER(E24),$C$6/E24,\"\")","v":""},{"$f":"IF(ISNUMBER(E24),$C$7*$C$3/E24,\"\")","v":""},{"$f":"IF(ISNUMBER(E24),$C$8*$C$3/E24,\"\")","v":""},null,{"$f":"K$14-$A24-K$19","v":-12.079999999999998},{"$f":"IF(K24^2/4-K$14^2 >=0,-K24/2-SQRT(K24^2/4-K$14^2),\"\")","v":""},{"$f":"IF(AND(ISNUMBER(L24),L24<K$20),(K$14+L24)/($A24+K$19-L24),\"\")","v":""},{"$f":"IF(ISNUMBER(M24),$C$5/M24,\"\")","v":""},{"$f":"IF(ISNUMBER(M24),$C$6/M24,\"\")","v":""},{"$f":"IF(ISNUMBER(M24),$C$7*$C$3/M24,\"\")","v":""},{"$f":"IF(ISNUMBER(M24),$C$8*$C$3/M24,\"\")","v":""},null,{"$f":"S$14-$A24-S$19","v":-1.7100000000000009},{"$f":"IF(S24^2/4-S$14^2 >=0,-S24/2-SQRT(S24^2/4-S$14^2),\"\")","v":""},{"$f":"IF(AND(ISNUMBER(T24),T24<S$20),(S$14+T24)/($A24+S$19-T24),\"\")","v":""},{"$f":"IF(ISNUMBER(U24),$C$5/U24,\"\")","v":""},{"$f":"IF(ISNUMBER(U24),$C$6/U24,\"\")","v":""},{"$f":"IF(ISNUMBER(U24),$C$7*$C$3/U24,\"\")","v":""},{"$f":"IF(ISNUMBER(U24),$C$8*$C$3/U24,\"\")","v":""}]
[{"$f":"A24+10","v":10},null,{"$f":"C$14-$A25-C$19","v":-24.82},{"$f":"IF(C25^2/4-C$14^2 >=0,-C25/2-SQRT(C25^2/4-C$14^2),\"\")","v":1.5468466824775042},{"$f":"IF(AND(ISNUMBER(D25),D25<C$20),(C$14+D25)/($A25+C$19-D25),\"\")","v":0.25780778041291741},{"$f":"IF(ISNUMBER(E25),$C$5/E25,\"\")","v":14.894818123214398},{"$f":"IF(ISNUMBER(E25),$C$6/E25,\"\")","v":9.3092613270089988},17.454864988141871,34.909729976283742,null,{"$f":"K$14-$A25-K$19","v":-22.08},{"$f":"IF(K25^2/4-K$14^2 >=0,-K25/2-SQRT(K25^2/4-K$14^2),\"\")","v":3.4320042061000064},{"$f":"IF(AND(ISNUMBER(L25),L25<K$20),(K$14+L25)/($A25+K$19-L25),\"\")","v":""},{"$f":"IF(ISNUMBER(M25),$C$5/M25,\"\")","v":""},{"$f":"IF(ISNUMBER(M25),$C$6/M25,\"\")","v":""},"","",null,{"$f":"S$14-$A25-S$19","v":-11.71},{"$f":"IF(S25^2/4-S$14^2 >=0,-S25/2-SQRT(S25^2/4-S$14^2),\"\")","v":""},{"$f":"IF(AND(ISNUMBER(T25),T25<S$20),(S$14+T25)/($A25+S$19-T25),\"\")","v":""},{"$f":"IF(ISNUMBER(U25),$C$5/U25,\"\")","v":""},{"$f":"IF(ISNUMBER(U25),$C$6/U25,\"\")","v":""},"",""]
[{"$f":"A25+10","v":20},null,-34.82,1.0665578900893706,0.17775964834822847,21.6022029503428,13.50137684396425,25.31508158243297,50.630163164865941,null,-32.08,2.1374246989991104,0.26717808737488874,14.372436144480425,8.9827725903002644,16.842698606812998,33.685397213625997,null,-21.71,"","","","","",""]
[30,null,-44.82,0.81814736989898762,0.13635789498316461,28.161185683264648,17.600741052040405,33.001389472575759,66.002778945151519,null,-42.08,1.5802569390035366,0.19753211737544207,19.439876669278306,12.149922918298939,22.781105471810513,45.562210943621025,null,-31.71,"","","","","",""]
[40,null,-54.82,0.66475556290427207,0.11079259381737862,34.659356439741266,21.662097774838291,40.616433327821795,81.232866655643591,null,-52.08,1.2593301139779527,0.15741626424724398,24.393921545290578,15.246200965806612,28.586626810887399,57.173253621774798,null,-41.71,7.4784898048855801,"","","","",""]
[50,null,-64.819999999999993,0.5602260604568805,9.3371010076146871E-2,41.126255321307589,25.703909575817242,48.194830454657335,96.389660909314671,null,-62.08,1.0486412445184463,{"$f":"IF(AND(ISNUMBER(L29),L29<K$20),(K$14+L29)/($A29+K$19-L29),\"\")","v":0.1310801555648059},29.295052202631144,18.309407626644465,34.330139299958368,68.660278599916737,null,-51.71,5.5453711259905099,"","","","",""]
[60,null,-74.819999999999993,0.48428944488677672,8.071490748112968E-2,47.574854755272469,29.734284222045293,{"$f":"IF(ISNUMBER(E30),$C$7*$C$3/E30,\"\")","v":55.751782916334925},{"$f":"IF(ISNUMBER(E30),$C$8*$C$3/E30,\"\")","v":111.50356583266985},null,-72.08,0.89911782552976405,0.11238972819122046,34.166823443745713,21.354264652341072,{"$f":"IF(ISNUMBER(M30),$C$7*$C$3/M30,\"\")","v":40.039246223139507},{"$f":"IF(ISNUMBER(M30),$C$8*$C$3/M30,\"\")","v":80.078492446279014},null,-61.71,4.4726000902116567,"","","",{"$f":"IF(ISNUMBER(U30),$C$7*$C$3/U30,\"\")","v":""},{"$f":"IF(ISNUMBER(U30),$C$8*$C$3/U30,\"\")","v":""}]
[70,null,-84.82,0.42657350810917904,7.1095584684863197E-2,54.011792954810112,33.757370596756324,63.295069868918105,126.59013973783621,null,-82.08,0.78727835288649572,9.8409794110812118E-2,39.020506390614486,24.387816494134054,45.727155926501347,91.454311853002693,null,-71.710000000000008,3.7679149812576469,"","","","",""]
[80,null,-94.82,0.38119924982139253,6.3533208303565347E-2,60.440832480114295,37.775520300071435,70.82910056263394,141.65820112526788,null,-92.08,0.70037494641138665,8.7546868301423678E-2,43.862220025722543,27.413887516076588,51.401039092643607,102.80207818528721,null,-81.710000000000008,3.2633649597413736,"","","","",""]
[90,null,-104.82,0.34457865339030747,5.7429775565051619E-2,66.864269661830221,41.79016853864389,78.356566009957305,156.71313201991461,null,-102.08,0.63085797199083515,7.8857246498854325E-2,48.695588173444392,30.434742608402747,57.065142390755149,114.1302847815103,null,-91.710000000000008,2.8819732855596953,"","","","",""]
[100,null,-114.82,0.31439509033992152,5.2399181723320337E-2,73.283587142182455,45.802241963864034,85.879203682245063,171.75840736449013,null,-112.08,0.57395993943681134,7.1744992429601945E-2,53.522899229070347,33.451812018168965,62.722147534066814,125.44429506813363,null,-101.71000000000001,2.5825334688603263,0.16140834180377037,23.790591967473521,14.86911997967095,27.879599961883034,55.759199923766069]
[110,null,-124.82,0.28908484254276345,4.8180807090460888E-2,79.699785700772637,49.812366062982903,93.398186368092951,186.7963727361859,null,-122.08,0.52651720484103492,6.5814650605129449E-2,58.345671741676291,36.466044838547681,68.373834072276907,136.74766814455381,null,-111.71000000000001,2.3406932680614858,0.14629332925384275,26.248633615665241,16.405396009790774,30.760117518357703,61.520235036715405]
[120,null,-134.82,0.26755366387072854,4.4592277311786943E-2,86.113565655122628,53.82097853445164,100.91433475209682,201.82866950419364,null,-132.07999999999998,0.48634563962127686,6.0793204952659954E-2,63.164954092981802,39.478096308113628,74.021430577713048,148.0428611554261,null,-121.71000000000001,2.1410235974431728,0.13381397484019825,28.696554336613644,17.935346460383528,33.628774613219115,67.257549226438229]
[130,null,-144.82,0.24901261762003912,4.1502102936673099E-2,92.525431924723151,57.828394952951975,108.42824053678495,216.85648107356991,null,-142.07999999999998,0.45188768638163879,5.6485960797704945E-2,67.981493910536813,42.488433694085508,79.665813176410325,159.33162635282065,null,-131.71,1.9732261908766304,0.12332663692978961,31.136825714189616,19.460516071368509,36.488467633815958,72.976935267631916]
[140,null,-154.82,0.23287839003063482,3.8813065005106194E-2,98.935757830380439,61.834848643987769,115.94034120747708,231.88068241495415,null,-152.07999999999998,0.42200214234709676,5.275026779338636E-2,72.795838971673334,45.497399357295841,85.307623794929697,170.61524758985939,null,-141.71,1.8301419776903884,0.11438387360564908,33.5711659253543,20.981978703346439,39.341210068774572,78.682420137549144]
[150,null,-164.82,0.21871031550848841,3.6451719251415479E-2,105.34482539807465,65.840515873796647,123.45096726336872,246.90193452673745,null,-162.07999999999998,0.39583344097354711,4.9479180121693722E-2,77.608399948332703,48.50524996770794,90.947343689452396,181.89468737890479,null,-151.71,1.7066283051340321,0.10666426907087725,36.00080920676784,22.500505754229899,42.188448289181061,84.376896578362121]
[160,null,-174.82,0.20616923552039168,3.4361539253398792E-2,111.75285168926695,69.845532305791849,130.9603730733597,261.92074614671941,null,-172.07999999999998,0.37272736919891258,4.6590921149864815E-2,82.419490862784571,51.512181789240358,96.585340854825674,193.17068170965135,null,-161.71,1.5988896677360316,9.9930604233501738E-2,38.426666479743346,24.016666549839591,45.031249780949238,90.062499561898477]
[170,null,-184.82,0.19498983354174015,3.2498305590290218E-2,118.16000650653331,73.85000406658331,138.46875762484373,276.93751524968746,null,-182.07999999999998,0.35217501781178839,4.402187722647375E-2,87.229355991450348,54.518347494656467,102.22190155248089,204.44380310496177,null,-171.71,1.5040603194013045,9.4003769962581377E-2,40.849425523343683,25.530890952089802,47.870420535168378,95.740841070336757]
[180,null,-194.82,0.18496155824878713,3.082692637479878E-2,124.56642460272087,77.854015376700545,145.97627883131352,291.95255766262704,null,-192.07999999999998,0.33377449716240903,4.1721812145301441E-2,92.038188241362064,57.523867650851287,107.85725184534617,215.71450369069234,null,-181.71,1.4199340303256633,8.8745876895354139E-2,43.269615832721854,27.043509895451159,50.706581053970922,101.41316210794184]
[190,null,-204.82,0.17591517502589227,2.9319195837649612E-2,130.97221428798352,81.857633929989703,153.48306361873071,306.96612723746142,null,-202.07999999999998,0.31720416906608762,3.9650521133259717E-2,96.84614199884814,60.528838749280091,113.49157265490018,226.98314530980036,null,-191.71,1.3447834887677459,8.4048968047983438E-2,45.68765196269571,28.554782476684821,53.540217143784041,107.08043428756808]
[200,null,-214.82,0.16771309786423672,2.7952182977372703E-2,137.37746361736686,85.860914760854286,160.98921517660179,321.97843035320358,null,-212.07999999999998,0.30220354102323199,3.7775442627903964E-2,101.65334230030884,63.533338937693024,119.12501050817443,238.25002101634885,null,-201.71,1.2772362924332441,7.9827268277077451E-2,48.103863289816005,30.064914556135005,56.371714792753131,112.74342958550626]
[210,null,-224.82,0.16024231651989851,2.6707052753316477E-2,143.78224491742728,89.863903073392038,168.49481826261007,336.98963652522013,null,-222.07999999999998,0.28855937731555059,3.6069922164443428E-2,106.45989149888847,66.53743218680529,124.75768535025993,249.51537070051987,null,-211.71,1.2161877695470054,7.6011735596687627E-2,50.518514935308701,31.574071834567938,59.201384689814887,118.40276937962977]
[220,null,-234.82,0.15340914046664977,2.5568190077774972E-2,150.18661815010134,93.86663634381334,175.99994314465002,351.99988628930004,null,-232.07999999999998,0.27609543558061489,3.4511929447576521E-2,111.26587419092127,69.541171369325781,130.38969631748586,260.77939263497171,null,-221.71,1.1607384135341334,7.2546150845883603E-2,52.931822780751823,33.082389237969892,62.029479821193547,124.05895964238709]
[230,null,-244.82,0.14713523722748789,2.4522539537914917E-2,156.59063344817446,97.869145905109022,183.50464857207945,367.00929714415889,null,-242.07999999999998,0.26466476966416508,3.3083096208020787E-2,116.07136091056121,72.544600569100751,136.02112606706393,272.04225213412786,null,-231.71,1.1101481546993313,6.9384259668708273E-2,55.343964442872164,34.589977776795102,64.856208331490819,129.71241666298164]
[240,null,-254.82,0.14135460766466679,2.3559101277442956E-2,162.99433305109437,101.87145815693397,191.00898404425121,382.01796808850241,null,-252.07999999999998,0.25414387936933736,3.1767984921166371E-2,120.87641093790261,75.547756836189123,141.65204406785463,283.30408813570926,null,-241.71,1.0638023893241098,6.6487649332757137E-2,57.75508742656222,36.096929641601392,67.681743078002611,135.36348615600522]
[250,null,-264.82,0.13601124937676445,2.266854156279547E-2,169.3977528003991,105.87359550024944,198.5129915629677,397.0259831259354,null,-262.08,0.24442820951466615,3.0553526189334584E-2,125.68107445943312,78.550671537145703,147.28250913214819,294.56501826429638,null,-251.71,1.0211863716404821,6.3824148227529784E-2,60.165315270806261,37.603322044253915,70.506228832976092,141.01245766595218]
[260,null,-274.82,0.13105733216036697,2.1842888693395054E-2,175.80092330741746,109.87557706713591,206.01670700087985,412.0334140017597,null,-272.08,0.23542864836986155,2.942858104623329E-2,130.48539424878254,81.553371405489074,152.91257138529204,305.82514277058408,null,-261.70999999999998,0.98186565343854681,6.1366603339909231E-2,62.574752243174743,39.109220151984218,73.329787784970407,146.65957556994081]
[270,null,-284.82,0.12645175917211304,2.1075293195350158E-2,182.20387087412948,113.87741929633093,213.52016118062048,427.04032236124095,null,-282.08,0.22706877562700356,2.8383596953375268E-2,135.28940698769898,84.555879367311874,158.54227381370976,317.08454762741951,null,-271.70999999999998,0.94547096294496669,5.909193518405937E-2,64.983486968893132,40.614679355558209,76.152523791671641,152.30504758334328]
[280,null,-294.82,0.12215902186630956,2.0359836977717125E-2,188.60661822600531,117.87913639125333,221.02338073359999,442.04676146719999,null,-292.08,0.21928267903768983,2.7410334879710188E-2,140.09314431406176,87.5582151962886,164.17165349304113,328.34330698608227,null,-281.70999999999998,0.91168638695165782,5.6980399184478919E-2,67.391595267131621,42.119747041957261,78.974525703669869,157.94905140733974]
[290,null,-304.82,0.11814828100617092,1.9691380167697135E-2,195.00918510015643,121.88074068759776,228.52638878924583,457.05277757849166,null,-302.08,0.21201320709741367,2.6501650887175505E-2,144.89663366059304,90.56039603787066,169.80074257100748,339.60148514201495,null,-291.70999999999998,0.88024004158515368,5.5015002599073062E-2,69.799142390019611,43.624463993762262,81.795869988304233,163.59173997660847]
[300,null,-314.82,0.11439262331575151,1.9065437219294084E-2,201.41158872107835,125.88224295067397,236.02920553251371,472.05841106502743,null,-312.08,0.20521055938760924,2.5651319923450797E-2,149.69989893149389,93.562436832183678,175.42956906034439,350.85913812068878,null,-301.70999999999998,0.85089663945856842,5.3181039966159971E-2,72.206184806529905,45.12886550408119,84.616622820152244,169.23324564030449]
[310,null,-324.82,0.11086845580473437,1.8478075967455078E-2,207.81384418828483,129.88365261767802,243.53184865814629,487.06369731629258,null,-322.08,0.19883114078038489,2.4853892597547226E-2,154.50296105242526,96.5643506577658,181.05815748331088,362.11631496662176,null,-311.70999999999998,0.82345151711862741,5.1465719819913755E-2,74.612771635891491,46.632982272432187,87.436841760810353,174.87368352162071]
[320,null,-334.82,0.10755500890013536,1.7925834816687362E-2,214.21596479430352,133.88497799643969,251.03433374332442,502.06866748664885,null,-332.08,0.19283662359489995,2.4104577949364374E-2,159.30583842067472,99.566149012921699,186.68652939922819,373.37305879845638,null,-321.70999999999998,0.79772579791944054,4.9857862369965589E-2,77.018945808499367,48.136841130312106,90.256577119335205,180.51315423867041]
[330,null,-344.82,0.10443392623673731,1.7405654372788345E-2,220.61796228720823,137.88622642950514,258.53667455532212,517.07334911064424,null,-342.08,0.18719317494372945,2.3399146867964234E-2,164.10854727602666,102.56784204751666,192.31470383909377,384.62940767818753,null,-331.71,0.77356244568258603,4.8347652855161592E-2,79.424745013036173,49.640465633147606,93.075873062151771,186.15174612430354]
[340,null,-354.82,0.10148892396620113,1.6914820661033676E-2,227.01984708866163,141.88740443041354,266.0388833070254,532.0777666140508,null,-352.08,0.18187081627417001,2.2733852034272105E-2,168.91110200818852,105.56943875511783,197.94269766584594,395.88539533169188,null,-341.71,0.75082302306623205,4.6926438941640232E-2,81.830202474464159,51.143876546540099,95.894768524762696,191.78953704952539]
[350,null,-364.82,9.8705506213889294E-2,1.6450917702317512E-2,233.4216284760237,145.88851779751482,273.54097087034029,547.08194174068058,null,-362.08,0.17684288943752335,2.2105361179692501E-2,173.71351541307033,108.57094713316896,203.57052587469181,407.14105174938362,null,-351.71,0.7293850117864622,4.5586563236654248E-2,84.23534759717127,52.647092248232049,98.713297965435089,197.42659593087018]
[360,null,-374.82,9.6070726173707044E-2,1.6011787695617258E-2,239.82331473524869,149.88957170953043,281.04294695536959,562.08589391073917,null,-372.08,0.17208560916168381,2.1510701145210885E-2,178.51579890760243,111.57237431725153,209.19820184484661,418.39640368969322,null,-361.71,0.70913958405816402,4.4321224003635203E-2,86.640206499826022,54.150129062391265,101.53149199198363,203.06298398396726]
[370,null,-384.82,9.3572984521159697E-2,1.5595497420193078E-2,246.22491328990643,153.8905708061915,288.54482026160912,577.08964052321824,null,-382.08,0.16757768603659429,2.0947210754572825E-2,183.31796271070212,114.57372669418884,214.82573755160408,429.65147510320816,null,-371.71,0.68998973888182036,4.3124358680113897E-2,89.044802462668372,55.653001539167725,104.34937788593949,208.69875577187898]
[380,null,-394.82,9.1201858515262302E-2,1.520030975254404E-2,252.62643081055032,157.89151925659394,296.04659860611366,592.09319721222732,null,-392.08,0.16330000737710293,2.0412500922136256E-2,188.12001599645868,117.57500999778667,220.45314374585001,440.90628749170003,null,-381.71,0.67184873522575117,4.199054595160992E-2,91.449156303545848,57.155722689716157,107.16698004321779,214.33396008643558]
[390,null,-404.82,8.8947956471912448E-2,1.4824659411985788E-2,259.02787330785804,161.89242081741128,303.54828903264615,607.09657806529231,null,-402.08,0.159235365851913,1.9904420731489372E-2,192.92196702439114,120.57622939024446,226.08043010670838,452.16086021341675,null,-391.71,0.65463876826456158,4.091492301653564E-2,93.853286695616546,58.658304184760347,109.98432034642565,219.9686406928513]
[400,null,-414.82,8.6802793319805005E-2,1.4467132219970119E-2,265.42924621227598,165.89327888267249,311.04989790501094,622.09979581002187,null,-412.08,0.15536822773779591,1.9421028467224325E-2,197.7238232506858,123.57738953167862,231.70760537189744,463.41521074379489,null,-401.71,0.63828984572742797,3.9893115357963305E-2,96.257210437025307,60.160756523140812,112.80141848088903,225.60283696177805]
[410,null,-424.82,8.4758683758934694E-2,1.4126447293156522E-2,271.83055444239449,169.89409652649655,318.55143098718105,637.1028619743621,null,-422.08,0.15168453420659489,1.8960566775823751E-2,202.52559142358069,126.57849463973794,237.33467744950866,474.66935489901732,null,-411.71,0.62273882988083074,3.892117686755258E-2,98.660942680828668,61.663089175517918,115.61829220409611,231.23658440819221]
[420,null,-434.82,8.2808650182926158E-2,1.3801441697156313E-2,278.23180246388347,173.89487653992717,326.05289351236343,652.10578702472685,null,-432.08,0.14817153027769336,1.852144128471141E-2,207.32727766546665,129.57954854091665,242.96165351421874,485.92330702843748,null,-421.71,0.60792861730510594,3.7995538581569448E-2,101.06449713184679,63.165310707404252,118.43495757638297,236.86991515276594]
[430,null,-444.82,8.0946343038647228E-2,1.3491057173107971E-2,284.6329943404553,177.89562146278456,333.55429024272104,667.10858048544208,null,-442.08,0.14481761704263363,1.810220213032877E-2,212.12888754381942,132.58055471488714,248.58854009041337,497.17708018082675,null,-431.71,0.59380743385258938,3.7112964615786455E-2,103.46788621587532,64.667428884922074,121.25142915922889,242.50285831845778]
[440,null,-454.82,7.9165971705435823E-2,1.3194328617576162E-2,291.03413377810955,181.89633361131845,341.05562552122211,682.11125104244422,null,-452.08,0.1416122235486057,1.7701527943576996E-2,216.93042613269691,135.58151633293556,254.21534312425422,508.43068624850844,null,-441.71,0.58032822632557668,3.6270514145348501E-2,105.87112122568186,66.169450766051156,124.06772018634594,248.13544037269187]
[450,null,-464.82,7.7462244308094341E-2,1.291037405135077E-2,297.43522416364328,185.89701510227707,348.55690331676948,697.11380663353896,null,-462.08,0.13854569535513406,1.7318211919392049E-2,221.73189806622958,138.58243629139349,259.84206804636278,519.68413609272557,null,-451.71,0.56744813572143471,3.5465508482590273E-2,108.27421244742689,67.671382779641803,126.88384271182839,253.76768542365679]
[460,null,-474.82,7.5830315144031601E-2,1.2638385857340598E-2,303.83626859830838,189.89766787394274,356.05812726364263,712.11625452728526,null,-472.08,0.13560919728519139,1.6951149660647671E-2,226.53330758530279,141.58331724081424,265.46871982652669,530.93743965305339,null,-461.71,0.55512803954925971,3.4695502471829405E-2,110.67716927050823,69.173230794067649,129.69980773887684,259.39961547775368]
[470,null,-484.82,7.4265738624518463E-2,1.2377623104084511E-2,310.23726992727967,193.89829370454981,363.5593006960309,727.11860139206181,null,-482.08,0.13279462830507782,1.6599328538133392E-2,231.33465857841327,144.58416161150828,271.09530302157805,542.19060604315609,null,-471.71,0.54333215286584391,3.3958259554114037E-2,113.08000028331206,70.675000177070032,132.51562533200632,265.03125066401265]
[480,null,-494.82,7.2764428806635806E-2,1.2127404801105976E-2,316.63823076556378,197.89889422847733,371.060426678395,742.12085335679001,null,-492.08,0.13009454680357635,1.6261818350448088E-2,236.13595461753454,147.58497163595908,276.72182181742329,553.44364363484658,null,-481.71,0.5320276794163874,3.3251729963523866E-2,115.48271335694001,72.176695848087505,135.33130471516407,270.66260943032813]
[490,null,-504.82,7.1322623740456947E-2,1.1887103956742742E-2,323.03915352080605,201.8994709505038,378.56150803219464,757.12301606438928,null,-502.08,0.12750210481740964,1.5937763102178128E-2,240.93719898968808,150.58574936855504,282.34828006604073,564.69656013208146,null,-491.71,0.52118450568212893,3.2574031605133495E-2,117.88531571863632,73.6783223241477,138.14685435777693,276.29370871555386]
[500,null,-514.82000000000005,6.9936853975264057E-2,1.16561423292102E-2,329.44004041345568,205.90002525840981,386.06254735951842,772.12509471903684,null,-512.08000000000004,0.12501098997736904,1.5626373747172087E-2,245.73839472481109,153.58649670300693,287.97468131813804,575.94936263627608,null,-501.71,0.51077493179516864,3.1923433237197589E-2,120.28781401636911,75.179883760230695,140.96228205043258,281.92456410086515]
[510,null,-524.82000000000005,6.8603914670006816E-2,1.1433985778332921E-2,335.84089349461067,209.90055843413168,393.56354706399691,787.12709412799381,null,-522.08000000000004,0.1226153741380358,1.5326921767251945E-2,250.53954462041312,156.58721538775822,293.60102885204662,587.20205770409325,null,-511.71,0.50077343423507159,3.1298339639692814E-2,122.6902143757837,76.681383984864809,143.77759497162151,287.55518994324302]
[520,null,-534.82000000000005,6.7320840835463969E-2,1.1220140139240281E-2,342.24171466186408,213.90107166366505,401.06450936937193,802.12901873874387,null,-532.08000000000004,0.12030986780990816,1.5038733476237708E-2,255.34065126345109,159.58790703965693,299.22732569935675,598.45465139871351,null,-521.71,0.491156456008639,3.0697278500541322E-2,125.09252245055811,78.18282653159882,146.59279974674777,293.18559949349554]
[530,null,-544.82000000000005,6.6084885305372154E-2,1.1014147550893231E-2,348.64250567340383,217.90156604587739,408.56543633602013,817.13087267204025,null,-542.08000000000004,0.1180894796435723,1.4761184955449905E-2,260.14171704977196,162.58857315610749,304.85357466770154,609.70714933540307,null,-531.71,0.48190222066591559,3.0118888791620724E-2,127.49474346704031,79.684214666900189,149.40790250043787,298.81580500087574]
[540,null,-554.82000000000005,6.4893499092022466E-2,1.0815583182000326E-2,355.04326816057988,221.90204260036242,416.06632987567957,832.13265975135914,null,-552.08000000000004,0.11594958032384284,1.449369754047815E-2,264.94274420144393,165.58921512590248,310.47977836106713,620.95955672213427,null,-541.71,0.47299056704974873,2.956191044060914E-2,129.89688226390805,81.185551414942537,152.22290890301727,304.44581780603454]
[550,null,-564.82000000000005,6.374431383017054E-2,1.0624052305025139E-2,361.44400363914752,225.9025022744672,423.56719176462599,847.13438352925198,null,-562.08000000000004,0.1138858703235428,1.4235733790443378E-2,269.74373478224487,168.58983423890305,316.1059391979432,632.2118783958864,null,-551.71,0.46440280212902962,2.9025175133066374E-2,132.2989433274893,82.686839579680807,155.03782421190152,310.07564842380305]
[560,null,-574.82000000000005,6.2635126055113233E-2,1.0439187675856726E-2,367.84471351932638,229.90294594957899,431.06802365546065,862.1360473109213,null,-572.08000000000004,0.1118943510449526,1.3986793880618921E-2,274.54469071149839,171.59043169468649,321.73205942753719,643.46411885507439,null,-561.71,0.45612156964682526,2.8507598102924289E-2,134.70093082328447,84.188081764552791,157.85265330853647,315.70530661707295]
[570,null,-584.82000000000005,6.1563883095175242E-2,1.026064718252395E-2,374.24539911481713,233.90337444676072,438.56882708767637,877.13765417535274,null,-582.08000000000004,0.10997129893928559,1.3746412367413037E-2,279.34561377650977,174.59100861031862,327.35814114434743,654.71628228869486,null,-571.71,0.44813073263287606,2.8008170789553529E-2,137.10284862416793,85.689280390104969,160.6674007314468,321.33480146289361]
[580,null,-594.82000000000005,6.0528670387554939E-2,1.0088111731262887E-2,380.64606165095347,237.90378853184592,446.06960349721112,892.13920699442224,null,-592.08000000000004,0.10811324225301178,1.3514155281623814E-2,284.14650564371777,177.59156602732361,332.98418630123183,665.96837260246366,null,-581.71,0.44041526810332243,2.7525954256457111E-2,139.50470033565512,87.190437709784447,163.48207070584584,326.96414141169168]
[590,null,-604.82000000000005,5.9527700054673005E-2,9.9212833424472662E-3,387.04670227196573,241.90418891997857,453.57035422495983,907.14070844991966,null,-602.08000000000004,0.10631694009390458,1.3289617511740709E-2,288.94736786875563,180.59210491797228,338.61019672119807,677.22039344239613,null,-591.71,0.43296117249479948,2.7060073280923962E-2,141.90648931860113,88.6915558241257,166.29666717023571,332.59333434047142]
[600,null,-614.82000000000005,5.8559300594765773E-2,9.7598834324642524E-3,393.44732204762062,245.90457627976289,461.07108052455544,922.14216104911088,null,-612.08000000000004,0.10457936355260244,1.3072420444076143E-2,293.74820190549502,183.5926261909344,344.23617410800199,688.47234821600398,null,-601.71,0.42575537657791074,2.6609711036118439E-2,144.30821870962117,90.192636693513236,169.1111938003373,338.22238760067461]
[610,null,-624.82000000000005,5.7621907564112007E-2,9.6036512606913742E-3,399.84792197916141,249.90495123697588,468.5717835693298,937.14356713865959,null,-622.08000000000004,0.10289767864628629,1.2862209830783606E-2,298.54900911424915,186.59313069640572,349.86212005576073,699.72424011152145,null,-611.71,0.41878566875868728,2.6174104297416068E-2,146.70989143949762,91.693682149686026,171.92565403066129,343.85130806132258]
[620,null,-634.82000000000005,5.6714055140105302E-2,9.4523425233531688E-3,406.24850300471127,253.90531437794453,476.07246445864604,952.14492891729208,null,-632.08000000000004,0.10126923088392914,1.2658653860493075E-2,303.34979076917625,189.59361923073519,355.48803605762845,710.9760721152569,null,-621.71,0.41204062581800827,2.5752539113626554E-2,149.11151024980381,93.194693906127398,174.74005107398887,349.48010214797773]
[630,null,-644.82000000000005,5.5834368469788842E-2,9.3057280783015155E-3,412.64906600418072,257.90566625261295,483.5731242236493,967.1462484472986,null,-642.08000000000004,9.9691531275539091E-2,1.2461441409444295E-2,308.1505480649883,192.59409254061771,361.11392351365822,722.22784702731644,null,-631.71,0.40550955026094471,2.5344346891310147E-2,151.51307770793755,94.695673567460972,177.55438793898932,355.10877587797864]
[640,null,-654.82000000000005,5.4981556720292701E-2,9.1635927867147731E-3,419.04961180369878,261.90600737731171,491.07376383245952,982.14752766491904,null,-652.08000000000004,9.8162243629701607E-2,1.2270280453716221E-2,312.95128212305889,195.59455132691181,366.73978373795961,733.47956747591923,null,-641.71,0.3991824135501929,2.4948900846886436E-2,153.91459622074785,96.196622637967408,180.36866744618891,360.73733489237782]
[650,null,{"$f":"C$14-$A89-C$19","v":-664.82},{"$f":"IF(C89^2/4-C$14^2 >=0,-C89/2-SQRT(C89^2/4-C$14^2),\"\")","v":5.4154406756367734E-2},{"$f":"IF(AND(ISNUMBER(D89),D89<C$20),(C$14+D89)/($A89+C$19-D89),\"\")","v":9.0257344593953018E-3},{"$f":"IF(ISNUMBER(E89),$C$5/E89,\"\")","v":425.45014117967622},{"$f":"IF(ISNUMBER(E89),$C$6/E89,\"\")","v":265.90633823729763},498.57438419493309,997.14876838986618,null,{"$f":"K$14-$A89-K$19","v":-662.08},{"$f":"IF(K89^2/4-K$14^2 >=0,-K89/2-SQRT(K89^2/4-K$14^2),\"\")","v":9.6679173004019958E-2},{"$f":"IF(AND(ISNUMBER(L89),L89<K$20),(K$14+L89)/($A89+K$19-L89),\"\")","v":1.2084896625500852E-2},{"$f":"IF(ISNUMBER(M89),$C$5/M89,\"\")","v":317.75199399695759},{"$f":"IF(ISNUMBER(M89),$C$6/M89,\"\")","v":198.59499624809851},372.3656179651847,744.73123593036939,null,{"$f":"S$14-$A89-S$19","v":-651.71},{"$f":"IF(S89^2/4-S$14^2 >=0,-S89/2-SQRT(S89^2/4-S$14^2),\"\")","v":0.39304980458928185},{"$f":"IF(AND(ISNUMBER(T89),T89<S$20),(S$14+T89)/($A89+S$19-T89),\"\")","v":2.456561278683075E-2},{"$f":"IF(ISNUMBER(U89),$C$5/U89,\"\")","v":156.31606804689866},{"$f":"IF(ISNUMBER(U89),$C$6/U89,\"\")","v":97.697542529311676},183.18289224245939,366.36578448491878]
[{"$f":"A89+10","v":660},null,-674.82,5.3351777380839849E-2,8.8919628968094182E-3,431.85065486247754,269.90665928904843,506.07498616696586,1012.1499723339317,null,-672.08,9.5240255187206913E-2,1.1905031898399043E-2,322.5526846775096,201.59542792344351,377.9914273564566,755.98285471291319,null,-661.71,0.38710288289723849,2.4193930181078849E-2,158.7174953081049,99.19843456756557,185.99706481418545,371.9941296283709]
[670,null,-684.82,5.2572594079663304E-2,8.7620990132804104E-3,438.25115353979049,273.90697096236903,513.57557055444204,1027.1511411088841,null,-682.08,9.3843547107837821E-2,1.1730443388483308E-2,327.3533550973894,204.59584693586837,383.61721300475318,767.23442600950636,null,-671.71,0.38133333598301533,2.3833333498936706E-2,161.11887999936377,100.69929999960236,188.81118749925443,377.62237499850886]
[680,null,-694.82,5.1815844221096086E-2,8.6359740368518109E-3,444.65163785969963,277.90727366231226,521.07613811683552,1042.152276233671,null,-692.08,9.2487218075234523E-2,1.1560902259404133E-2,332.15400613532387,207.5962538345774,389.24297593983266,778.48595187966532,null,-681.71,0.37573334048664719,2.348333378041554E-2,163.5202239982832,102.200139998927,191.62526249798813,383.25052499597626]
[690,null,-704.82,5.1080572663806834E-2,8.5134287773009822E-3,451.05210843349505,281.90756777093441,528.57668957050203,1057.1533791410041,null,-702.08,9.1169541769204443E-2,1.1396192721154667E-2,336.95463861995216,210.59664913747011,394.86871713275644,789.73743426551289,null,-691.71,0.37029552670497878,2.3143470419060893E-2,165.92152907359076,103.70095567099423,194.43929188311418,388.87858376622836]
[700,null,-714.82,5.0365877733781872E-2,8.3943129556252084E-3,457.45256583824812,285.90785364890507,{"$f":"IF(ISNUMBER(E94),$C$7*$C$3/E94,\"\")","v":536.07722559169702},{"$f":"IF(ISNUMBER(E94),$C$8*$C$3/E94,\"\")","v":1072.154451183394},null,-712.08,8.988888890621638E-2,1.1236111113278824E-2,341.75525333332564,213.59703333332851,{"$f":"IF(ISNUMBER(M94),$C$7*$C$3/M94,\"\")","v":400.49443749999097},{"$f":"IF(ISNUMBER(M94),$C$8*$C$3/M94,\"\")","v":800.98887499998193},null,-701.71,0.36501294616130053,2.2813309135082952E-2,168.32279689292156,105.20174805807598,{"$f":"IF(ISNUMBER(U94),$C$7*$C$3/U94,\"\")","v":197.25327760889246},{"$f":"IF(ISNUMBER(U94),$C$8*$C$3/U94,\"\")","v":394.50655521778492}]
[710,null,-724.82,4.9670907534391517E-2,8.2784845890601505E-3,463.85301061917562,289.90813163698476,543.57774681934643,1087.1554936386929,null,-722.08,8.864372051459668E-2,1.1080465064325732E-2,346.5558510141534,216.59740688384588,406.12013790721102,812.24027581442203,null,-711.71,0.35987904191989628,2.249244011999384E-2,170.72402902993932,106.70251814371207,200.06722151946013,400.13444303892027]
[720,null,-734.82,4.8994856558010724E-2,8.1658094263377529E-3,470.2534432918041,293.90840205737754,551.07825385758292,1102.1565077151658,null,-732.08,8.7432581762016071E-2,1.0929072720254856E-2,351.35643236075521,219.597770225472,411.74581917275998,823.49163834551996,null,-721.71,0.35488762137674712,2.2180476336046209E-2,173.12522697086951,108.20326685679343,202.8811253564877,405.7622507129754]
[730,null,-744.82,4.8336962570772357E-2,8.0561604284593719E-3,476.6538643439535,297.90866521497094,558.57874727807052,1117.157494556141,null,-742.08,8.625409628223224E-2,1.0781762035280123E-2,356.15699803378493,222.59812377111558,417.37148207084175,834.7429641416835,null,-731.71,0.35003283128969542,2.1877051955605766E-2,175.52639212049044,109.70399507530652,205.69499076619974,411.38998153239947]
[740,null,-754.82,4.7696503744532492E-2,7.9494172907601107E-3,483.0542742376058,301.90892139850365,566.07922762219437,1132.1584552443887,null,-752.08,8.5106960954703936E-2,1.0638370119336217E-2,360.95754865874108,225.59846791171319,422.99712733446222,845.99425466892444,null,-741.71,0.34530913483513359,2.1581820927198625E-2,177.92752580764008,111.20470362977504,208.50881930582821,417.01763861165642]
[750,null,-764.82,4.7072796014901996E-2,7.8454660024852487E-3,489.45467341055115,305.90917088159449,573.57969540298973,1147.1593908059795,null,-762.08,8.3989941095694576E-2,1.0498742636961551E-2,365.75808482827398,228.59880301767123,428.6227556581336,857.2455113162672,null,-751.71,0.34071129050227,2.1294455656393041E-2,180.32862929027968,112.7053933064248,211.32261244954651,422.64522489909302]
[760,null,-774.82,4.6465190642948073E-2,7.7441984404854666E-3,495.85506227798561,309.909413923741,581.08015110701433,1162.1603022140287,null,-772.08,8.2901866023462389E-2,1.0362733252932049E-2,370.55860710430846,231.5991294401928,434.24836770036154,868.49673540072308,null,-761.71,0.33623433265478297,2.1014645790922413E-2,182.72970376016258,114.20606485010161,214.13637159394054,428.27274318788108]
[770,null,-784.82,4.5873071963967504E-2,7.6455119939883515E-3,502.25544123394002,313.90965077121251,588.58059519602341,1177.1611903920468,null,-782.08,8.1841624963658433E-2,1.0230203120457099E-2,375.35911602001732,234.59944751251084,439.87396408595782,879.74792817191565,null,-771.71,0.33187355360894344,2.074209710056113E-2,185.13075034713427,115.70671896695892,216.95009806304796,433.90019612609592]
[780,null,-794.82,4.5295855306221711E-2,7.5493092177071107E-3,508.65581065260579,317.90988165787866,596.08102810852245,1192.1620562170449,null,-792.08,8.0808163265373878E-2,1.0101020408173763E-2,380.15961208163338,237.59975755102087,445.49954540816418,890.99909081632836,null,-781.71,0.327624487091839,2.0476530443238425E-2,187.53177012309769,117.20735632693605,219.76379311300511,439.52758622601021]
[790,null,-804.82,4.473298506491119E-2,7.4554975108207912E-3,515.05617088955967,321.91010680597475,603.58145026120269,1207.1629005224054,null,-802.08,7.9800478900438065E-2,9.9750598625500311E-3,384.96009577012597,240.60005985632876,451.12511223061642,902.25022446123285,null,-791.71,0.3234828929557807,2.0217680809737369E-2,189.93276410569081,118.70797756605675,222.57745793635644,445.15491587271288]
[800,null,-814.82,4.4183932917576385E-2,7.3639888196018457E-3,521.45652228293579,325.91032642683484,611.08186205031541,1222.1637241006308,null,-812.08,7.8817619221126733E-2,9.8522024026419224E-3,389.76056754277425,243.6003547142339,456.7506650891886,913.5013301783772,null,-801.71,0.31944474304157211,1.9965296440098111E-2,192.33373326167001,120.20858328854375,225.39109366601954,450.78218733203909]
[810,null,-824.82,4.364819617012472E-2,7.2746993616847715E-3,527.85686515444968,329.91054072153105,618.58226385287082,1237.1645277057416,null,-822.08,7.7858677955589428E-2,9.7323347444489838E-3,394.56102783458147,246.60064239661341,462.37620449365016,924.75240898730033,null,-811.71,0.31550620808832264,1.9719138005517889E-2,194.73467851005839,121.70917406878648,228.20470137897468,456.40940275794935]
[820,null,-834.82,4.3125296220978271E-2,7.187549370158499E-3,534.25719981041618,333.91074988151007,626.08265602783138,1252.1653120556628,null,-832.08,7.6922792418997687E-2,9.6153490523738089E-3,399.3614770596385,249.60092316227409,468.00173092926389,936.00346185852777,null,-821.71,0.31166364560243665,1.9478977850153185E-2,197.13560072505558,123.20975045315974,231.01828209967451,462.03656419934902]
[830,null,-844.82,4.2614777135042914E-2,7.1024628558411353E-3,540.65752654263383,337.91095408914617,633.58303891714911,1267.1660778342982,null,-842.08,7.6009140924270469E-2,9.5011426155329794E-3,404.16191561235604,252.60119725772253,473.62724485822974,947.25448971645949,null,-831.71,0.30791358860426499,1.9244599287766114E-2,199.53650073873487,124.71031296170929,233.83183680320494,467.66367360640987]
[840,null,-854.82,4.2116204317494521E-2,7.0193673862462688E-3,547.0578456292352,341.91115351827204,641.0834128467601,1282.1668256935202,null,-852.08,7.5116940375039576E-2,9.3896175468752355E-3,408.96234386861806,255.60146491788629,479.25274672103677,958.50549344207354,null,-841.71,0.30425273517823825,1.9015795948639055E-2,201.93737934355704,126.21086208972315,236.64536641823091,473.29073283646181]
[850,null,-864.82,4.1629163279310433E-2,6.9381938798892991E-3,553.45815733550364,345.91134833468976,648.58377812754327,1297.1675562550865,null,-862.08,7.4245444026018959E-2,9.2806805032535477E-3,413.76276218686797,258.60172636679249,484.87823693773595,969.7564738754719,null,-851.71,0.30067793876185078,1.8792371172615827E-2,204.33823729469719,127.71139830918575,239.45887182972328,478.91774365944656]
[860,null,-874.82,4.1153258488236588E-2,6.8588764147070559E-3,559.85846191456812,349.91153869660508,656.08413505613453,1312.1682701122691,null,-872.08,7.3393939398158636E-2,9.1742424247690055E-3,418.56317090908851,261.60198181818032,490.5037159090881,981.0074318181762,null,-861.71,0.29718619911216138,1.8574137444510239E-2,206.73907531221312,129.2119220701332,242.27235388149975,484.54470776299951]
[870,null,-884.82,4.0688112296834333E-2,6.7813520494718884E-3,566.25875960812971,353.91172475508108,663.58448391577701,1327.168967831554,null,-882.08,7.2561746334827149E-2,9.0702182918543529E-3,423.36357036175968,264.6022314760998,496.12918401768712,992.25836803537425,null,-871.71,0.29377465389552526,1.8360915868470547E-2,209.13989408306512,130.71243380191569,245.08581337859195,490.1716267571839]
[880,null,-894.82,4.0233363943116274E-2,6.7055606571850973E-3,572.6590506470759,357.91190665442241,671.08482497704199,1342.169649954084,null,-892.08,7.1748215189643361E-2,8.9685268987062319E-3,428.16396085670931,267.60247553544332,501.75464162895628,1003.5092832579126,null,-881.71,0.29044057085121722,1.815253567819896E-2,211.54069426299529,132.21293391437206,247.8992510894476,495.79850217889521]
[890,null,-904.82,3.9788668617120493E-2,6.6314447695214286E-3,579.05933525208582,361.91208453255365,678.58515849853814,1357.1703169970763,null,-902.08,7.0952725134361572E-2,8.8690906417950733E-3,432.96434269193543,270.60271418245964,507.38008909211186,1014.7601781842237,null,-891.71,0.28718134048324373,1.7948833780203316E-2,213.94147647828416,133.71342279892761,250.71266774798926,501.42533549597852]
[900,null,-914.82,3.9353696588875664E-2,6.5589494314792721E-3,585.45961363418314,365.91225852136449,686.08548472755842,1372.1709694551168,null,-912.08,7.0174682578340253E-2,8.7718353222955743E-3,437.76471615236369,273.60294759522731,513.0055267410512,1026.0110534821024,null,-901.71,0.28399446924015592,1.774965432751097E-2,216.34224132738265,135.21390082961415,253.52606405552655,507.05212811105309]
[910,null,-924.82,3.8928132392754833E-2,6.4880220654634467E-3,591.85988599527127,369.91242874704454,693.58580390070847,1387.1716078014169,null,-922.08,6.9413519691011061E-2,8.6766899613802007E-3,442.56508151055004,276.60317594409378,518.63095489517582,1037.2619097903516,null,-911.71,0.28087757314398232,1.7554848321498565E-2,218.74298938244539,136.71436836402836,256.33944068255317,512.67888136510635]
[920,null,-934.82,3.8511674064579893E-2,6.4186123440946432E-3,598.26015252859747,373.91259533037345,701.08611624445018,1402.1722324889004,null,-932.08,6.8668693019276361E-2,8.5835866274087281E-3,447.36543902735042,279.60339939209399,524.25637386017627,1048.5127477203525,null,-921.71,0.27782837183514175,1.736427323969823E-2,221.14372119075998,138.21482574422498,259.15279827042184,518.30559654084368]
[930,null,-944.82,3.8104032426588219E-2,6.3506720710977006E-3,604.66041341924677,377.91275838702927,708.58642197567985,1417.1728439513597,null,-942.08,6.7939682193070894E-2,8.4924602741296863E-3,452.16578895254543,282.60361809534089,529.88178392876421,1059.7635678575284,null,-931.71,0.2748446830020157,1.7177792687623768E-2,223.54443727607901,139.71527329754937,261.9661374329051,523.9322748658102]
[940,null,-954.82,3.7704930418044569E-2,6.284155069677653E-3,611.06066884453469,381.91291802783417,716.08672130218906,1432.1734426043781,null,-952.08,6.7225988712664275E-2,8.4032485890836849E-3,456.96613152541818,285.60383220338633,535.50718538134947,1071.0143707626989,null,-941.71,0.27192441716522353,1.6995276072825687E-2,225.94513813988016,141.21571133742509,264.7794587576721,529.55891751534421]
[950,null,-964.82,3.7314102467007615E-2,6.2190170778388312E-3,617.46091897442375,385.91307435901484,723.58701442315282,1447.1740288463056,null,-962.08,6.6527134811735777E-2,8.3158918514658776E-3,461.7664669752898,288.60404185955616,541.13257848666774,1082.2651569733355,null,-951.71,0.26906557279261278,1.6816598299538604E-2,228.34582426252982,142.71614016408114,267.59276280765215,535.1855256153043]
[960,null,-974.82,3.6931293900863693E-2,6.1552156501489185E-3,623.86116397190654,389.91322748244158,731.08730152957799,1462.174603059156,null,-972.08,6.5842662390139139E-2,8.2303327987653715E-3,466.56679552205185,291.60424720128242,546.75796350240455,1093.5159270048091,null,-961.71,0.26626623171870278,1.6641639482416367E-2,230.74649610438692,144.21656006524182,270.40605012232845,540.8121002446569]
[970,null,-984.82,3.6556260392956119E-2,6.0927100654898057E-3,630.26140399334668,393.91337749584164,738.58758280470306,1477.1751656094061,null,-982.08,6.5172132012435213E-2,8.1465165015567591E-3,471.36711737663512,294.60444836039693,552.38334067574431,1104.7666813514886,null,-971.71,0.26352455484766324,1.6470284677977991E-2,233.14715410683633,145.71697131677271,273.21932121894883,546.43864243789767]
[980,null,-994.82,3.6188767442240533E-2,6.0314612403732986E-3,636.66163918883694,397.91352449302309,746.0878584244183,1492.1757168488366,null,-992.08,6.4515121966962852E-2,8.0643902458675948E-3,476.16743274145455,297.6046454634091,558.0087102438921,1116.0174204877842,null,-981.71,0.26083877811998946,1.6302423632499105E-2,235.54779869325117,147.21737418328198,276.03257659365374,552.06515318730749]
[990,null,-1004.82,3.5828589884602025E-2,5.9714316474348758E-3,643.06186970247472,401.9136685640467,753.58812855758754,1507.1762571151751,null,-1002.08,6.3871227380730033E-2,7.9839034225918926E-3,480.9677418108576,300.60483863178604,563.63407243459881,1127.2681448691976,null,-991.71,0.25820720872292213,1.6137950545184333E-2,237.94843026990688,148.7177689186918,278.84581672254711,557.69163344509423]
[1000,null,-1014.82,3.5475511432480289E-2,5.9125852387470002E-3,649.4620956726834,405.91380979542714,761.08839336642586,1522.1767867328517,null,-1012.08,6.3240059387680958E-2,7.9050074234634539E-3,485.76804477149557,303.60502798218471,569.25942746659643,1138.5188549331929,null,-1001.71,0.25562822152880926,1.5976763845551713E-2,240.34904922683333,150.21815576677085,281.65904206269533,563.31808412539067]
[]
[]
[]
[null,null,"pos ",null,null,null,null,null,null,null,"pos ",null,null,null,null,null,null,null,"pos "]
[{"$f":"A29","v":50},null,{"$f":"(D$29-D29)/0.5*92.5","v":0},null,null,null,null,null,null,null,{"$f":"(L$29-L29)/0.5*92.5","v":0}]
[{"$f":"A30","v":60},null,14.0482738804692,null,null,null,null,null,null,null,27.661832512906219]
[70,null,24.72572218432477,null,null,null,null,null,null,null,48.352134951910855]
[80,null,33.119959967565279,null,null,null,null,null,null,null,64.429265149806042]
[90,null,39.894770307316008,null,null,null,null,null,null,null,77.289905417608068]
[100,null,45.478729471637408,null,null,null,null,null,null,null,87.816041440102467,null,null,null,null,null,null,null,{"$f":"(T$34-T34)/0.5*92.5","v":0}]
[110,null,50.161125314111658,null,null,null,null,null,null,null,96.592947340321103,null,null,null,null,null,null,null,44.740437147785492]
[120,null,54.144393368438116,null,null,null,null,null,null,null,104.02468690597635,null,null,null,null,null,null,null,81.679326212173393]
[130,null,57.574486924815659,null,null,null,null,null,null,null,110.3994082553094,null,null,null,null,null,null,null,112.72184642698375]
[140,null,60.559319028855455,null,null,null,null,null,null,null,115.92823390169967,null,null,null,null,null,null,null,139.1924258664385]
[150,null,63.180412815452542,null,null,null,null,null,null,null,120.76944365580636,null,null,null,null,null,null,null,162.04245528936443]
[160,null,65.500512613250436,null,null,null,null,null,null,null,125.04406693411374,null,null,null,null,null,null,null,181.97410320799452]
[170,null,67.568701979300968,null,null,null,null,null,null,null,128.84625194073172,null,null,null,null,null,null,null,199.51753264991905]
[180,null,69.423932908497278,null,null,null,null,null,null,null,132.2503482608669,null,null,null,null,null,null,null,215.08089612891266]
[190,null,71.097513804732827,null,null,null,null,null,null,null,135.31585895868636,null,null,null,null,null,null,null,228.98374631712738]
[200,null,72.614898079639104,null,null,null,null,null,null,null,138.09097514661465,null,null,null,null,null,null,null,241.4799776390102]
[210,null,73.996992628341673,null,null,null,null,null,null,null,140.61514543253571,null,null,null,null,null,null,null,252.77395437296437]
[220,null,75.261130198192689,null,null,null,null,null,null,null,142.9209746534988,null,null,null,null,null,null,null,263.03208523534568]
[230,null,76.421802297437637,null,null,null,null,null,null,null,145.03564784804203,null,null,null,null,null,null,null,272.39128311978408]
[240,null,77.491218766559541,null,null,null,null,null,null,null,146.98201255258516,null,null,null,null,null,null,null,280.96524971420007]
[250,null,78.479740049821473,null,null,null,null,null,null,null,148.77941147569933,null,null,null,null,null,null,null,288.84921298567116]
[260,null,79.396214734855008,null,null,null,null,null,null,null,150.44433028748819,null,null,null,null,null,null,null,296.12354585302921]
[270,null,80.248245737681984,null,null,null,null,null,null,null,151.99090674491691,null,null,null,null,null,null,null,302.85656359434154]
[280,null,81.042402139255628,null,null,null,null,null,null,null,153.43133461393995,null,null,null,null,null,null,null,309.10671015310368]
[290,null,81.784389198381277,null,null,null,null,null,null,null,154.77618692289104,null,null,null,null,null,null,null,314.92428404590692]
[300,null,82.479185871108868,null,null,null,null,null,null,null,156.03467674920486,null,null,null,null,null,null,null,320.35281343932519]
[310,null,83.131156860647039,null,null,null,null,null,null,null,157.21486919154137,null,null,null,null,null,null,null,325.43016107221428]
[320,null,83.744144537997855,null,null,null,null,null,null,null,158.32385487085608,null,null,null,null,null,null,null,330.18941912406387]
[330,null,84.321544830726495,null,null,null,null,null,null,null,159.36789287132262,null,null,null,null,null,null,null,334.65963928788193]
[340,null,84.866370250775688,null,null,null,null,null,null,null,160.35252922519112,null,null,null,null,null,null,null,338.86643247190744]
[350,null,85.381302534953377,null,null,null,null,null,null,null,161.28269568997075,null,null,null,null,null,null,null,342.83246455866487]
[360,null,85.868736842387094,null,null,null,null,null,null,null,162.16279254100107,null,null,null,null,null,null,null,346.57786868840003]
[370,null,{"$f":"(D$29-D61)/0.5*92.5","v":86.330819048108353},null,null,null,null,null,null,null,{"$f":"(L$29-L61)/0.5*92.5","v":162.99675831914263},null,null,null,null,null,null,null,350.12059004602361]
[380,null,86.769477359199371,null,null,null,null,null,null,null,163.78812887114853,null,null,null,null,null,null,null,353.47667572239641]
[390,null,87.186449237219094,null,null,null,null,null,null,null,164.54008755330867,null,null,null,null,null,null,null,356.66051961021645]
[400,null,87.583304420358971,null,null,null,null,null,null,null,165.25550810442033,null,null,null,null,null,null,null,359.68507027958617]
[410,null,87.961464689119978,null,null,null,null,null,null,null,165.93699140769252,null,null,null,null,null,null,null,362.56200821120666]
[420,null,88.322220900681558,null,null,null,null,null,null,null,166.5868971345393,null,null,null,null,null,null,null,{"$f":"(T$34-T66)/0.5*92.5","v":365.30189753771577}]
[430,null,88.666747722373159,null,null,null,null,null,null,null,167.20737108302535,null,null,null,null,null,null,null,367.91431647643134]
[440,null,88.99611641901727,null,null,null,null,null,null,null,167.80036887942052,null,null,null,null,null,null,null,370.40796986892866]
[450,null,89.311305987525444,null,null,null,null,null,null,null,168.36767659521277,null,null,null,null,null,null,null,372.79078663069492]
[460,null,89.61321288287705,null,null,null,null,null,null,null,168.91092873815217,null,null,null,null,null,null,null,375.0700044225473]
[470,null,89.902659538986981,null,null,null,null,null,null,null,169.43162399947317,null,null,null,null,null,null,null,377.25224345897925]
[480,null,90.180401855295273,null,null,null,null,null,null,null,169.93113907725095,null,null,null,null,null,null,null,379.34357104712871]
[490,null,90.447135792538361,null,null,null,null,null,null,null,170.41074084469179,null,null,null,null,null,null,null,381.34955818796652]
[500,null,90.703503199099046,null,null,null,null,null,null,null,170.8715970900993,null,null,null,null,null,null,null,383.27532935705415]
[510,null,90.950096970571636,null,null,null,null,null,null,null,171.31478602037595,null,null,null,null,null,null,null,385.1256064056721]
[520,null,91.187465629962063,null,null,null,null,null,null,null,171.74130469107956,null,null,null,null,null,null,null,386.90474737756216]
[530,null,91.416117403029048,null,null,null,null,null,null,null,172.1520765018517,null,null,null,null,null,null,null,388.61678091596599]
[540,null,91.63652385249874,null,null,null,null,null,null,null,172.54795787600165,null,null,null,null,null,null,null,390.26543683495686]
[550,null,91.849123125941347,null,null,null,null,null,null,null,172.92974422605715,null,null,null,null,null,null,null,391.85417334528989]
[560,null,92.054322864326949,null,null,null,null,null,null,null,173.29817529259634,null,null,null,null,null,null,null,393.3862013544977]
[570,null,92.252502811915477,null,null,null,null,null,null,null,173.65393993214474,null,null,null,null,null,null,null,394.8645062020783]
[580,null,92.444017162825233,null,null,null,null,null,null,null,173.99768041910539,null,null,null,null,null,null,null,396.29186714004572]
[590,null,92.629196674408391,null,null,null,null,null,null,null,174.32999631854022,null,null,null,null,null,null,null,397.67087482762247]
[600,null,92.808350574491229,null,null,null,null,null,null,null,174.65144797868112,null,null,null,null,null,null,null,399.00394707224689]
[610,null,92.981768285162175,null,null,null,null,null,null,null,174.96255968634961,null,null,null,null,null,null,null,400.29334301880323]
[620,null,93.149720983603416,null,null,null,null,null,null,null,175.26382252238568,null,null,null,null,null,null,null,401.54117596282885]
[630,null,93.312463017611961,null,null,null,null,null,null,null,175.55569694993784,null,null,null,null,null,null,null,402.7494249408856]
[640,null,93.470233191268747,null,null,null,null,null,null,null,175.83861516441777,null,null,null,null,null,null,null,403.91994523237469]
[650,null,93.623255934594866,null,null,null,null,null,null,null,176.11298323016888,null,null,null,null,null,null,null,405.05447789014323]
[660,null,93.771742369067525,null,null,null,null,null,null,null,176.37918302627929,null,null,null,null,null,null,null,406.15465840317125]
[670,null,93.915891279785185,null,null,null,null,null,null,null,176.63757402096257,null,null,null,null,null,null,null,407.22202458230254]
[680,null,94.055890003620121,null,null,null,null,null,null,null,176.88849489199418,null,null,null,null,null,null,null,408.25802374913064]
[690,null,{"$f":"(D$29-D93)/0.5*92.5","v":94.191915241718633},null,null,null,null,null,null,null,{"$f":"(L$29-L93)/0.5*92.5","v":177.13226500860975},null,null,null,null,null,null,null,409.2640192987393]
[700,null,94.32413380377325,null,null,null,null,null,null,null,177.36918578826254,null,null,null,null,null,null,null,410.24129669931978]
[{"$f":"A95","v":710},null,94.452703290660466,null,null,null,null,null,null,null,177.59954194071219,null,null,null,null,null,null,null,411.19106898397956]
[720,null,94.577772721290913,null,null,null,null,null,null,null,177.8236026099396,null,null,null,null,null,null,null,412.11448178446216]
[730,null,94.699483108930011,null,null,null,null,null,null,null,178.04162242369961,null,null,null,null,null,null,null,413.01261795056672]
[740,null,94.817967991784386,null,null,null,null,null,null,null,178.25384245929234,null,null,null,null,null,null,null,{"$f":"(T$34-T98)/0.5*92.5","v":413.88650179466066}]
[750,null,94.933353921766027,null,null,null,null,null,null,null,178.46049113320908,null,null,null,null,null,null,null,414.73710299624042]
[760,null,95.045760915577503,null,null,null,null,null,null,null,178.66178502157203,null,null,null,null,null,null,null,415.56534019802552]
[770,null,95.155302871188908,null,null,null,null,null,null,null,178.85792961763576,null,null,null,null,null,null,null,416.37208432150584]
[780,null,95.26208795287188,null,null,null,null,null,null,null,179.0491200318184,null,null,null,null,null,null,null,417.15816162717016]
[790,null,95.366218947514326,null,null,null,null,null,null,null,179.23554163933153,null,null,null,null,null,null,null,417.92435654234094]
[800,null,95.467793594771265,null,null,null,null,null,null,null,179.41737068000413,null,null,null,null,null,null,null,418.67141427646953]
[810,null,95.566904893049823,null,null,null,null,null,null,null,179.59477481412853,null,null,null,null,null,null,null,419.40004324282069]
[820,null,95.663641383641917,null,null,null,null,null,null,null,179.767913638398,null,null,null,null,null,null,null,420.11091730270959]
[830,null,95.758087414539958,null,null,null,null,null,null,null,179.93693916492253,null,null,null,null,null,null,null,420.80467784737135]
[840,null,95.85032338578641,null,null,null,null,null,null,null,180.10199626653025,null,null,null,null,null,null,null,421.4819357311863]
[850,null,95.940425977850467,null,null,null,null,null,null,null,180.26322309109906,null,null,null,null,null,null,null,422.14327306821798]
[860,null,96.028468364199128,null,null,null,null,null,null,null,180.42075144725322,null,null,null,null,null,null,null,422.78924490341052]
[870,null,96.114520409608545,null,null,null,null,null,null,null,180.57470716396955,null,null,null,null,null,null,null,423.4203807684882]
[880,null,96.198648855046386,null,null,null,null,null,null,null,180.72521042582855,null,null,null,null,null,null,null,424.03718613168519]
[890,null,96.280917490355606,null,null,null,null,null,null,null,180.87237608605568,null,null,null,null,null,null,null,424.64014374976028]
[900,null,96.361387315580899,null,null,null,null,null,null,null,181.01631395891962,null,null,null,null,null,null,null,425.22971492973153]
[910,null,96.440116691863253,null,null,null,null,null,null,null,181.15712909307553,null,null,null,null,null,null,null,425.80634070752365]
[920,null,96.517161482575617,null,null,null,null,null,null,null,181.29492202734644,null,null,null,null,null,null,null,426.37044294965915]
[930,null,96.592575185604076,null,null,null,null,null,null,null,181.42978903019446,null,null,null,null,null,null,null,426.92242538378747]
[940,null,96.666409057184651,null,null,null,null,null,null,null,181.56182232406968,null,null,null,null,null,null,null,427.46267456359402]
[950,null,96.738712228126488,null,null,null,null,null,null,null,181.69111029574145,null,null,null,null,null,null,null,427.99156077252701]
[960,null,96.809531812863113,null,null,null,null,null,null,null,181.81773769373683,null,null,null,null,null,null,null,428.50943887120036]
[970,null,96.878913011826015,null,null,null,null,null,null,null,181.94178581361206,null,null,null,null,null,null,null,429.01664909234267]
[980,null,96.946899207708398,null,null,null,null,null,null,null,182.06333267202444,null,null,null,null,null,null,null,429.51351778696232]
[990,null,97.013532055871522,null,null,null,null,null,null,null,182.18245317047752,null,null,null,null,null,null,null,430.00035812541978]
[1000,null,97.078851569514043,null,null,null,null,null,null,null,182.29921924919159,null,null,null,null,null,null,null,430.47747075633066]
[]
[]
["Empfindlichkeit Stepper <-> Dist <-> Schärfentiefe (LBE)",null,null,null,null,"Schärfentiefe",null,null,null,null,null,null,null,"Schärfentiefe",null,null,null,null,null,null,null,"Schärfentiefe"]
["Dist",null,"p","x","pos","nah","fern",null,null,null,"p","x","pos","nah","fern",null,null,null,"p","x","pos","nah","fern"]
[49,null,{"$f":"C$14-$A229-C$19","v":-63.82},{"$f":"IF(C229^2/4-C$14^2 >=0,-C229/2-SQRT(C229^2/4-C$14^2),\"\")","v":0.56916242344502876},{"$f":"(D$230-D229)/0.5*92.5","v":-1.6532271528074283},null,null,null,null,null,{"$f":"K$14-$A229-K$19","v":-61.08},{"$f":"IF(K229^2/4-K$14^2 >=0,-K229/2-SQRT(K229^2/4-K$14^2),\"\")","v":1.0664253949406408},{"$f":"(L$230-L229)/0.5*92.5","v":-3.2900678281059825}]
[50,null,{"$f":"C$14-$A230-C$19","v":-64.819999999999993},{"$f":"IF(C230^2/4-C$14^2 >=0,-C230/2-SQRT(C230^2/4-C$14^2),\"\")","v":0.5602260604568805},{"$f":"(D$230-D230)/0.5*92.5","v":0},{"$f":"$A230*(1+Schärfentiefe!G28)","v":45.930783120994889},{"$f":"$A230*(1+Schärfentiefe!H28)","v":54.602319544208136},null,null,null,{"$f":"K$14-$A230-K$19","v":-62.08},{"$f":"IF(K230^2/4-K$14^2 >=0,-K230/2-SQRT(K230^2/4-K$14^2),\"\")","v":1.0486412445184463},{"$f":"(L$230-L230)/0.5*92.5","v":0},{"$f":"$A230*(1+Schärfentiefe!P28)","v":47.731635672978001},{"$f":"$A230*(1+Schärfentiefe!Q28)","v":52.427927277054067}]
[51,null,-65.819999999999993,{"$f":"IF(C231^2/4-C$14^2 >=0,-C231/2-SQRT(C231^2/4-C$14^2),\"\")","v":0.55156833219508883},1.6016797284314599,null,null,null,null,null,-63.08,{"$f":"IF(K231^2/4-K$14^2 >=0,-K231/2-SQRT(K231^2/4-K$14^2),\"\")","v":1.0314503786233722},3.1803101905887132]
[null,null,null,{"$f":"IF(C232^2/4-C$14^2 >=0,-C232/2-SQRT(C232^2/4-C$14^2),\"\")","v":""},null,null,null,null,null,null,null,{"$f":"IF(K232^2/4-K$14^2 >=0,-K232/2-SQRT(K232^2/4-K$14^2),\"\")","v":""}]
[69,null,-83.82,0.43171531994120471,{"$f":"(D$234-D233)/0.5*92.5","v":-0.95123518892474834},null,null,null,null,null,-81.08,0.79718178085504832,{"$f":"(L$234-L233)/0.5*92.5","v":-1.8321341741822295}]
[70,null,-84.82,0.42657350810917904,{"$f":"(D$234-D234)/0.5*92.5","v":0},{"$f":"$A234*(1+Schärfentiefe!G30)","v":63.374443315880328},{"$f":"$A234*(1+Schärfentiefe!H30)","v":77.763661042077331},null,null,null,-82.08,0.78727835288649572,{"$f":"(L$234-L234)/0.5*92.5","v":0},{"$f":"$A234*(1+Schärfentiefe!P30)","v":66.240903129943405},{"$f":"$A234*(1+Schärfentiefe!Q30)","v":74.104701048769527}]
[71,null,-85.82,0.42155333505353809,0.9287320152935763,null,null,null,null,null,-83.08,0.7776202853660692,1.7867424912789076]
[null,null,null,"",null,null,null,null,null,null,null,"",null,null,null,null,null,null,null,{"$f":"IF(S236^2/4-S$14^2 >=0,-S236/2-SQRT(S236^2/4-S$14^2),\"\")","v":""}]
[99,null,-113.82,0.31717271597044316,{"$f":"(D$238-D237)/0.5*92.5","v":-0.51386074164650353},null,null,null,null,null,-111.08,0.5791812288062772,{"$f":"(L$238-L237)/0.5*92.5","v":-0.96593853335118496},null,null,null,null,null,{"$f":"S$14-$A237-S$19","v":-100.71000000000001},2.6095706375992478,{"$f":"(T$238-T237)/0.5*92.5","v":-5.0018762167004738}]
[100,null,-114.82,0.31439509033992152,{"$f":"(D$238-D238)/0.5*92.5","v":0},{"$f":"$A238*(1+Schärfentiefe!G33)","v":88.505596796872183},{"$f":"$A238*(1+Schärfentiefe!H33)","v":114.2041169555017},null,null,null,-112.08,0.57395993943681134,{"$f":"(L$238-L238)/0.5*92.5","v":0},{"$f":"$A238*(1+Schärfentiefe!P33)","v":93.361217963191393},{"$f":"$A238*(1+Schärfentiefe!Q33)","v":107.46856758202658},null,null,null,-101.71000000000001,2.5825334688603263,{"$f":"(T$238-T238)/0.5*92.5","v":0},{"$f":"$A238*(1+Schärfentiefe!Z33)","v":99.16731565191597},{"$f":"$A238*(1+Schärfentiefe!AA33)","v":100.84490628363385}]
[101,null,-115.82,0.31166582269935361,0.50491451350506367,null,null,null,null,null,-113.08,0.56883242239804588,0.94859065217161032,null,null,null,null,null,-102.71000000000001,2.5560653292512967,4.8966058276704771]
[null,null,null,"",null,null,null,null,null,null,null,"",null,null,null,null,null,null,null,""]
[149,null,-163.82,0.22004896561634268,{"$f":"(D$242-D241)/0.5*92.5","v":-0.2476502699530414},null,null,null,null,null,-161.07999999999998,0.3983029877704638,{"$f":"(L$242-L241)/0.5*92.5","v":-0.45686615742958736},null,null,null,null,null,-150.71,1.7182155441317519,{"$f":"(T$242-T241)/0.5*92.5","v":-2.1436392145781724}]
[150,null,-164.82,0.21871031550848841,{"$f":"(D$242-D242)/0.5*92.5","v":0},{"$f":"$A242*(1+Schärfentiefe!G38)","v":127.84109544624727},{"$f":"$A242*(1+Schärfentiefe!H38)","v":179.93533023950172},null,null,null,-162.07999999999998,0.39583344097354711,{"$f":"(L$242-L242)/0.5*92.5","v":0},{"$f":"$A242*(1+Schärfentiefe!P38)","v":136.92090423625524},{"$f":"$A242*(1+Schärfentiefe!Q38)","v":165.46281405528907},null,null,null,-151.71,1.7066283051340321,{"$f":"(T$242-T242)/0.5*92.5","v":0},{"$f":"$A242*(1+Schärfentiefe!Z38)","v":148.27427955922988},{"$f":"$A242*(1+Schärfentiefe!AA38)","v":151.76236240527697}]
[151,null,-165.82,0.21738787533676884,0.24465143176811921,null,null,null,null,null,-163.07999999999998,0.39339440247670154,0.4512221219164303,null,null,null,null,null,-152.71,1.6951980648220513,2.1145944577164499]
[null,null,null,"",null,null,null,null,null,null,null,"",null,null,null,null,null,null,null,""]
[249,null,-263.82,0.13652732814543356,{"$f":"(D$246-D245)/0.5*92.5","v":-9.5474572203784192E-2},null,null,null,null,null,-261.08,0.24536618877965566,{"$f":"(L$246-L245)/0.5*92.5","v":-0.17352616402305898},null,null,null,null,null,-250.71,1.0252930712052262,{"$f":"(T$246-T245)/0.5*92.5","v":-0.75973941947765411}]
[250,null,-264.82,0.13601124937676445,{"$f":"(D$246-D246)/0.5*92.5","v":0},{"$f":"$A246*(1+Schärfentiefe!G48)","v":198.16576601304118},{"$f":"$A246*(1+Schärfentiefe!H48)","v":334.00834332146729},null,null,null,-262.08,0.24442820951466615,{"$f":"(L$246-L246)/0.5*92.5","v":0},{"$f":"$A246*(1+Schärfentiefe!P48)","v":218.36469508983765},{"$f":"$A246*(1+Schärfentiefe!Q48)","v":291.32516234981387},null,null,null,-251.71,1.0211863716404821,{"$f":"(T$246-T246)/0.5*92.5","v":0},{"$f":"$A246*(1+Schärfentiefe!Z48)","v":245.57394833392493},{"$f":"$A246*(1+Schärfentiefe!AA48)","v":254.5780077884462}]
[251,null,-265.82,0.1354990594956007,9.4755128015293622E-2,null,null,null,null,null,-263.08,0.24349738092791995,0.17220328854804734,null,null,null,null,null,-252.71,1.0171125716569378,0.75365299695569377]
[null,null,null,"",null,null,null,null,null,null,null,"",null,null,null,null,null,null,null,""]
[499,null,-513.82000000000005,7.0073002657920824E-2,{"$f":"(D$250-D249)/0.5*92.5","v":-2.5187506291501904E-2},null,null,null,null,null,-511.08,0.12525571142137437,{"$f":"(L$250-L249)/0.5*92.5","v":-4.5273467140987123E-2},null,null,null,null,null,-500.71,0.511797120674089,{"$f":"(T$250-T249)/0.5*92.5","v":-0.18910494260026667}]
[500,null,-514.82000000000005,6.9936853975264057E-2,{"$f":"(D$250-D250)/0.5*92.5","v":0},{"$f":"$A250*(1+Schärfentiefe!G73)","v":336.99239382468005},{"$f":"$A250*(1+Schärfentiefe!H73)","v":935.90667444664723},null,null,null,-512.08000000000004,0.12501098997736904,{"$f":"(L$250-L250)/0.5*92.5","v":0},{"$f":"$A250*(1+Schärfentiefe!P73)","v":394.04981680953023},{"$f":"$A250*(1+Schärfentiefe!Q73)","v":678.829734370653},null,null,null,-501.71,0.51077493179516864,{"$f":"(T$250-T250)/0.5*92.5","v":0},{"$f":"$A250*(1+Schärfentiefe!Z73)","v":483.60903956525743},{"$f":"$A250*(1+Schärfentiefe!AA73)","v":517.50018416248588}]
[501,null,-515.82000000000005,6.9801233399573448E-2,2.5089806502762713E-2,null,null,null,null,null,-513.08000000000004,0.12476722316205269,4.5096860833524488E-2,null,null,null,null,null,-502.71,0.50975682205969974,0.18835030106174599]
[null,null,null,"",null,null,null,null,null,null,null,"",null,null,null,null,null,null,null,""]
[999,null,-1013.82,3.551050580580295E-2,{"$f":"(D$254-D253)/0.5*92.5","v":-6.4739590646922807E-3},null,null,null,null,null,-1011.08,6.3302614255007938E-2,{"$f":"(L$254-L253)/0.5*92.5","v":-1.1572650455491384E-2},null,null,null,null,null,-1000.71,0.25588379902131919,{"$f":"(T$254-T253)/0.5*92.5","v":-4.7281836114336784E-2}]
[1000,null,-1014.82,3.5475511432480289E-2,{"$f":"(D$254-D254)/0.5*92.5","v":0},{"$f":"$A254*(1+Schärfentiefe!G123)","v":518.40405869348695},{"$f":"$A254*(1+Schärfentiefe!H123)","v":9535.9113236125067},null,null,null,-1012.08,6.3240059387680958E-2,{"$f":"(L$254-L254)/0.5*92.5","v":0},{"$f":"$A254*(1+Schärfentiefe!P123)","v":659.07108069014794},{"$f":"$A254*(1+Schärfentiefe!Q123)","v":2028.3721342796593},null,null,null,-1001.71,0.25562822152880926,{"$f":"(T$254-T254)/0.5*92.5","v":0},{"$f":"$A254*(1+Schärfentiefe!Z123)","v":938.45314467782555},{"$f":"$A254*(1+Schärfentiefe!AA123)","v":1070.0177453437573}]
[1001,null,-1015.82,3.5440585965147875E-2,6.461211456496585E-3,null,null,null,null,null,-1013.08,6.3177628037976774E-2,1.1549799695274032E-2,null,null,null,null,null,-1002.71,0.25537315420001505,4.7187455826929181E-2]
[]
[]
[{"$f":"C$14-C258-C$19","v":49.391312749026461},null,{"$f":"-D258-C$14^2/D258","v":-64.211312749026462},{"$f":"D259-E258*0.5/92.5","v":0.56563146586228585},-1,null,null,null,{"$f":"K$14-K258-K$19","v":49.692421879923032},null,{"$f":"-L258-K$14^2/L258","v":-61.772421879923023},{"$f":"L259-M258*0.5/92.5","v":1.0540466499238517},-1]
[50,null,{"$f":"C$14-$A259-C$19","v":-64.819999999999993},{"$f":"IF(C259^2/4-C$14^2 >=0,-C259/2-SQRT(C259^2/4-C$14^2),\"\")","v":0.5602260604568805},{"$f":"(D$230-D259)/0.5*92.5","v":0},{"$f":"$A259*(1+Schärfentiefe!G28)","v":45.930783120994889},{"$f":"$A259*(1+Schärfentiefe!H28)","v":54.602319544208136},null,50,null,{"$f":"K$14-$A259-K$19","v":-62.08},{"$f":"IF(K259^2/4-K$14^2 >=0,-K259/2-SQRT(K259^2/4-K$14^2),\"\")","v":1.0486412445184463},{"$f":"(L$230-L259)/0.5*92.5","v":0},{"$f":"$A259*(1+Schärfentiefe!P28)","v":47.731635672978001},{"$f":"$A259*(1+Schärfentiefe!Q28)","v":52.427927277054067}]
[{"$f":"C$14-C260-C$19","v":50.620652990655479},null,{"$f":"-D260-C$14^2/D260","v":-65.440652990655479},{"$f":"D259-E260*0.5/92.5","v":0.55482065505147515},1,null,null,null,{"$f":"K$14-K260-K$19","v":50.310821495691712},null,{"$f":"-L260-K$14^2/L260","v":-62.390821495691704},{"$f":"L259-M260*0.5/92.5","v":1.043235839113041},1]
[null,null,null,{"$f":"IF(C261^2/4-C$14^2 >=0,-C261/2-SQRT(C261^2/4-C$14^2),\"\")","v":""},null,null,null,null,null,null,null,{"$f":"IF(K261^2/4-K$14^2 >=0,-K261/2-SQRT(K261^2/4-K$14^2),\"\")","v":""}]
[{"$f":"C$14-C262-C$19","v":68.9493800544723},null,{"$f":"-D262-C$14^2/D262","v":-83.769380054472293},{"$f":"D263-E262*0.5/92.5","v":0.43197891351458445},-1,null,null,null,{"$f":"K$14-K262-K$19","v":69.451060608486401},null,{"$f":"-L262-K$14^2/L262","v":-81.531060608486399},{"$f":"L263-M262*0.5/92.5","v":0.79268375829190107},-1]
[70,null,-84.82,0.42657350810917904,{"$f":"(D$234-D263)/0.5*92.5","v":0},{"$f":"$A263*(1+Schärfentiefe!G30)","v":63.374443315880328},{"$f":"$A263*(1+Schärfentiefe!H30)","v":77.763661042077331},null,70,null,-82.08,0.78727835288649572,{"$f":"(L$234-L263)/0.5*92.5","v":0},{"$f":"$A263*(1+Schärfentiefe!P30)","v":66.240903129943405},{"$f":"$A263*(1+Schärfentiefe!Q30)","v":74.104701048769527}]
[{"$f":"C$14-C264-C$19","v":71.077726676087508},null,{"$f":"-D264-C$14^2/D264","v":-85.897726676087501},{"$f":"D263-E264*0.5/92.5","v":0.42116810270377364},1,null,null,null,{"$f":"K$14-K264-K$19","v":70.556604213199734},null,{"$f":"-L264-K$14^2/L264","v":-82.636604213199732},{"$f":"L263-M264*0.5/92.5","v":0.78187294748109037},1]
[null,null,null,"",null,null,null,null,null,null,null,"",null,null,null,null,null,null,null,{"$f":"IF(S265^2/4-S$14^2 >=0,-S265/2-SQRT(S265^2/4-S$14^2),\"\")","v":""}]
[{"$f":"C$14-C266-C$19","v":98.069982465283601},null,{"$f":"-D266-C$14^2/D266","v":-112.88998246528359},{"$f":"D267-E266*0.5/92.5","v":0.31980049574532693},-1,null,null,null,{"$f":"K$14-K266-K$19","v":98.965068151815672},null,{"$f":"-L266-K$14^2/L266","v":-111.04506815181567},{"$f":"L267-M266*0.5/92.5","v":0.57936534484221669},-1,null,null,null,{"$f":"S$14-S266-S$19","v":99.79835872870845},null,{"$f":"-T266-S$14^2/T266","v":-101.50835872870844},{"$f":"T267-U266*0.5/92.5","v":2.5879388742657317},-1]
[100,null,-114.82,0.31439509033992152,{"$f":"(D$238-D267)/0.5*92.5","v":0},{"$f":"$A267*(1+Schärfentiefe!G33)","v":88.505596796872183},{"$f":"$A267*(1+Schärfentiefe!H33)","v":114.2041169555017},null,100,null,-112.08,0.57395993943681134,{"$f":"(L$238-L267)/0.5*92.5","v":0},{"$f":"$A267*(1+Schärfentiefe!P33)","v":93.361217963191393},{"$f":"$A267*(1+Schärfentiefe!Q33)","v":107.46856758202658},null,100,null,{"$f":"S$14-$A267-S$19","v":-101.71000000000001},2.5825334688603263,{"$f":"(T$238-T267)/0.5*92.5","v":0},{"$f":"$A267*(1+Schärfentiefe!Z33)","v":99.16731565191597},{"$f":"$A267*(1+Schärfentiefe!AA33)","v":100.84490628363385}]
[{"$f":"C$14-C268-C$19","v":101.9977333591107},null,{"$f":"-D268-C$14^2/D268","v":-116.8177333591107},{"$f":"D267-E268*0.5/92.5","v":0.30898968493451612},1,null,null,null,{"$f":"K$14-K268-K$19","v":101.05471339692907},null,{"$f":"-L268-K$14^2/L268","v":-113.13471339692907},{"$f":"L267-M268*0.5/92.5","v":0.56855453403140599},1,null,null,null,{"$f":"S$14-S268-S$19","v":100.20250981270493},null,{"$f":"-T268-S$14^2/T268","v":-101.91250981270494},{"$f":"T267-U268*0.5/92.5","v":2.577128063454921},1]
[null,null,null,"",null,null,null,null,null,null,null,"",null,null,null,null,null,null,null,""]
[{"$f":"C$14-C270-C$19","v":146.03541750197613},null,{"$f":"-D270-C$14^2/D270","v":-160.85541750197612},{"$f":"D271-E270*0.5/92.5","v":0.22411572091389381},-1,null,null,null,{"$f":"K$14-K270-K$19","v":147.82723029655574},null,{"$f":"-L270-K$14^2/L270","v":-159.90723029655575},{"$f":"L271-M270*0.5/92.5","v":0.40123884637895252},-1,null,null,null,{"$f":"S$14-S270-S$19","v":149.53179963982012},null,{"$f":"-T270-S$14^2/T270","v":-151.24179963982013},{"$f":"T271-U270*0.5/92.5","v":1.7120337105394374},-1]
[150,null,-164.82,0.21871031550848841,{"$f":"(D$242-D271)/0.5*92.5","v":0},{"$f":"$A271*(1+Schärfentiefe!G38)","v":127.84109544624727},{"$f":"$A271*(1+Schärfentiefe!H38)","v":179.93533023950172},null,150,null,-162.07999999999998,0.39583344097354711,{"$f":"(L$242-L271)/0.5*92.5","v":0},{"$f":"$A271*(1+Schärfentiefe!P38)","v":136.92090423625524},{"$f":"$A271*(1+Schärfentiefe!Q38)","v":165.46281405528907},null,150,null,-151.71,1.7066283051340321,{"$f":"(T$242-T271)/0.5*92.5","v":0},{"$f":"$A271*(1+Schärfentiefe!Z38)","v":148.27427955922988},{"$f":"$A271*(1+Schärfentiefe!AA38)","v":151.76236240527697}]
[{"$f":"C$14-C272-C$19","v":154.16579112527003},null,{"$f":"-D272-C$14^2/D272","v":-168.98579112527003},{"$f":"D271-E272*0.5/92.5","v":0.213304910103083},1,null,null,null,{"$f":"K$14-K272-K$19","v":152.23308258282344},null,{"$f":"-L272-K$14^2/L272","v":-164.31308258282343},{"$f":"L271-M272*0.5/92.5","v":0.39042803556814171},1,null,null,null,{"$f":"S$14-S272-S$19","v":150.4712099965613},null,{"$f":"-T272-S$14^2/T272","v":-152.18120999656131},{"$f":"T271-U272*0.5/92.5","v":1.7012228997286267},1]
[null,null,null,"",null,null,null,null,null,null,null,"",null,null,null,null,null,null,null,""]
[{"$f":"C$14-C274-C$19","v":239.88832078253392},null,{"$f":"-D274-C$14^2/D274","v":-254.70832078253392},{"$f":"D275-E274*0.5/92.5","v":0.14141665478216986},-1,null,null,null,{"$f":"K$14-K274-K$19","v":244.3403254059279},null,{"$f":"-L274-K$14^2/L274","v":-256.42032540592788},{"$f":"L275-M274*0.5/92.5","v":0.24983361492007156},-1,null,null,null,{"$f":"S$14-S274-S$19","v":248.68543119699879},null,{"$f":"-T274-S$14^2/T274","v":-250.3954311969988},{"$f":"T275-U274*0.5/92.5","v":1.0265917770458874},-1]
[250,null,-264.82,0.13601124937676445,{"$f":"(D$246-D275)/0.5*92.5","v":0},{"$f":"$A275*(1+Schärfentiefe!G48)","v":198.16576601304118},{"$f":"$A275*(1+Schärfentiefe!H48)","v":334.00834332146729},null,250,null,-262.08,0.24442820951466615,{"$f":"(L$246-L275)/0.5*92.5","v":0},{"$f":"$A275*(1+Schärfentiefe!P48)","v":218.36469508983765},{"$f":"$A275*(1+Schärfentiefe!Q48)","v":291.32516234981387},null,250,null,-251.71,1.0211863716404821,{"$f":"(T$246-T275)/0.5*92.5","v":0},{"$f":"$A275*(1+Schärfentiefe!Z48)","v":245.57394833392493},{"$f":"$A275*(1+Schärfentiefe!AA48)","v":254.5780077884462}]
[{"$f":"C$14-C276-C$19","v":260.9491140863326},null,{"$f":"-D276-C$14^2/D276","v":-275.76911408633259},{"$f":"D275-E276*0.5/92.5","v":0.13060584397135905},1,null,null,null,{"$f":"K$14-K276-K$19","v":255.91590164460973},null,{"$f":"-L276-K$14^2/L276","v":-267.99590164460972},{"$f":"L275-M276*0.5/92.5","v":0.23902280410926074},1,null,null,null,{"$f":"S$14-S276-S$19","v":251.32861709875945},null,{"$f":"-T276-S$14^2/T276","v":-253.03861709875943},{"$f":"T275-U276*0.5/92.5","v":1.0157809662350767},1]
[null,null,null,"",null,null,null,null,null,null,null,"",null,null,null,null,null,null,null,""]
[{"$f":"C$14-C278-C$19","v":463.07483288692754},null,{"$f":"-D278-C$14^2/D278","v":-477.89483288692753},{"$f":"D279-E278*0.5/92.5","v":7.5342259380669463E-2},-1,null,null,null,{"$f":"K$14-K278-K$19","v":478.78626147190755},null,{"$f":"-L278-K$14^2/L278","v":-490.86626147190753},{"$f":"L279-M278*0.5/92.5","v":0.13041639538277444},-1,null,null,null,{"$f":"S$14-S278-S$19","v":494.75688118794841},null,{"$f":"-T278-S$14^2/T278","v":-496.46688118794839},{"$f":"T279-U278*0.5/92.5","v":0.51618033720057399},-1]
[500,null,-514.82000000000005,6.9936853975264057E-2,{"$f":"(D$250-D279)/0.5*92.5","v":0},{"$f":"$A279*(1+Schärfentiefe!G73)","v":336.99239382468005},{"$f":"$A279*(1+Schärfentiefe!H73)","v":935.90667444664723},null,500,null,-512.08000000000004,0.12501098997736904,{"$f":"(L$250-L279)/0.5*92.5","v":0},{"$f":"$A279*(1+Schärfentiefe!P73)","v":394.04981680953023},{"$f":"$A279*(1+Schärfentiefe!Q73)","v":678.829734370653},null,500,null,-501.71,0.51077493179516864,{"$f":"(T$250-T279)/0.5*92.5","v":0},{"$f":"$A279*(1+Schärfentiefe!Z73)","v":483.60903956525743},{"$f":"$A279*(1+Schärfentiefe!AA73)","v":517.50018416248588}]
[{"$f":"C$14-C280-C$19","v":543.11206422258033},null,{"$f":"-D280-C$14^2/D280","v":-557.93206422258038},{"$f":"D279-E280*0.5/92.5","v":6.4531448569858652E-2},1,null,null,null,{"$f":"K$14-K280-K$19","v":523.13167698774987},null,{"$f":"-L280-K$14^2/L280","v":-535.21167698774991},{"$f":"L279-M280*0.5/92.5","v":0.11960558457196363},1,null,null,null,{"$f":"S$14-S280-S$19","v":505.35539468026406},null,{"$f":"-T280-S$14^2/T280","v":-507.06539468026398},{"$f":"T279-U280*0.5/92.5","v":0.50536952638976329},1]
[null,null,null,"",null,null,null,null,null,null,null,"",null,null,null,null,null,null,null,""]
[{"$f":"C$14-C282-C$19","v":865.82735417082347},null,{"$f":"-D282-C$14^2/D282","v":-880.64735417082352},{"$f":"D283-E282*0.5/92.5","v":4.0880916837885695E-2},-1,null,null,null,{"$f":"K$14-K282-K$19","v":920.31535041043094},null,{"$f":"-L282-K$14^2/L282","v":-932.39535041043098},{"$f":"L283-M282*0.5/92.5","v":6.8645464793086364E-2},-1,null,null,null,{"$f":"S$14-S282-S$19","v":979.2675911320589},null,{"$f":"-T282-S$14^2/T282","v":-980.97759113205893},{"$f":"T283-U282*0.5/92.5","v":0.26103362693421467},-1]
[1000,null,-1014.82,3.5475511432480289E-2,{"$f":"(D$254-D283)/0.5*92.5","v":0},{"$f":"$A283*(1+Schärfentiefe!G123)","v":518.40405869348695},{"$f":"$A283*(1+Schärfentiefe!H123)","v":9535.9113236125067},null,1000,null,-1012.08,6.3240059387680958E-2,{"$f":"(L$254-L283)/0.5*92.5","v":0},{"$f":"$A283*(1+Schärfentiefe!P123)","v":659.07108069014794},{"$f":"$A283*(1+Schärfentiefe!Q123)","v":2028.3721342796593},null,1000,null,-1001.71,0.25562822152880926,{"$f":"(T$254-T283)/0.5*92.5","v":0},{"$f":"$A283*(1+Schärfentiefe!Z123)","v":938.45314467782555},{"$f":"$A283*(1+Schärfentiefe!AA123)","v":1070.0177453437573}]
[{"$f":"C$14-C284-C$19","v":1182.4123668849572},null,{"$f":"-D284-C$14^2/D284","v":-1197.2323668849572},{"$f":"D283-E284*0.5/92.5","v":3.0070106027074883E-2},1,null,null,null,{"$f":"K$14-K284-K$19","v":1094.5808069759735},null,{"$f":"-L284-K$14^2/L284","v":-1106.6608069759734},{"$f":"L283-M284*0.5/92.5","v":5.7834653982275552E-2},1,null,null,null,{"$f":"S$14-S284-S$19","v":1021.6283806671922},null,{"$f":"-T284-S$14^2/T284","v":-1023.3383806671923},{"$f":"T283-U284*0.5/92.5","v":0.25022281612340386},1]

{"sheet":"Bewegung 1D","index":1,"n_rows":119,"n_cols":13,"rows_kept":119,"cut":false,"hidden":true,"merged":[]}
["Belichtungszeit [µs]",100,null,null,"Bewegung [Modul]","Kontrast"]
["Maximale Bewegung [Modul]",0.7,null,null,0,1]
[null,null,null,null,{"$f":"E2+0.1","v":0.1},0.99199999999999999]
[null,null,null,null,{"$f":"E3+0.1","v":0.2},0.97599999999999998]
[null,null,null,null,0.30000000000000004,0.95499999999999996]
[null,null,null,null,0.4,0.92700000000000005]
[null,null,null,null,0.5,0.89200000000000002]
[null,null,null,null,0.6,0.85099999999999998]
[null,null,null,null,0.7,0.80400000000000005]
[null,null,null,null,0.79999999999999993,0.75]
[null,null,null,null,0.89999999999999991,0.69]
[null,null,null,null,0.99999999999999989,0.623]
[]
[null,null,null,{"$f":"Sichtfeld!C10","v":"YTOT"},null,null,null,{"$f":"Sichtfeld!K10","v":"YTOT"},null,null,null,{"$f":"Sichtfeld!S10","v":"EVETAR"}]
[null,null,null,{"$f":"Sichtfeld!C11","v":"YT1028-2MP"},null,null,null,{"$f":"Sichtfeld!K11","v":"YT10051-2MP"},null,null,null,{"$f":"Sichtfeld!S11","v":"M13B1618IRM12R1"}]
[]
[null,null,null,{"$f":"Sichtfeld!H22","v":"Mindestbreite Modul [µm]"},null,null,null,{"$f":"Sichtfeld!P22","v":"Mindestbreite Modul [µm]"},null,null,null,{"$f":"Sichtfeld!X22","v":"Mindestbreite Modul [µm]"}]
[{"$f":"Sichtfeld!A23","v":"Nutzabstand g_a [mm]"},null,null,{"$f":"Sichtfeld!H23","v":"1D-Code"},"v_max [m/s]",null,null,{"$f":"Sichtfeld!P23","v":"1D-Code"},"v_max [m/s]",null,null,{"$f":"Sichtfeld!X23","v":"1D-Code"},"v_max [m/s]"]
[{"$f":"Sichtfeld!A24","v":0},null,null,{"$f":"Sichtfeld!H24","v":""},null,null,null,{"$f":"Sichtfeld!P24","v":""},null,null,null,{"$f":"Sichtfeld!X24","v":""}]
[{"$f":"Sichtfeld!A25","v":10},null,null,null,null,null,null,null,null,null,null,{"$f":"Sichtfeld!X25","v":""}]
[{"$f":"Sichtfeld!A26","v":20},null,null,null,null,null,null,null,null,null,null,{"$f":"Sichtfeld!X26","v":""}]
[{"$f":"Sichtfeld!A27","v":30},null,null,null,null,null,null,null,null,null,null,{"$f":"Sichtfeld!X27","v":""}]
[{"$f":"Sichtfeld!A28","v":40},null,null,null,null,null,null,null,null,null,null,{"$f":"Sichtfeld!X28","v":""}]
[{"$f":"Sichtfeld!A29","v":50},null,null,{"$f":"Sichtfeld!H29","v":48.194830454657335},{"$f":"D24*$B$2/$B$1","v":0.33736381318260128},null,null,{"$f":"Sichtfeld!P29","v":34.330139299958368},{"$f":"H24*$B$2/$B$1","v":0.24031097509970856},null,null,{"$f":"Sichtfeld!X29","v":""}]
[{"$f":"Sichtfeld!A30","v":60},null,null,{"$f":"Sichtfeld!H30","v":55.751782916334925},{"$f":"D25*$B$2/$B$1","v":0.39026248041434441},null,null,{"$f":"Sichtfeld!P30","v":40.039246223139507},{"$f":"H25*$B$2/$B$1","v":0.28027472356197652},null,null,{"$f":"Sichtfeld!X30","v":""}]
[{"$f":"Sichtfeld!A31","v":70},null,null,{"$f":"Sichtfeld!H31","v":63.295069868918105},0.44306548908242666,null,null,{"$f":"Sichtfeld!P31","v":45.727155926501347},0.32009009148550938,null,null,{"$f":"Sichtfeld!X31","v":""}]
[{"$f":"Sichtfeld!A32","v":80},null,null,{"$f":"Sichtfeld!H32","v":70.82910056263394},0.49580370393843759,null,null,{"$f":"Sichtfeld!P32","v":51.401039092643607},0.35980727364850523,null,null,{"$f":"Sichtfeld!X32","v":""}]
[{"$f":"Sichtfeld!A33","v":90},null,null,{"$f":"Sichtfeld!H33","v":78.356566009957305},0.54849596206970108,null,null,{"$f":"Sichtfeld!P33","v":57.065142390755149},0.39945599673528603,null,null,{"$f":"Sichtfeld!X33","v":""}]
[{"$f":"Sichtfeld!A34","v":100},null,null,{"$f":"Sichtfeld!H34","v":85.879203682245063},0.60115442577571543,null,null,{"$f":"Sichtfeld!P34","v":62.722147534066814},0.43905503273846769,null,null,{"$f":"Sichtfeld!X34","v":27.879599961883034},{"$f":"L29*$B$2/$B$1","v":0.19515719973318124}]
[{"$f":"Sichtfeld!A35","v":110},null,null,{"$f":"Sichtfeld!H35","v":93.398186368092951},0.65378730457665057,null,null,{"$f":"Sichtfeld!P35","v":68.373834072276907},0.47861683850593834,null,null,{"$f":"Sichtfeld!X35","v":30.760117518357703},0.21532082262850391]
[{"$f":"Sichtfeld!A36","v":120},null,null,{"$f":"Sichtfeld!H36","v":100.91433475209682},0.70640034326467771,null,null,{"$f":"Sichtfeld!P36","v":74.021430577713048},0.5181500140439913,null,null,{"$f":"Sichtfeld!X36","v":33.628774613219115},0.2354014222925338]
[{"$f":"Sichtfeld!A37","v":130},null,null,{"$f":"Sichtfeld!H37","v":108.42824053678495},0.75899768375749455,null,null,{"$f":"Sichtfeld!P37","v":79.665813176410325},0.55766069223487225,null,null,{"$f":"Sichtfeld!X37","v":36.488467633815958},0.25541927343671167]
[{"$f":"Sichtfeld!A38","v":140},null,null,{"$f":"Sichtfeld!H38","v":115.94034120747708},0.81158238845233954,null,null,{"$f":"Sichtfeld!P38","v":85.307623794929697},0.59715336656450779,null,null,{"$f":"Sichtfeld!X38","v":39.341210068774572},0.27538847048142201]
[{"$f":"Sichtfeld!A39","v":150},null,null,{"$f":"Sichtfeld!H39","v":123.45096726336872},0.86415677084358111,null,null,{"$f":"Sichtfeld!P39","v":90.947343689452396},0.63663140582616673,null,null,{"$f":"Sichtfeld!X39","v":42.188448289181061},0.2953191380242674]
[{"$f":"Sichtfeld!A40","v":160},null,null,{"$f":"Sichtfeld!H40","v":130.9603730733597},0.91672261151351786,null,null,{"$f":"Sichtfeld!P40","v":96.585340854825674},0.67609738598377978,null,null,{"$f":"Sichtfeld!X40","v":45.031249780949238},0.31521874846664466]
[{"$f":"Sichtfeld!A41","v":170},null,null,{"$f":"Sichtfeld!H41","v":138.46875762484373},0.96928130337390617,null,null,{"$f":"Sichtfeld!P41","v":102.22190155248089},0.71555331086736618,null,null,{"$f":"Sichtfeld!X41","v":47.870420535168378},0.33509294374617865]
[{"$f":"Sichtfeld!A42","v":180},null,null,{"$f":"Sichtfeld!H42","v":145.97627883131352},1.0218339518191946,null,null,{"$f":"Sichtfeld!P42","v":107.85725184534617},0.75500076291742313,null,null,{"$f":"Sichtfeld!X42","v":50.706581053970922},0.35494606737779644]
[{"$f":"Sichtfeld!A43","v":190},null,null,{"$f":"Sichtfeld!H43","v":153.48306361873071},1.0743814453311149,null,null,{"$f":"Sichtfeld!P43","v":113.49157265490018},0.79444100858430122,null,null,{"$f":"Sichtfeld!X43","v":53.540217143784041},0.37478152000648829]
[{"$f":"Sichtfeld!A44","v":200},null,null,{"$f":"Sichtfeld!H44","v":160.98921517660179},1.1269245062362123,null,null,{"$f":"Sichtfeld!P44","v":119.12501050817443},0.8338750735572209,null,null,{"$f":"Sichtfeld!X44","v":56.371714792753131},0.39460200354927188]
[{"$f":"Sichtfeld!A45","v":210},null,null,{"$f":"Sichtfeld!H45","v":168.49481826261007},1.1794637278382705,null,null,{"$f":"Sichtfeld!P45","v":124.75768535025993},0.87330379745181941,null,null,{"$f":"Sichtfeld!X45","v":59.201384689814887},0.41440969282870421]
[{"$f":"Sichtfeld!A46","v":220},null,null,{"$f":"Sichtfeld!H46","v":175.99994314465002},1.2319996020125501,null,null,{"$f":"Sichtfeld!P46","v":130.38969631748586},0.91272787422240098,null,null,{"$f":"Sichtfeld!X46","v":62.029479821193547},0.43420635874835484]
[{"$f":"Sichtfeld!A47","v":230},null,null,{"$f":"Sichtfeld!H47","v":183.50464857207945},1.2845325400045562,null,null,{"$f":"Sichtfeld!P47","v":136.02112606706393},0.95214788246944748,null,null,{"$f":"Sichtfeld!X47","v":64.856208331490819},0.45399345832043569]
[{"$f":"Sichtfeld!A48","v":240},null,null,{"$f":"Sichtfeld!H48","v":191.00898404425121},1.3370628883097584,null,null,{"$f":"Sichtfeld!P48","v":141.65204406785463},0.99156430847498245,null,null,{"$f":"Sichtfeld!X48","v":67.681743078002611},0.47377220154601823]
[{"$f":"Sichtfeld!A49","v":250},null,null,{"$f":"Sichtfeld!H49","v":198.5129915629677},1.3895909409407738,null,null,{"$f":"Sichtfeld!P49","v":147.28250913214819},1.0309775639250374,null,null,{"$f":"Sichtfeld!X49","v":70.506228832976092},0.49354360183083257]
[{"$f":"Sichtfeld!A50","v":260},null,null,{"$f":"Sichtfeld!H50","v":206.01670700087985},1.4421169490061589,null,null,{"$f":"Sichtfeld!P50","v":152.91257138529204},1.0703879996970442,null,null,{"$f":"Sichtfeld!X50","v":73.329787784970407},0.51330851449479287]
[{"$f":"Sichtfeld!A51","v":270},null,null,{"$f":"Sichtfeld!H51","v":213.52016118062048},1.4946411282643433,null,null,{"$f":"Sichtfeld!P51","v":158.54227381370976},1.1097959166959683,null,null,{"$f":"Sichtfeld!X51","v":76.152523791671641},0.53306766654170146]
[{"$f":"Sichtfeld!A52","v":280},null,null,{"$f":"Sichtfeld!H52","v":221.02338073359999},1.5471636651351997,null,null,{"$f":"Sichtfeld!P52","v":164.17165349304113},1.1492015744512878,null,null,{"$f":"Sichtfeld!X52","v":78.974525703669869},0.55282167992568909]
[{"$f":"Sichtfeld!A53","v":290},null,null,{"$f":"Sichtfeld!H53","v":228.52638878924583},1.5996847215247205,null,null,{"$f":"Sichtfeld!P53","v":169.80074257100748},1.1886051979970522,null,null,{"$f":"Sichtfeld!X53","v":81.795869988304233},0.57257108991812955]
[{"$f":"Sichtfeld!A54","v":300},null,null,{"$f":"Sichtfeld!H54","v":236.02920553251371},1.652204438727596,null,null,{"$f":"Sichtfeld!P54","v":175.42956906034439},1.2280069834224105,null,null,{"$f":"Sichtfeld!X54","v":84.616622820152244},0.59231635974106567]
[{"$f":"Sichtfeld!A55","v":310},null,null,{"$f":"Sichtfeld!H55","v":243.53184865814629},1.7047229406070239,null,null,{"$f":"Sichtfeld!P55","v":181.05815748331088},1.2674071023831761,null,null,{"$f":"Sichtfeld!X55","v":87.436841760810353},0.61205789232567243]
[{"$f":"Sichtfeld!A56","v":320},null,null,{"$f":"Sichtfeld!H56","v":251.03433374332442},1.7572403362032707,null,null,{"$f":"Sichtfeld!P56","v":186.68652939922819},1.3068057057945972,null,null,{"$f":"Sichtfeld!X56","v":90.256577119335205},0.63179603983534638]
[{"$f":"Sichtfeld!A57","v":330},null,null,{"$f":"Sichtfeld!H57","v":258.53667455532212},1.8097567218872548,null,null,{"$f":"Sichtfeld!P57","v":192.31470383909377},1.3462029268736564,null,null,{"$f":"Sichtfeld!X57","v":93.075873062151771},0.65153111143506237]
[{"$f":"Sichtfeld!A58","v":340},null,null,{"$f":"Sichtfeld!H58","v":266.0388833070254},1.8622721831491775,null,null,{"$f":"Sichtfeld!P58","v":197.94269766584594},1.3855988836609214,null,null,{"$f":"Sichtfeld!X58","v":95.894768524762696},0.67126337967333882]
[{"$f":"Sichtfeld!A59","v":350},null,null,{"$f":"Sichtfeld!H59","v":273.54097087034029},1.9147867960923819,null,null,{"$f":"Sichtfeld!P59","v":203.57052587469181},1.4249936811228425,null,null,{"$f":"Sichtfeld!X59","v":98.713297965435089},0.69099308575804552]
[{"$f":"Sichtfeld!A60","v":360},null,null,{"$f":"Sichtfeld!H60","v":281.04294695536959},1.9673006286875869,null,null,{"$f":"Sichtfeld!P60","v":209.19820184484661},1.464387412913926,null,null,{"$f":"Sichtfeld!X60","v":101.53149199198363},0.71072044394388545]
[{"$f":"Sichtfeld!A61","v":370},null,null,{"$f":"Sichtfeld!H61","v":288.54482026160912},2.0198137418312636,null,null,{"$f":"Sichtfeld!P61","v":214.82573755160408},1.5037801628612286,null,null,{"$f":"Sichtfeld!X61","v":104.34937788593949},0.7304456452015764]
[{"$f":"Sichtfeld!A62","v":380},null,null,{"$f":"Sichtfeld!H62","v":296.04659860611366},2.0723261902427956,null,null,{"$f":"Sichtfeld!P62","v":220.45314374585001},1.54317200622095,null,null,{"$f":"Sichtfeld!X62","v":107.16698004321779},0.7501688603025245]
[{"$f":"Sichtfeld!A63","v":390},null,null,{"$f":"Sichtfeld!H63","v":303.54828903264615},2.1248380232285227,null,null,{"$f":"Sichtfeld!P63","v":226.08043010670838},1.5825630107469584,null,null,{"$f":"Sichtfeld!X63","v":109.98432034642565},0.7698902424249795]
[{"$f":"Sichtfeld!A64","v":400},null,null,{"$f":"Sichtfeld!H64","v":311.04989790501094},2.1773492853350764,null,null,{"$f":"Sichtfeld!P64","v":231.70760537189744},1.6219532376032819,null,null,{"$f":"Sichtfeld!X64","v":112.80141848088903},0.78960992936622321]
[{"$f":"Sichtfeld!A65","v":410},null,null,{"$f":"Sichtfeld!H65","v":318.55143098718105},2.2298600169102674,null,null,{"$f":"Sichtfeld!P65","v":237.33467744950866},1.6613427421465605,null,null,{"$f":"Sichtfeld!X65","v":115.61829220409611},0.80932804542867276]
[{"$f":"Sichtfeld!A66","v":420},null,null,{"$f":"Sichtfeld!H66","v":326.05289351236343},2.2823702545865441,null,null,{"$f":"Sichtfeld!P66","v":242.96165351421874},1.7007315745995311,null,null,{"$f":"Sichtfeld!X66","v":118.43495757638297},0.8290447030346807]
[{"$f":"Sichtfeld!A67","v":430},null,null,{"$f":"Sichtfeld!H67","v":333.55429024272104},2.334880031699047,null,null,{"$f":"Sichtfeld!P67","v":248.58854009041337},1.7401197806328934,null,null,{"$f":"Sichtfeld!X67","v":121.25142915922889},0.84876000411460228]
[{"$f":"Sichtfeld!A68","v":440},null,null,{"$f":"Sichtfeld!H68","v":341.05562552122211},2.3873893786485549,null,null,{"$f":"Sichtfeld!P68","v":254.21534312425422},1.7795074018697796,null,null,{"$f":"Sichtfeld!X68","v":124.06772018634594},0.86847404130442163]
[{"$f":"Sichtfeld!A69","v":450},null,null,{"$f":"Sichtfeld!H69","v":348.55690331676948},2.4398983232173861,null,null,{"$f":"Sichtfeld!P69","v":259.84206804636278},1.8188944763245394,null,null,{"$f":"Sichtfeld!X69","v":126.88384271182839},0.88818689898279868]
[{"$f":"Sichtfeld!A70","v":460},null,null,{"$f":"Sichtfeld!H70","v":356.05812726364263},2.4924068908454982,null,null,{"$f":"Sichtfeld!P70","v":265.46871982652669},1.8582810387856867,null,null,{"$f":"Sichtfeld!X70","v":129.69980773887684},0.90789865417213789]
[{"$f":"Sichtfeld!A71","v":470},null,null,{"$f":"Sichtfeld!H71","v":363.5593006960309},2.5449151048722158,null,null,{"$f":"Sichtfeld!P71","v":271.09530302157805},1.8976671211510461,null,null,{"$f":"Sichtfeld!X71","v":132.51562533200632},0.92760937732404414]
[{"$f":"Sichtfeld!A72","v":480},null,null,{"$f":"Sichtfeld!H72","v":371.060426678395},2.5974229867487653,null,null,{"$f":"Sichtfeld!P72","v":276.72182181742329},1.937052752721963,null,null,{"$f":"Sichtfeld!X72","v":135.33130471516407},0.94731913300614834]
[{"$f":"Sichtfeld!A73","v":490},null,null,{"$f":"Sichtfeld!H73","v":378.56150803219464},2.6499305562253626,null,null,{"$f":"Sichtfeld!P73","v":282.34828006604073},1.9764379604622848,null,null,{"$f":"Sichtfeld!X73","v":138.14685435777693},0.9670279805044385]
[{"$f":"Sichtfeld!A74","v":500},null,null,{"$f":"Sichtfeld!H74","v":386.06254735951842},2.7024378315166286,null,null,{"$f":"Sichtfeld!P74","v":287.97468131813804},2.0158227692269661,null,null,{"$f":"Sichtfeld!X74","v":140.96228205043258},0.98673597435302796]
[{"$f":"Sichtfeld!A75","v":510},null,null,{"$f":"Sichtfeld!H75","v":393.56354706399691},2.7549448294479784,null,null,{"$f":"Sichtfeld!P75","v":293.60102885204662},2.0552072019643264,null,null,{"$f":"Sichtfeld!X75","v":143.77759497162151},1.0064431648013505]
[{"$f":"Sichtfeld!A76","v":520},null,null,{"$f":"Sichtfeld!H76","v":401.06450936937193},2.8074515655856032,null,null,{"$f":"Sichtfeld!P76","v":299.22732569935675},2.0945912798954973,null,null,{"$f":"Sichtfeld!X76","v":146.59279974674777},1.0261495982272344]
[{"$f":"Sichtfeld!A77","v":530},null,null,{"$f":"Sichtfeld!H77","v":408.56543633602013},2.8599580543521408,null,null,{"$f":"Sichtfeld!P77","v":304.85357466770154},2.1339750226739107,null,null,{"$f":"Sichtfeld!X77","v":149.40790250043787},1.0458553175030649]
[{"$f":"Sichtfeld!A78","v":540},null,null,{"$f":"Sichtfeld!H78","v":416.06632987567957},2.9124643091297564,null,null,{"$f":"Sichtfeld!P78","v":310.47977836106713},2.1733584485274697,null,null,{"$f":"Sichtfeld!X78","v":152.22290890301727},1.0655603623211207]
[{"$f":"Sichtfeld!A79","v":550},null,null,{"$f":"Sichtfeld!H79","v":423.56719176462599},2.9649703423523817,null,null,{"$f":"Sichtfeld!P79","v":316.1059391979432},2.212741574385602,null,null,{"$f":"Sichtfeld!X79","v":155.03782421190152},1.0852647694833106]
[{"$f":"Sichtfeld!A80","v":560},null,null,{"$f":"Sichtfeld!H80","v":431.06802365546065},3.0174761655882243,null,null,{"$f":"Sichtfeld!P80","v":321.73205942753719},2.25212441599276,null,null,{"$f":"Sichtfeld!X80","v":157.85265330853647},1.1049685731597554]
[{"$f":"Sichtfeld!A81","v":570},null,null,{"$f":"Sichtfeld!H81","v":438.56882708767637},3.0699817896137342,null,null,{"$f":"Sichtfeld!P81","v":327.35814114434743},2.2915069880104317,null,null,{"$f":"Sichtfeld!X81","v":160.6674007314468},1.1246718051201277]
[{"$f":"Sichtfeld!A82","v":580},null,null,{"$f":"Sichtfeld!H82","v":446.06960349721112},3.1224872244804778,null,null,{"$f":"Sichtfeld!P82","v":332.98418630123183},2.3308893041086227,null,null,{"$f":"Sichtfeld!X82","v":163.48207070584584},1.1443744949409207]
[{"$f":"Sichtfeld!A83","v":590},null,null,{"$f":"Sichtfeld!H83","v":453.57035422495983},3.1749924795747186,null,null,{"$f":"Sichtfeld!P83","v":338.61019672119807},2.3702713770483861,null,null,{"$f":"Sichtfeld!X83","v":166.29666717023571},1.1640766701916498]
[{"$f":"Sichtfeld!A84","v":600},null,null,{"$f":"Sichtfeld!H84","v":461.07108052455544},3.2274975636718879,null,null,{"$f":"Sichtfeld!P84","v":344.23617410800199},2.4096532187560138,null,null,{"$f":"Sichtfeld!X84","v":169.1111938003373},1.183778356602361]
[{"$f":"Sichtfeld!A85","v":610},null,null,{"$f":"Sichtfeld!H85","v":468.5717835693298},3.2800024849853084,null,null,{"$f":"Sichtfeld!P85","v":349.86212005576073},2.449034840390325,null,null,{"$f":"Sichtfeld!X85","v":171.92565403066129},1.203479578214629]
[{"$f":"Sichtfeld!A86","v":620},null,null,{"$f":"Sichtfeld!H86","v":476.07246445864604},3.3325072512105218,null,null,{"$f":"Sichtfeld!P86","v":355.48803605762845},2.488416252403399,null,null,{"$f":"Sichtfeld!X86","v":174.74005107398887},1.2231803575179219]
[{"$f":"Sichtfeld!A87","v":630},null,null,{"$f":"Sichtfeld!H87","v":483.5731242236493},3.3850118695655449,null,null,{"$f":"Sichtfeld!P87","v":361.11392351365822},2.5277974645956074,null,null,{"$f":"Sichtfeld!X87","v":177.55438793898932},1.2428807155729251]
[{"$f":"Sichtfeld!A88","v":640},null,null,{"$f":"Sichtfeld!H88","v":491.07376383245952},3.4375163468272167,null,null,{"$f":"Sichtfeld!P88","v":366.73978373795961},2.5671784861657172,null,null,{"$f":"Sichtfeld!X88","v":180.36866744618891},1.2625806721233221]
[{"$f":"Sichtfeld!A89","v":650},null,null,{"$f":"Sichtfeld!H89","v":498.57438419493309},3.4900206893645316,null,null,{"$f":"Sichtfeld!P89","v":372.3656179651847},2.6065593257562925,null,null,{"$f":"Sichtfeld!X89","v":183.18289224245939},1.2822802456972155]
[{"$f":"Sichtfeld!A90","v":660},null,null,{"$f":"Sichtfeld!H90","v":506.07498616696586},3.5425249031687609,null,null,{"$f":"Sichtfeld!P90","v":377.9914273564566},2.645939991495196,null,null,{"$f":"Sichtfeld!X90","v":185.99706481418545},1.3019794536992981]
[{"$f":"Sichtfeld!A91","v":670},null,null,{"$f":"Sichtfeld!H91","v":513.57557055444204},3.5950289938810944,null,null,{"$f":"Sichtfeld!P91","v":383.61721300475318},2.6853204910332722,null,null,{"$f":"Sichtfeld!X91","v":188.81118749925443},1.3216783124947811]
[{"$f":"Sichtfeld!A92","v":680},null,null,{"$f":"Sichtfeld!H92","v":521.07613811683552},3.6475329668178484,null,null,{"$f":"Sichtfeld!P92","v":389.24297593983266},2.7247008315788288,null,null,{"$f":"Sichtfeld!X92","v":191.62526249798813},1.3413768374859167]
[{"$f":"Sichtfeld!A93","v":690},null,null,{"$f":"Sichtfeld!H93","v":528.57668957050203},3.7000368269935136,null,null,{"$f":"Sichtfeld!P93","v":394.86871713275644},2.7640810199292951,null,null,{"$f":"Sichtfeld!X93","v":194.43929188311418},1.3610750431817991]
[{"$f":"Sichtfeld!A94","v":700},null,null,{"$f":"Sichtfeld!H94","v":536.07722559169702},{"$f":"D89*$B$2/$B$1","v":3.7525405791418791},null,null,{"$f":"Sichtfeld!P94","v":400.49443749999097},{"$f":"H89*$B$2/$B$1","v":2.8034610624999368},null,null,{"$f":"Sichtfeld!X94","v":197.25327760889246},{"$f":"L89*$B$2/$B$1","v":1.3807729432622471}]
[{"$f":"Sichtfeld!A95","v":710},null,null,{"$f":"Sichtfeld!H95","v":543.57774681934643},3.8050442277354248,null,null,{"$f":"Sichtfeld!P95","v":406.12013790721102},2.8428409653504771,null,null,{"$f":"Sichtfeld!X95","v":200.06722151946013},1.4004705506362207]
[{"$f":"Sichtfeld!A96","v":720},null,null,{"$f":"Sichtfeld!H96","v":551.07825385758292},3.8575477770030799,null,null,{"$f":"Sichtfeld!P96","v":411.74581917275998},2.8822207342093198,null,null,{"$f":"Sichtfeld!X96","v":202.8811253564877},1.4201678774954138]
[{"$f":"Sichtfeld!A97","v":730},null,null,{"$f":"Sichtfeld!H97","v":558.57874727807052},3.9100512309464932,null,null,{"$f":"Sichtfeld!P97","v":417.37148207084175},2.9216003744958918,null,null,{"$f":"Sichtfeld!X97","v":205.69499076619974},1.4398649353633979]
[{"$f":"Sichtfeld!A98","v":740},null,null,{"$f":"Sichtfeld!H98","v":566.07922762219437},3.9625545933553603,null,null,{"$f":"Sichtfeld!P98","v":422.99712733446222},2.9609798913412351,null,null,{"$f":"Sichtfeld!X98","v":208.50881930582821},1.4595617351407975]
[{"$f":"Sichtfeld!A99","v":750},null,null,{"$f":"Sichtfeld!H99","v":573.57969540298973},4.0150578678209277,null,null,{"$f":"Sichtfeld!P99","v":428.6227556581336},3.0003592896069353,null,null,{"$f":"Sichtfeld!X99","v":211.32261244954651},1.4792582871468256]
[{"$f":"Sichtfeld!A100","v":760},null,null,{"$f":"Sichtfeld!H100","v":581.08015110701433},4.0675610577491002,null,null,{"$f":"Sichtfeld!P100","v":434.24836770036154},3.0397385739025307,null,null,{"$f":"Sichtfeld!X100","v":214.13637159394054},1.4989546011575836]
[{"$f":"Sichtfeld!A101","v":770},null,null,{"$f":"Sichtfeld!H101","v":588.58059519602341},4.1200641663721633,null,null,{"$f":"Sichtfeld!P101","v":439.87396408595782},3.0791177486017047,null,null,{"$f":"Sichtfeld!X101","v":216.95009806304796},1.5186506864413358]
[{"$f":"Sichtfeld!A102","v":780},null,null,{"$f":"Sichtfeld!H102","v":596.08102810852245},4.1725671967596574,null,null,{"$f":"Sichtfeld!P102","v":445.49954540816418},3.1184968178571491,null,null,{"$f":"Sichtfeld!X102","v":219.76379311300511},1.5383465517910357]
[{"$f":"Sichtfeld!A103","v":790},null,null,{"$f":"Sichtfeld!H103","v":603.58145026120269},4.2250701518284188,null,null,{"$f":"Sichtfeld!P103","v":451.12511223061642},3.1578757856143147,null,null,{"$f":"Sichtfeld!X103","v":222.57745793635644},1.5580422055544949]
[{"$f":"Sichtfeld!A104","v":800},null,null,{"$f":"Sichtfeld!H104","v":611.08186205031541},4.2775730343522076,null,null,{"$f":"Sichtfeld!P104","v":456.7506650891886},3.1972546556243202,null,null,{"$f":"Sichtfeld!X104","v":225.39109366601954},1.5777376556621368]
[{"$f":"Sichtfeld!A105","v":810},null,null,{"$f":"Sichtfeld!H105","v":618.58226385287082},4.3300758469700957,null,null,{"$f":"Sichtfeld!P105","v":462.37620449365016},3.2366334314555507,null,null,{"$f":"Sichtfeld!X105","v":228.20470137897468},1.5974329096528226]
[{"$f":"Sichtfeld!A106","v":820},null,null,{"$f":"Sichtfeld!H106","v":626.08265602783138},4.382578592194819,null,null,{"$f":"Sichtfeld!P106","v":468.00173092926389},3.2760121165048468,null,null,{"$f":"Sichtfeld!X106","v":231.01828209967451},1.6171279746977214]
[{"$f":"Sichtfeld!A107","v":830},null,null,{"$f":"Sichtfeld!H107","v":633.58303891714911},4.4350812724200441,null,null,{"$f":"Sichtfeld!P107","v":473.62724485822974},3.315390714007608,null,null,{"$f":"Sichtfeld!X107","v":233.83183680320494},1.6368228576224346]
[{"$f":"Sichtfeld!A108","v":840},null,null,{"$f":"Sichtfeld!H108","v":641.0834128467601},4.4875838899273202,null,null,{"$f":"Sichtfeld!P108","v":479.25274672103677},3.3547692270472571,null,null,{"$f":"Sichtfeld!X108","v":236.64536641823091},1.6565175649276163]
[{"$f":"Sichtfeld!A109","v":850},null,null,{"$f":"Sichtfeld!H109","v":648.58377812754327},4.5400864468928024,null,null,{"$f":"Sichtfeld!P109","v":484.87823693773595},3.3941476585641515,null,null,{"$f":"Sichtfeld!X109","v":239.45887182972328},1.6762121028080628]
[{"$f":"Sichtfeld!A110","v":860},null,null,{"$f":"Sichtfeld!H110","v":656.08413505613453},4.5925889453929418,null,null,{"$f":"Sichtfeld!P110","v":490.5037159090881},3.4335260113636168,null,null,{"$f":"Sichtfeld!X110","v":242.27235388149975},1.6959064771704981]
[{"$f":"Sichtfeld!A111","v":870},null,null,{"$f":"Sichtfeld!H111","v":663.58448391577701},4.6450913874104387,null,null,{"$f":"Sichtfeld!P111","v":496.12918401768712},3.4729042881238099,null,null,{"$f":"Sichtfeld!X111","v":245.08581337859195},1.7156006936501436]
[{"$f":"Sichtfeld!A112","v":880},null,null,{"$f":"Sichtfeld!H112","v":671.08482497704199},4.6975937748392935,null,null,{"$f":"Sichtfeld!P112","v":501.75464162895628},3.512282491402694,null,null,{"$f":"Sichtfeld!X112","v":247.8992510894476},1.7352947576261331]
[{"$f":"Sichtfeld!A113","v":890},null,null,{"$f":"Sichtfeld!H113","v":678.58515849853814},4.7500961094897667,null,null,{"$f":"Sichtfeld!P113","v":507.38008909211186},3.551660623644783,null,null,{"$f":"Sichtfeld!X113","v":250.71266774798926},1.7549886742359246]
[{"$f":"Sichtfeld!A114","v":900},null,null,{"$f":"Sichtfeld!H114","v":686.08548472755842},4.8025983930929081,null,null,{"$f":"Sichtfeld!P114","v":513.0055267410512},3.5910386871873583,null,null,{"$f":"Sichtfeld!X114","v":253.52606405552655},1.7746824483886856]
[{"$f":"Sichtfeld!A115","v":910},null,null,{"$f":"Sichtfeld!H115","v":693.58580390070847},4.8551006273049593,null,null,{"$f":"Sichtfeld!P115","v":518.63095489517582},3.6304166842662307,null,null,{"$f":"Sichtfeld!X115","v":256.33944068255317},1.7943760847778722]
[{"$f":"Sichtfeld!A116","v":920},null,null,{"$f":"Sichtfeld!H116","v":701.08611624445018},4.9076028137111507,null,null,{"$f":"Sichtfeld!P116","v":524.25637386017627},3.6697946170212337,null,null,{"$f":"Sichtfeld!X116","v":259.15279827042184},1.8140695878929529]
[{"$f":"Sichtfeld!A117","v":930},null,null,{"$f":"Sichtfeld!H117","v":708.58642197567985},4.9601049538297586,null,null,{"$f":"Sichtfeld!P117","v":529.88178392876421},3.7091724875013496,null,null,{"$f":"Sichtfeld!X117","v":261.9661374329051},1.8337629620303355]
[{"$f":"Sichtfeld!A118","v":940},null,null,{"$f":"Sichtfeld!H118","v":716.08672130218906},5.0126070491153225,null,null,{"$f":"Sichtfeld!P118","v":535.50718538134947},3.7485502976694458,null,null,{"$f":"Sichtfeld!X118","v":264.7794587576721},1.8534562113037045]
[{"$f":"Sichtfeld!A119","v":950},null,null,{"$f":"Sichtfeld!H119","v":723.58701442315282},5.0651091009620695,null,null,{"$f":"Sichtfeld!P119","v":541.13257848666774},3.7879280494066738,null,null,{"$f":"Sichtfeld!X119","v":267.59276280765215},1.8731493396535648]
[{"$f":"Sichtfeld!A120","v":960},null,null,{"$f":"Sichtfeld!H120","v":731.08730152957799},5.1176111107070454,null,null,{"$f":"Sichtfeld!P120","v":546.75796350240455},3.8273057445168313,null,null,{"$f":"Sichtfeld!X120","v":270.40605012232845},1.8928423508562993]
[{"$f":"Sichtfeld!A121","v":970},null,null,{"$f":"Sichtfeld!H121","v":738.58758280470306},5.1701130796329213,null,null,{"$f":"Sichtfeld!P121","v":552.38334067574431},3.86668338473021,null,null,{"$f":"Sichtfeld!X121","v":273.21932121894883},1.9125352485326417]
[{"$f":"Sichtfeld!A122","v":980},null,null,{"$f":"Sichtfeld!H122","v":746.0878584244183},5.2226150089709282,null,null,{"$f":"Sichtfeld!P122","v":558.0087102438921},3.9060609717072445,null,null,{"$f":"Sichtfeld!X122","v":276.03257659365374},1.9322280361555761]
[{"$f":"Sichtfeld!A123","v":990},null,null,{"$f":"Sichtfeld!H123","v":753.58812855758754},5.2751168999031117,null,null,{"$f":"Sichtfeld!P123","v":563.63407243459881},3.9454385070421916,null,null,{"$f":"Sichtfeld!X123","v":278.84581672254711},1.9519207170578299]
[{"$f":"Sichtfeld!A124","v":1000},null,null,{"$f":"Sichtfeld!H124","v":761.08839336642586},5.3276187535649804,null,null,{"$f":"Sichtfeld!P124","v":569.25942746659643},3.9848159922661752,null,null,{"$f":"Sichtfeld!X124","v":281.65904206269533},1.9716132944388673]

{"sheet":"Mathematik","index":2,"n_rows":0,"n_cols":0,"rows_kept":0,"cut":false,"hidden":true,"merged":[]}

{"sheet":"Diagramme Bildfeld","index":3,"n_rows":113,"n_cols":16,"rows_kept":113,"cut":false,"hidden":true,"merged":[]}
["6 mm",null,null,null,null,null,null,null,null,"An Stelle Originalbeschriftung Diagramm:"]
[null,"Arbeitsabstand, Bildfeldgröße",null,null,null,null,null,null,null,"Sichtfeld / Field of view"]
[]
[null,"Nutzabstand","Bildfeld x in mm","Bildfeld y in mm",null,"Bildfeld",null,1.6]
[null,50,{"$f":"ROUND(VLOOKUP(B5,Sichtfeld!$A$29:$Y$124,6,FALSE),0)","v":41},{"$f":"ROUND(VLOOKUP(B5,Sichtfeld!$A$29:$Y$124,7,FALSE),0)","v":26},null,{"$f":"CONCATENATE(C5,\" mm x \",D5, \" mm\")","v":"41 mm x 26 mm"},null,null,null,{"$f":"CONCATENATE(G6,\" mm x \",H6,\" mm\")","v":"650 mm x 406 mm"}]
[null,60,{"$f":"ROUND(VLOOKUP(B6,Sichtfeld!$A$29:$Y$124,6,FALSE),0)","v":48},{"$f":"ROUND(VLOOKUP(B6,Sichtfeld!$A$29:$Y$124,7,FALSE),0)","v":30},null,{"$f":"CONCATENATE(C6,\" mm x \",D6, \" mm\")","v":"48 mm x 30 mm"},650,{"$f":"ROUND(G6/$H$4,0)","v":406}]
[null,70,{"$f":"ROUND(VLOOKUP(B7,Sichtfeld!$A$29:$Y$124,6,FALSE),0)","v":54},{"$f":"ROUND(VLOOKUP(B7,Sichtfeld!$A$29:$Y$124,7,FALSE),0)","v":34},null,"54 mm x 34 mm",null,null,null,{"$f":"CONCATENATE(G8,\" mm x \",H8,\" mm\")","v":"600 mm x 375 mm"}]
[null,80,{"$f":"ROUND(VLOOKUP(B8,Sichtfeld!$A$29:$Y$124,6,FALSE),0)","v":60},{"$f":"ROUND(VLOOKUP(B8,Sichtfeld!$A$29:$Y$124,7,FALSE),0)","v":38},null,"60 mm x 38 mm",600,{"$f":"ROUND(G8/$H$4,0)","v":375}]
[null,90,{"$f":"ROUND(VLOOKUP(B9,Sichtfeld!$A$29:$Y$124,6,FALSE),0)","v":67},{"$f":"ROUND(VLOOKUP(B9,Sichtfeld!$A$29:$Y$124,7,FALSE),0)","v":42},null,"67 mm x 42 mm",null,null,null,{"$f":"CONCATENATE(G10,\" mm x \",H10,\" mm\")","v":"550 mm x 344 mm"}]
[null,100,{"$f":"ROUND(VLOOKUP(B10,Sichtfeld!$A$29:$Y$124,6,FALSE),0)","v":73},{"$f":"ROUND(VLOOKUP(B10,Sichtfeld!$A$29:$Y$124,7,FALSE),0)","v":46},null,"73 mm x 46 mm",550,{"$f":"ROUND(G10/$H$4,0)","v":344}]
[null,110,{"$f":"ROUND(VLOOKUP(B11,Sichtfeld!$A$29:$Y$124,6,FALSE),0)","v":80},{"$f":"ROUND(VLOOKUP(B11,Sichtfeld!$A$29:$Y$124,7,FALSE),0)","v":50},null,"80 mm x 50 mm",null,null,null,{"$f":"CONCATENATE(G13,\" mm x \",H13,\" mm\")","v":"500 mm x 313 mm"}]
[null,120,{"$f":"ROUND(VLOOKUP(B12,Sichtfeld!$A$29:$Y$124,6,FALSE),0)","v":86},{"$f":"ROUND(VLOOKUP(B12,Sichtfeld!$A$29:$Y$124,7,FALSE),0)","v":54},null,"86 mm x 54 mm"]
[null,130,{"$f":"ROUND(VLOOKUP(B13,Sichtfeld!$A$29:$Y$124,6,FALSE),0)","v":93},{"$f":"ROUND(VLOOKUP(B13,Sichtfeld!$A$29:$Y$124,7,FALSE),0)","v":58},null,"93 mm x 58 mm",500,{"$f":"ROUND(G13/$H$4,0)","v":313},null,{"$f":"CONCATENATE(G15,\" mm x \",H15,\" mm\")","v":"450 mm x 281 mm"}]
[null,140,{"$f":"ROUND(VLOOKUP(B14,Sichtfeld!$A$29:$Y$124,6,FALSE),0)","v":99},{"$f":"ROUND(VLOOKUP(B14,Sichtfeld!$A$29:$Y$124,7,FALSE),0)","v":62},null,"99 mm x 62 mm"]
[null,150,{"$f":"ROUND(VLOOKUP(B15,Sichtfeld!$A$29:$Y$124,6,FALSE),0)","v":105},{"$f":"ROUND(VLOOKUP(B15,Sichtfeld!$A$29:$Y$124,7,FALSE),0)","v":66},null,"105 mm x 66 mm",450,{"$f":"ROUND(G15/$H$4,0)","v":281}]
[null,160,{"$f":"ROUND(VLOOKUP(B16,Sichtfeld!$A$29:$Y$124,6,FALSE),0)","v":112},{"$f":"ROUND(VLOOKUP(B16,Sichtfeld!$A$29:$Y$124,7,FALSE),0)","v":70},null,"112 mm x 70 mm",null,null,null,{"$f":"CONCATENATE(G17,\" mm x \",H17,\" mm\")","v":"400 mm x 250 mm"}]
[null,170,{"$f":"ROUND(VLOOKUP(B17,Sichtfeld!$A$29:$Y$124,6,FALSE),0)","v":118},{"$f":"ROUND(VLOOKUP(B17,Sichtfeld!$A$29:$Y$124,7,FALSE),0)","v":74},null,"118 mm x 74 mm",400,{"$f":"ROUND(G17/$H$4,0)","v":250}]
[null,180,{"$f":"ROUND(VLOOKUP(B18,Sichtfeld!$A$29:$Y$124,6,FALSE),0)","v":125},{"$f":"ROUND(VLOOKUP(B18,Sichtfeld!$A$29:$Y$124,7,FALSE),0)","v":78},null,"125 mm x 78 mm"]
[null,190,{"$f":"ROUND(VLOOKUP(B19,Sichtfeld!$A$29:$Y$124,6,FALSE),0)","v":131},{"$f":"ROUND(VLOOKUP(B19,Sichtfeld!$A$29:$Y$124,7,FALSE),0)","v":82},null,"131 mm x 82 mm",null,null,null,{"$f":"CONCATENATE(G20,\" mm x \",H20,\" mm\")","v":"350 mm x 219 mm"}]
[null,200,{"$f":"ROUND(VLOOKUP(B20,Sichtfeld!$A$29:$Y$124,6,FALSE),0)","v":137},{"$f":"ROUND(VLOOKUP(B20,Sichtfeld!$A$29:$Y$124,7,FALSE),0)","v":86},null,"137 mm x 86 mm",350,{"$f":"ROUND(G20/$H$4,0)","v":219}]
[null,210,{"$f":"ROUND(VLOOKUP(B21,Sichtfeld!$A$29:$Y$124,6,FALSE),0)","v":144},{"$f":"ROUND(VLOOKUP(B21,Sichtfeld!$A$29:$Y$124,7,FALSE),0)","v":90},null,"144 mm x 90 mm",null,null,null,{"$f":"CONCATENATE(G22,\" mm x \",H22,\" mm\")","v":"300 mm x 188 mm"}]
[null,220,{"$f":"ROUND(VLOOKUP(B22,Sichtfeld!$A$29:$Y$124,6,FALSE),0)","v":150},{"$f":"ROUND(VLOOKUP(B22,Sichtfeld!$A$29:$Y$124,7,FALSE),0)","v":94},null,"150 mm x 94 mm",300,{"$f":"ROUND(G22/$H$4,0)","v":188}]
[null,230,{"$f":"ROUND(VLOOKUP(B23,Sichtfeld!$A$29:$Y$124,6,FALSE),0)","v":157},{"$f":"ROUND(VLOOKUP(B23,Sichtfeld!$A$29:$Y$124,7,FALSE),0)","v":98},null,"157 mm x 98 mm",null,null,null,{"$f":"CONCATENATE(G24,\" mm x \",H24,\" mm\")","v":"250 mm x 156 mm"}]
[null,240,{"$f":"ROUND(VLOOKUP(B24,Sichtfeld!$A$29:$Y$124,6,FALSE),0)","v":163},{"$f":"ROUND(VLOOKUP(B24,Sichtfeld!$A$29:$Y$124,7,FALSE),0)","v":102},null,"163 mm x 102 mm",250,{"$f":"ROUND(G24/$H$4,0)","v":156}]
[null,250,{"$f":"ROUND(VLOOKUP(B25,Sichtfeld!$A$29:$Y$124,6,FALSE),0)","v":169},{"$f":"ROUND(VLOOKUP(B25,Sichtfeld!$A$29:$Y$124,7,FALSE),0)","v":106},null,"169 mm x 106 mm"]
[null,260,{"$f":"ROUND(VLOOKUP(B26,Sichtfeld!$A$29:$Y$124,6,FALSE),0)","v":176},{"$f":"ROUND(VLOOKUP(B26,Sichtfeld!$A$29:$Y$124,7,FALSE),0)","v":110},null,"176 mm x 110 mm",null,null,null,{"$f":"CONCATENATE(G27,\" mm x \",H27,\" mm\")","v":"200 mm x 125 mm"}]
[null,270,{"$f":"ROUND(VLOOKUP(B27,Sichtfeld!$A$29:$Y$124,6,FALSE),0)","v":182},{"$f":"ROUND(VLOOKUP(B27,Sichtfeld!$A$29:$Y$124,7,FALSE),0)","v":114},null,"182 mm x 114 mm",200,{"$f":"ROUND(G27/$H$4,0)","v":125}]
[null,280,{"$f":"ROUND(VLOOKUP(B28,Sichtfeld!$A$29:$Y$124,6,FALSE),0)","v":189},{"$f":"ROUND(VLOOKUP(B28,Sichtfeld!$A$29:$Y$124,7,FALSE),0)","v":118},null,"189 mm x 118 mm",null,null,null,{"$f":"CONCATENATE(G29,\" mm x \",H29,\" mm\")","v":"150 mm x 94 mm"}]
[null,290,{"$f":"ROUND(VLOOKUP(B29,Sichtfeld!$A$29:$Y$124,6,FALSE),0)","v":195},{"$f":"ROUND(VLOOKUP(B29,Sichtfeld!$A$29:$Y$124,7,FALSE),0)","v":122},null,"195 mm x 122 mm",150,{"$f":"ROUND(G29/$H$4,0)","v":94}]
[null,300,{"$f":"ROUND(VLOOKUP(B30,Sichtfeld!$A$29:$Y$124,6,FALSE),0)","v":201},{"$f":"ROUND(VLOOKUP(B30,Sichtfeld!$A$29:$Y$124,7,FALSE),0)","v":126},null,"201 mm x 126 mm",null,null,null,{"$f":"CONCATENATE(G31,\" mm x \",H31,\" mm\")","v":"100 mm x 63 mm"}]
[null,400,{"$f":"ROUND(VLOOKUP(B31,Sichtfeld!$A$29:$Y$124,6,FALSE),0)","v":265},{"$f":"ROUND(VLOOKUP(B31,Sichtfeld!$A$29:$Y$124,7,FALSE),0)","v":166},null,"265 mm x 166 mm",100,{"$f":"ROUND(G31/$H$4,0)","v":63}]
[null,500,{"$f":"ROUND(VLOOKUP(B32,Sichtfeld!$A$29:$Y$124,6,FALSE),0)","v":329},{"$f":"ROUND(VLOOKUP(B32,Sichtfeld!$A$29:$Y$124,7,FALSE),0)","v":206},null,"329 mm x 206 mm",null,null,null,{"$f":"CONCATENATE(G33,\" mm x \",H33,\" mm\")","v":"50 mm x 31 mm"}]
[null,600,{"$f":"ROUND(VLOOKUP(B33,Sichtfeld!$A$29:$Y$124,6,FALSE),0)","v":393},{"$f":"ROUND(VLOOKUP(B33,Sichtfeld!$A$29:$Y$124,7,FALSE),0)","v":246},null,"393 mm x 246 mm",50,{"$f":"ROUND(G33/$H$4,0)","v":31}]
[null,700,{"$f":"ROUND(VLOOKUP(B34,Sichtfeld!$A$29:$Y$124,6,FALSE),0)","v":457},{"$f":"ROUND(VLOOKUP(B34,Sichtfeld!$A$29:$Y$124,7,FALSE),0)","v":286},null,"457 mm x 286 mm"]
[null,800,{"$f":"ROUND(VLOOKUP(B35,Sichtfeld!$A$29:$Y$124,6,FALSE),0)","v":521},{"$f":"ROUND(VLOOKUP(B35,Sichtfeld!$A$29:$Y$124,7,FALSE),0)","v":326},null,"521 mm x 326 mm"]
[null,900,{"$f":"ROUND(VLOOKUP(B36,Sichtfeld!$A$29:$Y$124,6,FALSE),0)","v":585},{"$f":"ROUND(VLOOKUP(B36,Sichtfeld!$A$29:$Y$124,7,FALSE),0)","v":366},null,"585 mm x 366 mm",0,null,null,0]
[null,1000,{"$f":"ROUND(VLOOKUP(B37,Sichtfeld!$A$29:$Y$124,6,FALSE),0)","v":649},{"$f":"ROUND(VLOOKUP(B37,Sichtfeld!$A$29:$Y$124,7,FALSE),0)","v":406},null,"649 mm x 406 mm"]
[null,null,null,null,null,null,null,null,null,null,null,null,null,null,null,"EN: Working Distance"]
[]
["8 mm"]
[null,"Arbeitsabstand, Bildfeldgröße"]
[]
[null,"Nutzabstand","Bildfeld x in mm","Bildfeld y in mm",null,"Bildfeld",null,1.6,null,{"$f":"CONCATENATE(G45,\" mm x \",H45,\" mm\")","v":"500 mm x 313 mm"}]
[null,50,{"$f":"ROUND(VLOOKUP(B44,Sichtfeld!$A$29:$Y$124,14,FALSE),0)","v":29},{"$f":"ROUND(VLOOKUP(B44,Sichtfeld!$A$29:$Y$124,15,FALSE),0)","v":18},null,{"$f":"CONCATENATE(C44,\" mm x \",D44, \" mm\")","v":"29 mm x 18 mm"}]
[null,60,{"$f":"ROUND(VLOOKUP(B45,Sichtfeld!$A$29:$Y$124,14,FALSE),0)","v":34},{"$f":"ROUND(VLOOKUP(B45,Sichtfeld!$A$29:$Y$124,15,FALSE),0)","v":21},null,{"$f":"CONCATENATE(C45,\" mm x \",D45, \" mm\")","v":"34 mm x 21 mm"},500,{"$f":"ROUND(G45/$H$4,0)","v":313}]
[null,70,{"$f":"ROUND(VLOOKUP(B46,Sichtfeld!$A$29:$Y$124,14,FALSE),0)","v":39},{"$f":"ROUND(VLOOKUP(B46,Sichtfeld!$A$29:$Y$124,15,FALSE),0)","v":24},null,"39 mm x 24 mm",null,null,null,{"$f":"CONCATENATE(G48,\" mm x \",H48,\" mm\")","v":"450 mm x 281 mm"}]
[null,80,{"$f":"ROUND(VLOOKUP(B47,Sichtfeld!$A$29:$Y$124,14,FALSE),0)","v":44},{"$f":"ROUND(VLOOKUP(B47,Sichtfeld!$A$29:$Y$124,15,FALSE),0)","v":27},null,"44 mm x 27 mm"]
[null,90,{"$f":"ROUND(VLOOKUP(B48,Sichtfeld!$A$29:$Y$124,14,FALSE),0)","v":49},{"$f":"ROUND(VLOOKUP(B48,Sichtfeld!$A$29:$Y$124,15,FALSE),0)","v":30},null,"49 mm x 30 mm",450,{"$f":"ROUND(G48/$H$4,0)","v":281}]
[null,100,{"$f":"ROUND(VLOOKUP(B49,Sichtfeld!$A$29:$Y$124,14,FALSE),0)","v":54},{"$f":"ROUND(VLOOKUP(B49,Sichtfeld!$A$29:$Y$124,15,FALSE),0)","v":33},null,"54 mm x 33 mm",null,null,null,{"$f":"CONCATENATE(G51,\" mm x \",H51,\" mm\")","v":"400 mm x 250 mm"}]
[null,110,{"$f":"ROUND(VLOOKUP(B50,Sichtfeld!$A$29:$Y$124,14,FALSE),0)","v":58},{"$f":"ROUND(VLOOKUP(B50,Sichtfeld!$A$29:$Y$124,15,FALSE),0)","v":36},null,"58 mm x 36 mm"]
[null,120,{"$f":"ROUND(VLOOKUP(B51,Sichtfeld!$A$29:$Y$124,14,FALSE),0)","v":63},{"$f":"ROUND(VLOOKUP(B51,Sichtfeld!$A$29:$Y$124,15,FALSE),0)","v":39},null,"63 mm x 39 mm",400,{"$f":"ROUND(G51/$H$4,0)","v":250}]
[null,130,{"$f":"ROUND(VLOOKUP(B52,Sichtfeld!$A$29:$Y$124,14,FALSE),0)","v":68},{"$f":"ROUND(VLOOKUP(B52,Sichtfeld!$A$29:$Y$124,15,FALSE),0)","v":42},null,"68 mm x 42 mm",null,null,null,{"$f":"CONCATENATE(G54,\" mm x \",H54,\" mm\")","v":"350 mm x 219 mm"}]
[null,140,{"$f":"ROUND(VLOOKUP(B53,Sichtfeld!$A$29:$Y$124,14,FALSE),0)","v":73},{"$f":"ROUND(VLOOKUP(B53,Sichtfeld!$A$29:$Y$124,15,FALSE),0)","v":45},null,"73 mm x 45 mm"]
[null,150,{"$f":"ROUND(VLOOKUP(B54,Sichtfeld!$A$29:$Y$124,14,FALSE),0)","v":78},{"$f":"ROUND(VLOOKUP(B54,Sichtfeld!$A$29:$Y$124,15,FALSE),0)","v":49},null,"78 mm x 49 mm",350,{"$f":"ROUND(G54/$H$4,0)","v":219}]
[null,160,{"$f":"ROUND(VLOOKUP(B55,Sichtfeld!$A$29:$Y$124,14,FALSE),0)","v":82},{"$f":"ROUND(VLOOKUP(B55,Sichtfeld!$A$29:$Y$124,15,FALSE),0)","v":52},null,"82 mm x 52 mm",null,null,null,{"$f":"CONCATENATE(G57,\" mm x \",H57,\" mm\")","v":"300 mm x 188 mm"}]
[null,170,{"$f":"ROUND(VLOOKUP(B56,Sichtfeld!$A$29:$Y$124,14,FALSE),0)","v":87},{"$f":"ROUND(VLOOKUP(B56,Sichtfeld!$A$29:$Y$124,15,FALSE),0)","v":55},null,"87 mm x 55 mm"]
[null,180,{"$f":"ROUND(VLOOKUP(B57,Sichtfeld!$A$29:$Y$124,14,FALSE),0)","v":92},{"$f":"ROUND(VLOOKUP(B57,Sichtfeld!$A$29:$Y$124,15,FALSE),0)","v":58},null,"92 mm x 58 mm",300,{"$f":"ROUND(G57/$H$4,0)","v":188}]
[null,190,{"$f":"ROUND(VLOOKUP(B58,Sichtfeld!$A$29:$Y$124,14,FALSE),0)","v":97},{"$f":"ROUND(VLOOKUP(B58,Sichtfeld!$A$29:$Y$124,15,FALSE),0)","v":61},null,"97 mm x 61 mm",null,null,null,{"$f":"CONCATENATE(G60,\" mm x \",H60,\" mm\")","v":"250 mm x 156 mm"}]
[null,200,{"$f":"ROUND(VLOOKUP(B59,Sichtfeld!$A$29:$Y$124,14,FALSE),0)","v":102},{"$f":"ROUND(VLOOKUP(B59,Sichtfeld!$A$29:$Y$124,15,FALSE),0)","v":64},null,"102 mm x 64 mm"]
[null,210,{"$f":"ROUND(VLOOKUP(B60,Sichtfeld!$A$29:$Y$124,14,FALSE),0)","v":106},{"$f":"ROUND(VLOOKUP(B60,Sichtfeld!$A$29:$Y$124,15,FALSE),0)","v":67},null,"106 mm x 67 mm",250,{"$f":"ROUND(G60/$H$4,0)","v":156}]
[null,220,{"$f":"ROUND(VLOOKUP(B61,Sichtfeld!$A$29:$Y$124,14,FALSE),0)","v":111},{"$f":"ROUND(VLOOKUP(B61,Sichtfeld!$A$29:$Y$124,15,FALSE),0)","v":70},null,"111 mm x 70 mm",null,null,null,{"$f":"CONCATENATE(G63,\" mm x \",H63,\" mm\")","v":"200 mm x 125 mm"}]
[null,230,{"$f":"ROUND(VLOOKUP(B62,Sichtfeld!$A$29:$Y$124,14,FALSE),0)","v":116},{"$f":"ROUND(VLOOKUP(B62,Sichtfeld!$A$29:$Y$124,15,FALSE),0)","v":73},null,"116 mm x 73 mm"]
[null,240,{"$f":"ROUND(VLOOKUP(B63,Sichtfeld!$A$29:$Y$124,14,FALSE),0)","v":121},{"$f":"ROUND(VLOOKUP(B63,Sichtfeld!$A$29:$Y$124,15,FALSE),0)","v":76},null,"121 mm x 76 mm",200,{"$f":"ROUND(G63/$H$4,0)","v":125}]
[null,250,{"$f":"ROUND(VLOOKUP(B64,Sichtfeld!$A$29:$Y$124,14,FALSE),0)","v":126},{"$f":"ROUND(VLOOKUP(B64,Sichtfeld!$A$29:$Y$124,15,FALSE),0)","v":79},null,"126 mm x 79 mm",null,null,null,{"$f":"CONCATENATE(G66,\" mm x \",H66,\" mm\")","v":"150 mm x 94 mm"}]
[null,260,{"$f":"ROUND(VLOOKUP(B65,Sichtfeld!$A$29:$Y$124,14,FALSE),0)","v":130},{"$f":"ROUND(VLOOKUP(B65,Sichtfeld!$A$29:$Y$124,15,FALSE),0)","v":82},null,"130 mm x 82 mm"]
[null,270,{"$f":"ROUND(VLOOKUP(B66,Sichtfeld!$A$29:$Y$124,14,FALSE),0)","v":135},{"$f":"ROUND(VLOOKUP(B66,Sichtfeld!$A$29:$Y$124,15,FALSE),0)","v":85},null,"135 mm x 85 mm",150,{"$f":"ROUND(G66/$H$4,0)","v":94}]
[null,280,{"$f":"ROUND(VLOOKUP(B67,Sichtfeld!$A$29:$Y$124,14,FALSE),0)","v":140},{"$f":"ROUND(VLOOKUP(B67,Sichtfeld!$A$29:$Y$124,15,FALSE),0)","v":88},null,"140 mm x 88 mm",null,null,null,{"$f":"CONCATENATE(G69,\" mm x \",H69,\" mm\")","v":"100 mm x 63 mm"}]
[null,290,{"$f":"ROUND(VLOOKUP(B68,Sichtfeld!$A$29:$Y$124,14,FALSE),0)","v":145},{"$f":"ROUND(VLOOKUP(B68,Sichtfeld!$A$29:$Y$124,15,FALSE),0)","v":91},null,"145 mm x 91 mm"]
[null,300,{"$f":"ROUND(VLOOKUP(B69,Sichtfeld!$A$29:$Y$124,14,FALSE),0)","v":150},{"$f":"ROUND(VLOOKUP(B69,Sichtfeld!$A$29:$Y$124,15,FALSE),0)","v":94},null,"150 mm x 94 mm",100,{"$f":"ROUND(G69/$H$4,0)","v":63}]
[null,400,{"$f":"ROUND(VLOOKUP(B70,Sichtfeld!$A$29:$Y$124,14,FALSE),0)","v":198},{"$f":"ROUND(VLOOKUP(B70,Sichtfeld!$A$29:$Y$124,15,FALSE),0)","v":124},null,"198 mm x 124 mm",null,null,null,{"$f":"CONCATENATE(G72,\" mm x \",H72,\" mm\")","v":"50 mm x 31 mm"}]
[null,500,{"$f":"ROUND(VLOOKUP(B71,Sichtfeld!$A$29:$Y$124,14,FALSE),0)","v":246},{"$f":"ROUND(VLOOKUP(B71,Sichtfeld!$A$29:$Y$124,15,FALSE),0)","v":154},null,"246 mm x 154 mm"]
[null,600,{"$f":"ROUND(VLOOKUP(B72,Sichtfeld!$A$29:$Y$124,14,FALSE),0)","v":294},{"$f":"ROUND(VLOOKUP(B72,Sichtfeld!$A$29:$Y$124,15,FALSE),0)","v":184},null,"294 mm x 184 mm",50,{"$f":"ROUND(G72/$H$4,0)","v":31}]
[null,700,{"$f":"ROUND(VLOOKUP(B73,Sichtfeld!$A$29:$Y$124,14,FALSE),0)","v":342},{"$f":"ROUND(VLOOKUP(B73,Sichtfeld!$A$29:$Y$124,15,FALSE),0)","v":214},null,"342 mm x 214 mm"]
[null,800,{"$f":"ROUND(VLOOKUP(B74,Sichtfeld!$A$29:$Y$124,14,FALSE),0)","v":390},{"$f":"ROUND(VLOOKUP(B74,Sichtfeld!$A$29:$Y$124,15,FALSE),0)","v":244},null,"390 mm x 244 mm"]
[null,900,{"$f":"ROUND(VLOOKUP(B75,Sichtfeld!$A$29:$Y$124,14,FALSE),0)","v":438},{"$f":"ROUND(VLOOKUP(B75,Sichtfeld!$A$29:$Y$124,15,FALSE),0)","v":274},null,"438 mm x 274 mm",0,null,null,0]
[null,1000,{"$f":"ROUND(VLOOKUP(B76,Sichtfeld!$A$29:$Y$124,14,FALSE),0)","v":486},{"$f":"ROUND(VLOOKUP(B76,Sichtfeld!$A$29:$Y$124,15,FALSE),0)","v":304},null,"486 mm x 304 mm"]
[]
[]
["16 mm"]
[null,"Arbeitsabstand, Bildfeldgröße"]
[]
[null,"Nutzabstand","Bildfeld x in mm","Bildfeld y in mm",null,"Bildfeld",null,1.6,null,{"$f":"CONCATENATE(G84,\" mm x \",H84,\" mm\")","v":"250 mm x 156 mm"}]
[null,100,{"$f":"ROUND(VLOOKUP(B83,Sichtfeld!$A$29:$Y$124,22,FALSE),0)","v":24},{"$f":"ROUND(VLOOKUP(B83,Sichtfeld!$A$29:$Y$124,23,FALSE),0)","v":15},null,{"$f":"CONCATENATE(C83,\" mm x \",D83, \" mm\")","v":"24 mm x 15 mm"}]
[null,{"$f":"B83+10","v":110},{"$f":"ROUND(VLOOKUP(B84,Sichtfeld!$A$29:$Y$124,22,FALSE),0)","v":26},{"$f":"ROUND(VLOOKUP(B84,Sichtfeld!$A$29:$Y$124,23,FALSE),0)","v":16},null,{"$f":"CONCATENATE(C84,\" mm x \",D84, \" mm\")","v":"26 mm x 16 mm"},250,{"$f":"ROUND(G84/$H$4,0)","v":156}]
[null,{"$f":"B84+10","v":120},{"$f":"ROUND(VLOOKUP(B85,Sichtfeld!$A$29:$Y$124,22,FALSE),0)","v":29},{"$f":"ROUND(VLOOKUP(B85,Sichtfeld!$A$29:$Y$124,23,FALSE),0)","v":18},null,"29 mm x 18 mm"]
[null,130,{"$f":"ROUND(VLOOKUP(B86,Sichtfeld!$A$29:$Y$124,22,FALSE),0)","v":31},{"$f":"ROUND(VLOOKUP(B86,Sichtfeld!$A$29:$Y$124,23,FALSE),0)","v":19},null,"31 mm x 19 mm"]
[null,140,{"$f":"ROUND(VLOOKUP(B87,Sichtfeld!$A$29:$Y$124,22,FALSE),0)","v":34},{"$f":"ROUND(VLOOKUP(B87,Sichtfeld!$A$29:$Y$124,23,FALSE),0)","v":21},null,"34 mm x 21 mm"]
[null,150,{"$f":"ROUND(VLOOKUP(B88,Sichtfeld!$A$29:$Y$124,22,FALSE),0)","v":36},{"$f":"ROUND(VLOOKUP(B88,Sichtfeld!$A$29:$Y$124,23,FALSE),0)","v":23},null,"36 mm x 23 mm",null,null,null,{"$f":"CONCATENATE(G90,\" mm x \",H90,\" mm\")","v":"200 mm x 125 mm"}]
[null,160,{"$f":"ROUND(VLOOKUP(B89,Sichtfeld!$A$29:$Y$124,22,FALSE),0)","v":38},{"$f":"ROUND(VLOOKUP(B89,Sichtfeld!$A$29:$Y$124,23,FALSE),0)","v":24},null,"38 mm x 24 mm"]
[null,170,{"$f":"ROUND(VLOOKUP(B90,Sichtfeld!$A$29:$Y$124,22,FALSE),0)","v":41},{"$f":"ROUND(VLOOKUP(B90,Sichtfeld!$A$29:$Y$124,23,FALSE),0)","v":26},null,"41 mm x 26 mm",200,{"$f":"ROUND(G90/$H$4,0)","v":125}]
[null,180,{"$f":"ROUND(VLOOKUP(B91,Sichtfeld!$A$29:$Y$124,22,FALSE),0)","v":43},{"$f":"ROUND(VLOOKUP(B91,Sichtfeld!$A$29:$Y$124,23,FALSE),0)","v":27},null,"43 mm x 27 mm"]
[null,190,{"$f":"ROUND(VLOOKUP(B92,Sichtfeld!$A$29:$Y$124,22,FALSE),0)","v":46},{"$f":"ROUND(VLOOKUP(B92,Sichtfeld!$A$29:$Y$124,23,FALSE),0)","v":29},null,"46 mm x 29 mm"]
[null,200,{"$f":"ROUND(VLOOKUP(B93,Sichtfeld!$A$29:$Y$124,22,FALSE),0)","v":48},{"$f":"ROUND(VLOOKUP(B93,Sichtfeld!$A$29:$Y$124,23,FALSE),0)","v":30},null,"48 mm x 30 mm",null,null,null,{"$f":"CONCATENATE(G95,\" mm x \",H95,\" mm\")","v":"150 mm x 94 mm"}]
[null,210,{"$f":"ROUND(VLOOKUP(B94,Sichtfeld!$A$29:$Y$124,22,FALSE),0)","v":51},{"$f":"ROUND(VLOOKUP(B94,Sichtfeld!$A$29:$Y$124,23,FALSE),0)","v":32},null,"51 mm x 32 mm"]
[null,220,{"$f":"ROUND(VLOOKUP(B95,Sichtfeld!$A$29:$Y$124,22,FALSE),0)","v":53},{"$f":"ROUND(VLOOKUP(B95,Sichtfeld!$A$29:$Y$124,23,FALSE),0)","v":33},null,"53 mm x 33 mm",150,{"$f":"ROUND(G95/$H$4,0)","v":94}]
[null,230,{"$f":"ROUND(VLOOKUP(B96,Sichtfeld!$A$29:$Y$124,22,FALSE),0)","v":55},{"$f":"ROUND(VLOOKUP(B96,Sichtfeld!$A$29:$Y$124,23,FALSE),0)","v":35},null,"55 mm x 35 mm"]
[null,240,{"$f":"ROUND(VLOOKUP(B97,Sichtfeld!$A$29:$Y$124,22,FALSE),0)","v":58},{"$f":"ROUND(VLOOKUP(B97,Sichtfeld!$A$29:$Y$124,23,FALSE),0)","v":36},null,"58 mm x 36 mm"]
[null,{"$f":"B97+10","v":250},{"$f":"ROUND(VLOOKUP(B98,Sichtfeld!$A$29:$Y$124,22,FALSE),0)","v":60},{"$f":"ROUND(VLOOKUP(B98,Sichtfeld!$A$29:$Y$124,23,FALSE),0)","v":38},null,"60 mm x 38 mm"]
[null,{"$f":"B98+50","v":300},{"$f":"ROUND(VLOOKUP(B99,Sichtfeld!$A$29:$Y$124,22,FALSE),0)","v":72},{"$f":"ROUND(VLOOKUP(B99,Sichtfeld!$A$29:$Y$124,23,FALSE),0)","v":45},null,"72 mm x 45 mm",null,null,null,{"$f":"CONCATENATE(G101,\" mm x \",H101,\" mm\")","v":"100 mm x 63 mm"}]
[null,350,{"$f":"ROUND(VLOOKUP(B100,Sichtfeld!$A$29:$Y$124,22,FALSE),0)","v":84},{"$f":"ROUND(VLOOKUP(B100,Sichtfeld!$A$29:$Y$124,23,FALSE),0)","v":53},null,"84 mm x 53 mm"]
[null,400,{"$f":"ROUND(VLOOKUP(B101,Sichtfeld!$A$29:$Y$124,22,FALSE),0)","v":96},{"$f":"ROUND(VLOOKUP(B101,Sichtfeld!$A$29:$Y$124,23,FALSE),0)","v":60},null,"96 mm x 60 mm",100,{"$f":"ROUND(G101/$H$4,0)","v":63}]
[null,450,{"$f":"ROUND(VLOOKUP(B102,Sichtfeld!$A$29:$Y$124,22,FALSE),0)","v":108},{"$f":"ROUND(VLOOKUP(B102,Sichtfeld!$A$29:$Y$124,23,FALSE),0)","v":68},null,"108 mm x 68 mm"]
[null,500,{"$f":"ROUND(VLOOKUP(B103,Sichtfeld!$A$29:$Y$124,22,FALSE),0)","v":120},{"$f":"ROUND(VLOOKUP(B103,Sichtfeld!$A$29:$Y$124,23,FALSE),0)","v":75},null,"120 mm x 75 mm"]
[null,550,{"$f":"ROUND(VLOOKUP(B104,Sichtfeld!$A$29:$Y$124,22,FALSE),0)","v":132},{"$f":"ROUND(VLOOKUP(B104,Sichtfeld!$A$29:$Y$124,23,FALSE),0)","v":83},null,"132 mm x 83 mm",null,null,null,{"$f":"CONCATENATE(G106,\" mm x \",H106,\" mm\")","v":"50 mm x 31 mm"}]
[null,600,{"$f":"ROUND(VLOOKUP(B105,Sichtfeld!$A$29:$Y$124,22,FALSE),0)","v":144},{"$f":"ROUND(VLOOKUP(B105,Sichtfeld!$A$29:$Y$124,23,FALSE),0)","v":90},null,"144 mm x 90 mm"]
[null,650,{"$f":"ROUND(VLOOKUP(B106,Sichtfeld!$A$29:$Y$124,22,FALSE),0)","v":156},{"$f":"ROUND(VLOOKUP(B106,Sichtfeld!$A$29:$Y$124,23,FALSE),0)","v":98},null,"156 mm x 98 mm",50,{"$f":"ROUND(G106/$H$4,0)","v":31}]
[null,700,{"$f":"ROUND(VLOOKUP(B107,Sichtfeld!$A$29:$Y$124,22,FALSE),0)","v":168},{"$f":"ROUND(VLOOKUP(B107,Sichtfeld!$A$29:$Y$124,23,FALSE),0)","v":105},null,"168 mm x 105 mm"]
[null,750,{"$f":"ROUND(VLOOKUP(B108,Sichtfeld!$A$29:$Y$124,22,FALSE),0)","v":180},{"$f":"ROUND(VLOOKUP(B108,Sichtfeld!$A$29:$Y$124,23,FALSE),0)","v":113},null,"180 mm x 113 mm"]
[null,800,{"$f":"ROUND(VLOOKUP(B109,Sichtfeld!$A$29:$Y$124,22,FALSE),0)","v":192},{"$f":"ROUND(VLOOKUP(B109,Sichtfeld!$A$29:$Y$124,23,FALSE),0)","v":120},null,"192 mm x 120 mm"]
[null,850,{"$f":"ROUND(VLOOKUP(B110,Sichtfeld!$A$29:$Y$124,22,FALSE),0)","v":204},{"$f":"ROUND(VLOOKUP(B110,Sichtfeld!$A$29:$Y$124,23,FALSE),0)","v":128},null,"204 mm x 128 mm"]
[null,900,{"$f":"ROUND(VLOOKUP(B111,Sichtfeld!$A$29:$Y$124,22,FALSE),0)","v":216},{"$f":"ROUND(VLOOKUP(B111,Sichtfeld!$A$29:$Y$124,23,FALSE),0)","v":135},null,"216 mm x 135 mm"]
[null,950,{"$f":"ROUND(VLOOKUP(B112,Sichtfeld!$A$29:$Y$124,22,FALSE),0)","v":228},{"$f":"ROUND(VLOOKUP(B112,Sichtfeld!$A$29:$Y$124,23,FALSE),0)","v":143},null,"228 mm x 143 mm",0,null,null,0]
[null,1000,{"$f":"ROUND(VLOOKUP(B113,Sichtfeld!$A$29:$Y$124,22,FALSE),0)","v":240},{"$f":"ROUND(VLOOKUP(B113,Sichtfeld!$A$29:$Y$124,23,FALSE),0)","v":150},null,"240 mm x 150 mm"]

{"sheet":"Diagramme Modulbreite","index":4,"n_rows":113,"n_cols":13,"rows_kept":113,"cut":false,"hidden":true,"merged":[]}
["6 mm",null,null,null,null,null,"Modulbreite [mm]",null,"\"Die Diagramme dienen zur Orientierung. Maßgeblich sind Tests mit dem Produkt unter Berücksichtigung von Codetyp, Codequalität und verwendetem Parameterset.\""]
[null,"Arbeitsabstand, Modulgröße",null,"Hinweis: Größenreserve",null,"1 mm =","Module width [mm]",null,"\"The diagrams are for guidance. Decisive are tests with the product under consideration of code type, code quality and used parameter set.\""]
[null,null,null,null,null,39.370100000000001]
[null,"Nutzabstand","Mindestbreite Modul 1D [µm]","Mindestbreite Modul 2D [µm]",null,"Mindestbreite Modul 1D [mil]","Mindestbreite Modul 2D [µm]"]
[null,50,{"$f":"ROUND((0.001*VLOOKUP(B5,Sichtfeld!$A$29:$Y$124,8,FALSE)),3)","v":4.8000000000000001E-2},{"$f":"ROUND((0.001*VLOOKUP(B5,Sichtfeld!$A$29:$Y$124,9,FALSE)),3)","v":9.6000000000000002E-2},null,{"$f":"C5*$F$3","v":1.8897648},{"$f":"D5*$F$3","v":3.7795296}]
[null,60,{"$f":"ROUND((0.001*VLOOKUP(B6,Sichtfeld!$A$29:$Y$124,8,FALSE)),3)","v":5.6000000000000001E-2},{"$f":"ROUND((0.001*VLOOKUP(B6,Sichtfeld!$A$29:$Y$124,9,FALSE)),3)","v":0.112},null,{"$f":"C6*$F$3","v":2.2047256000000002},4.4094512000000003]
[null,70,{"$f":"ROUND((0.001*VLOOKUP(B7,Sichtfeld!$A$29:$Y$124,8,FALSE)),3)","v":6.3E-2},{"$f":"ROUND((0.001*VLOOKUP(B7,Sichtfeld!$A$29:$Y$124,9,FALSE)),3)","v":0.127},null,2.4803163000000001,5.0000027000000005]
[null,80,{"$f":"ROUND((0.001*VLOOKUP(B8,Sichtfeld!$A$29:$Y$124,8,FALSE)),3)","v":7.0999999999999994E-2},{"$f":"ROUND((0.001*VLOOKUP(B8,Sichtfeld!$A$29:$Y$124,9,FALSE)),3)","v":0.14199999999999999},null,2.7952770999999998,5.5905541999999997]
[null,90,{"$f":"ROUND((0.001*VLOOKUP(B9,Sichtfeld!$A$29:$Y$124,8,FALSE)),3)","v":7.8E-2},{"$f":"ROUND((0.001*VLOOKUP(B9,Sichtfeld!$A$29:$Y$124,9,FALSE)),3)","v":0.157},null,3.0708678000000003,6.1811056999999998]
[null,100,{"$f":"ROUND((0.001*VLOOKUP(B10,Sichtfeld!$A$29:$Y$124,8,FALSE)),3)","v":8.5999999999999993E-2},{"$f":"ROUND((0.001*VLOOKUP(B10,Sichtfeld!$A$29:$Y$124,9,FALSE)),3)","v":0.17199999999999999},null,3.3858286,6.7716571999999999]
[null,110,{"$f":"ROUND((0.001*VLOOKUP(B11,Sichtfeld!$A$29:$Y$124,8,FALSE)),3)","v":9.2999999999999999E-2},{"$f":"ROUND((0.001*VLOOKUP(B11,Sichtfeld!$A$29:$Y$124,9,FALSE)),3)","v":0.187},null,3.6614192999999999,7.3622087000000001]
[null,120,{"$f":"ROUND((0.001*VLOOKUP(B12,Sichtfeld!$A$29:$Y$124,8,FALSE)),3)","v":0.10100000000000001},{"$f":"ROUND((0.001*VLOOKUP(B12,Sichtfeld!$A$29:$Y$124,9,FALSE)),3)","v":0.20200000000000001},null,3.9763801000000005,7.9527602000000011]
[null,130,{"$f":"ROUND((0.001*VLOOKUP(B13,Sichtfeld!$A$29:$Y$124,8,FALSE)),3)","v":0.108},{"$f":"ROUND((0.001*VLOOKUP(B13,Sichtfeld!$A$29:$Y$124,9,FALSE)),3)","v":0.217},null,4.2519707999999996,8.5433117000000003]
[null,140,{"$f":"ROUND((0.001*VLOOKUP(B14,Sichtfeld!$A$29:$Y$124,8,FALSE)),3)","v":0.11600000000000001},{"$f":"ROUND((0.001*VLOOKUP(B14,Sichtfeld!$A$29:$Y$124,9,FALSE)),3)","v":0.23200000000000001},null,4.5669316000000002,9.1338632000000004]
[null,150,{"$f":"ROUND((0.001*VLOOKUP(B15,Sichtfeld!$A$29:$Y$124,8,FALSE)),3)","v":0.123},{"$f":"ROUND((0.001*VLOOKUP(B15,Sichtfeld!$A$29:$Y$124,9,FALSE)),3)","v":0.247},null,4.8425222999999997,9.7244147000000005]
[null,160,{"$f":"ROUND((0.001*VLOOKUP(B16,Sichtfeld!$A$29:$Y$124,8,FALSE)),3)","v":0.13100000000000001},{"$f":"ROUND((0.001*VLOOKUP(B16,Sichtfeld!$A$29:$Y$124,9,FALSE)),3)","v":0.26200000000000001},null,5.1574831000000003,10.314966200000001]
[null,170,{"$f":"ROUND((0.001*VLOOKUP(B17,Sichtfeld!$A$29:$Y$124,8,FALSE)),3)","v":0.13800000000000001},{"$f":"ROUND((0.001*VLOOKUP(B17,Sichtfeld!$A$29:$Y$124,9,FALSE)),3)","v":0.27700000000000002},null,5.4330738000000007,10.905517700000001]
[null,180,{"$f":"ROUND((0.001*VLOOKUP(B18,Sichtfeld!$A$29:$Y$124,8,FALSE)),3)","v":0.14599999999999999},{"$f":"ROUND((0.001*VLOOKUP(B18,Sichtfeld!$A$29:$Y$124,9,FALSE)),3)","v":0.29199999999999998},null,5.7480345999999995,11.496069199999999]
[null,190,{"$f":"ROUND((0.001*VLOOKUP(B19,Sichtfeld!$A$29:$Y$124,8,FALSE)),3)","v":0.153},{"$f":"ROUND((0.001*VLOOKUP(B19,Sichtfeld!$A$29:$Y$124,9,FALSE)),3)","v":0.307},null,6.0236253,12.086620699999999]
[null,200,{"$f":"ROUND((0.001*VLOOKUP(B20,Sichtfeld!$A$29:$Y$124,8,FALSE)),3)","v":0.161},{"$f":"ROUND((0.001*VLOOKUP(B20,Sichtfeld!$A$29:$Y$124,9,FALSE)),3)","v":0.32200000000000001},null,6.3385861000000006,12.677172200000001]
[null,210,{"$f":"ROUND((0.001*VLOOKUP(B21,Sichtfeld!$A$29:$Y$124,8,FALSE)),3)","v":0.16800000000000001},{"$f":"ROUND((0.001*VLOOKUP(B21,Sichtfeld!$A$29:$Y$124,9,FALSE)),3)","v":0.33700000000000002},null,6.614176800000001,13.267723700000001]
[null,220,{"$f":"ROUND((0.001*VLOOKUP(B22,Sichtfeld!$A$29:$Y$124,8,FALSE)),3)","v":0.17599999999999999},{"$f":"ROUND((0.001*VLOOKUP(B22,Sichtfeld!$A$29:$Y$124,9,FALSE)),3)","v":0.35199999999999998},null,6.9291375999999998,13.8582752]
[null,230,{"$f":"ROUND((0.001*VLOOKUP(B23,Sichtfeld!$A$29:$Y$124,8,FALSE)),3)","v":0.184},{"$f":"ROUND((0.001*VLOOKUP(B23,Sichtfeld!$A$29:$Y$124,9,FALSE)),3)","v":0.36699999999999999},null,7.2440984000000004,14.4488267]
[null,240,{"$f":"ROUND((0.001*VLOOKUP(B24,Sichtfeld!$A$29:$Y$124,8,FALSE)),3)","v":0.191},{"$f":"ROUND((0.001*VLOOKUP(B24,Sichtfeld!$A$29:$Y$124,9,FALSE)),3)","v":0.38200000000000001},null,7.5196890999999999,15.0393782]
[null,250,{"$f":"ROUND((0.001*VLOOKUP(B25,Sichtfeld!$A$29:$Y$124,8,FALSE)),3)","v":0.19900000000000001},{"$f":"ROUND((0.001*VLOOKUP(B25,Sichtfeld!$A$29:$Y$124,9,FALSE)),3)","v":0.39700000000000002},null,7.8346499000000005,15.629929700000002]
[null,260,{"$f":"ROUND((0.001*VLOOKUP(B26,Sichtfeld!$A$29:$Y$124,8,FALSE)),3)","v":0.20599999999999999},{"$f":"ROUND((0.001*VLOOKUP(B26,Sichtfeld!$A$29:$Y$124,9,FALSE)),3)","v":0.41199999999999998},null,8.1102405999999991,16.220481199999998]
[null,270,{"$f":"ROUND((0.001*VLOOKUP(B27,Sichtfeld!$A$29:$Y$124,8,FALSE)),3)","v":0.214},{"$f":"ROUND((0.001*VLOOKUP(B27,Sichtfeld!$A$29:$Y$124,9,FALSE)),3)","v":0.42699999999999999},null,8.4252014000000006,16.811032699999998]
[null,280,{"$f":"ROUND((0.001*VLOOKUP(B28,Sichtfeld!$A$29:$Y$124,8,FALSE)),3)","v":0.221},{"$f":"ROUND((0.001*VLOOKUP(B28,Sichtfeld!$A$29:$Y$124,9,FALSE)),3)","v":0.442},null,8.700792100000001,17.401584200000002]
[null,290,{"$f":"ROUND((0.001*VLOOKUP(B29,Sichtfeld!$A$29:$Y$124,8,FALSE)),3)","v":0.22900000000000001},{"$f":"ROUND((0.001*VLOOKUP(B29,Sichtfeld!$A$29:$Y$124,9,FALSE)),3)","v":0.45700000000000002},null,9.0157529000000007,17.992135700000002]
[null,300,{"$f":"ROUND((0.001*VLOOKUP(B30,Sichtfeld!$A$29:$Y$124,8,FALSE)),3)","v":0.23599999999999999},{"$f":"ROUND((0.001*VLOOKUP(B30,Sichtfeld!$A$29:$Y$124,9,FALSE)),3)","v":0.47199999999999998},null,9.2913435999999994,18.582687199999999]
[null,400,{"$f":"ROUND((0.001*VLOOKUP(B31,Sichtfeld!$A$29:$Y$124,8,FALSE)),3)","v":0.311},{"$f":"ROUND((0.001*VLOOKUP(B31,Sichtfeld!$A$29:$Y$124,9,FALSE)),3)","v":0.622},null,12.2441011,24.4882022]
[null,500,{"$f":"ROUND((0.001*VLOOKUP(B32,Sichtfeld!$A$29:$Y$124,8,FALSE)),3)","v":0.38600000000000001},{"$f":"ROUND((0.001*VLOOKUP(B32,Sichtfeld!$A$29:$Y$124,9,FALSE)),3)","v":0.77200000000000002},null,15.196858600000001,30.393717200000001]
[null,600,{"$f":"ROUND((0.001*VLOOKUP(B33,Sichtfeld!$A$29:$Y$124,8,FALSE)),3)","v":0.46100000000000002},{"$f":"ROUND((0.001*VLOOKUP(B33,Sichtfeld!$A$29:$Y$124,9,FALSE)),3)","v":0.92200000000000004},null,18.149616100000003,36.299232200000006]
[null,700,{"$f":"ROUND((0.001*VLOOKUP(B34,Sichtfeld!$A$29:$Y$124,8,FALSE)),3)","v":0.53600000000000003},{"$f":"ROUND((0.001*VLOOKUP(B34,Sichtfeld!$A$29:$Y$124,9,FALSE)),3)","v":1.0720000000000001},null,21.1023736,42.2047472]
[null,800,{"$f":"ROUND((0.001*VLOOKUP(B35,Sichtfeld!$A$29:$Y$124,8,FALSE)),3)","v":0.61099999999999999},{"$f":"ROUND((0.001*VLOOKUP(B35,Sichtfeld!$A$29:$Y$124,9,FALSE)),3)","v":1.222},null,24.055131100000001,48.110262200000001]
[null,900,{"$f":"ROUND((0.001*VLOOKUP(B36,Sichtfeld!$A$29:$Y$124,8,FALSE)),3)","v":0.68600000000000005},{"$f":"ROUND((0.001*VLOOKUP(B36,Sichtfeld!$A$29:$Y$124,9,FALSE)),3)","v":1.3720000000000001},null,27.007888600000001,54.015777200000002]
[null,1000,{"$f":"ROUND((0.001*VLOOKUP(B37,Sichtfeld!$A$29:$Y$124,8,FALSE)),3)","v":0.76100000000000001},{"$f":"ROUND((0.001*VLOOKUP(B37,Sichtfeld!$A$29:$Y$124,9,FALSE)),3)","v":1.522},null,29.960646100000002,59.921292200000003]
[null,null,null,null,null,null,null,null,null,null,null,null,"EN: Working Distance"]
[]
["8 mm"]
[null,"Arbeitsabstand, Bildfeldgröße"]
[]
[null,"Nutzabstand","Mindestbreite Modul 1D [µm]","Mindestbreite Modul 2D [µm]"]
[null,50,{"$f":"ROUND((0.001*VLOOKUP(B44,Sichtfeld!$A$29:$Y$124,16,FALSE)),3)","v":3.4000000000000002E-2},{"$f":"ROUND((0.001*VLOOKUP(B44,Sichtfeld!$A$29:$Y$124,17,FALSE)),3)","v":6.9000000000000006E-2}]
[null,60,{"$f":"ROUND((0.001*VLOOKUP(B45,Sichtfeld!$A$29:$Y$124,16,FALSE)),3)","v":0.04},{"$f":"ROUND((0.001*VLOOKUP(B45,Sichtfeld!$A$29:$Y$124,17,FALSE)),3)","v":0.08}]
[null,70,{"$f":"ROUND((0.001*VLOOKUP(B46,Sichtfeld!$A$29:$Y$124,16,FALSE)),3)","v":4.5999999999999999E-2},{"$f":"ROUND((0.001*VLOOKUP(B46,Sichtfeld!$A$29:$Y$124,17,FALSE)),3)","v":9.0999999999999998E-2}]
[null,80,{"$f":"ROUND((0.001*VLOOKUP(B47,Sichtfeld!$A$29:$Y$124,16,FALSE)),3)","v":5.0999999999999997E-2},{"$f":"ROUND((0.001*VLOOKUP(B47,Sichtfeld!$A$29:$Y$124,17,FALSE)),3)","v":0.10299999999999999}]
[null,90,{"$f":"ROUND((0.001*VLOOKUP(B48,Sichtfeld!$A$29:$Y$124,16,FALSE)),3)","v":5.7000000000000002E-2},{"$f":"ROUND((0.001*VLOOKUP(B48,Sichtfeld!$A$29:$Y$124,17,FALSE)),3)","v":0.114}]
[null,100,{"$f":"ROUND((0.001*VLOOKUP(B49,Sichtfeld!$A$29:$Y$124,16,FALSE)),3)","v":6.3E-2},{"$f":"ROUND((0.001*VLOOKUP(B49,Sichtfeld!$A$29:$Y$124,17,FALSE)),3)","v":0.125}]
[null,110,{"$f":"ROUND((0.001*VLOOKUP(B50,Sichtfeld!$A$29:$Y$124,16,FALSE)),3)","v":6.8000000000000005E-2},{"$f":"ROUND((0.001*VLOOKUP(B50,Sichtfeld!$A$29:$Y$124,17,FALSE)),3)","v":0.13700000000000001}]
[null,120,{"$f":"ROUND((0.001*VLOOKUP(B51,Sichtfeld!$A$29:$Y$124,16,FALSE)),3)","v":7.3999999999999996E-2},{"$f":"ROUND((0.001*VLOOKUP(B51,Sichtfeld!$A$29:$Y$124,17,FALSE)),3)","v":0.14799999999999999}]
[null,130,{"$f":"ROUND((0.001*VLOOKUP(B52,Sichtfeld!$A$29:$Y$124,16,FALSE)),3)","v":0.08},{"$f":"ROUND((0.001*VLOOKUP(B52,Sichtfeld!$A$29:$Y$124,17,FALSE)),3)","v":0.159}]
[null,140,{"$f":"ROUND((0.001*VLOOKUP(B53,Sichtfeld!$A$29:$Y$124,16,FALSE)),3)","v":8.5000000000000006E-2},{"$f":"ROUND((0.001*VLOOKUP(B53,Sichtfeld!$A$29:$Y$124,17,FALSE)),3)","v":0.17100000000000001}]
[null,150,{"$f":"ROUND((0.001*VLOOKUP(B54,Sichtfeld!$A$29:$Y$124,16,FALSE)),3)","v":9.0999999999999998E-2},{"$f":"ROUND((0.001*VLOOKUP(B54,Sichtfeld!$A$29:$Y$124,17,FALSE)),3)","v":0.182}]
[null,160,{"$f":"ROUND((0.001*VLOOKUP(B55,Sichtfeld!$A$29:$Y$124,16,FALSE)),3)","v":9.7000000000000003E-2},{"$f":"ROUND((0.001*VLOOKUP(B55,Sichtfeld!$A$29:$Y$124,17,FALSE)),3)","v":0.193}]
[null,170,{"$f":"ROUND((0.001*VLOOKUP(B56,Sichtfeld!$A$29:$Y$124,16,FALSE)),3)","v":0.10199999999999999},{"$f":"ROUND((0.001*VLOOKUP(B56,Sichtfeld!$A$29:$Y$124,17,FALSE)),3)","v":0.20399999999999999}]
[null,180,{"$f":"ROUND((0.001*VLOOKUP(B57,Sichtfeld!$A$29:$Y$124,16,FALSE)),3)","v":0.108},{"$f":"ROUND((0.001*VLOOKUP(B57,Sichtfeld!$A$29:$Y$124,17,FALSE)),3)","v":0.216}]
[null,190,{"$f":"ROUND((0.001*VLOOKUP(B58,Sichtfeld!$A$29:$Y$124,16,FALSE)),3)","v":0.113},{"$f":"ROUND((0.001*VLOOKUP(B58,Sichtfeld!$A$29:$Y$124,17,FALSE)),3)","v":0.22700000000000001}]
[null,200,{"$f":"ROUND((0.001*VLOOKUP(B59,Sichtfeld!$A$29:$Y$124,16,FALSE)),3)","v":0.11899999999999999},{"$f":"ROUND((0.001*VLOOKUP(B59,Sichtfeld!$A$29:$Y$124,17,FALSE)),3)","v":0.23799999999999999}]
[null,210,{"$f":"ROUND((0.001*VLOOKUP(B60,Sichtfeld!$A$29:$Y$124,16,FALSE)),3)","v":0.125},{"$f":"ROUND((0.001*VLOOKUP(B60,Sichtfeld!$A$29:$Y$124,17,FALSE)),3)","v":0.25}]
[null,220,{"$f":"ROUND((0.001*VLOOKUP(B61,Sichtfeld!$A$29:$Y$124,16,FALSE)),3)","v":0.13},{"$f":"ROUND((0.001*VLOOKUP(B61,Sichtfeld!$A$29:$Y$124,17,FALSE)),3)","v":0.26100000000000001}]
[null,230,{"$f":"ROUND((0.001*VLOOKUP(B62,Sichtfeld!$A$29:$Y$124,16,FALSE)),3)","v":0.13600000000000001},{"$f":"ROUND((0.001*VLOOKUP(B62,Sichtfeld!$A$29:$Y$124,17,FALSE)),3)","v":0.27200000000000002}]
[null,240,{"$f":"ROUND((0.001*VLOOKUP(B63,Sichtfeld!$A$29:$Y$124,16,FALSE)),3)","v":0.14199999999999999},{"$f":"ROUND((0.001*VLOOKUP(B63,Sichtfeld!$A$29:$Y$124,17,FALSE)),3)","v":0.28299999999999997}]
[null,250,{"$f":"ROUND((0.001*VLOOKUP(B64,Sichtfeld!$A$29:$Y$124,16,FALSE)),3)","v":0.14699999999999999},{"$f":"ROUND((0.001*VLOOKUP(B64,Sichtfeld!$A$29:$Y$124,17,FALSE)),3)","v":0.29499999999999998}]
[null,260,{"$f":"ROUND((0.001*VLOOKUP(B65,Sichtfeld!$A$29:$Y$124,16,FALSE)),3)","v":0.153},{"$f":"ROUND((0.001*VLOOKUP(B65,Sichtfeld!$A$29:$Y$124,17,FALSE)),3)","v":0.30599999999999999}]
[null,270,{"$f":"ROUND((0.001*VLOOKUP(B66,Sichtfeld!$A$29:$Y$124,16,FALSE)),3)","v":0.159},{"$f":"ROUND((0.001*VLOOKUP(B66,Sichtfeld!$A$29:$Y$124,17,FALSE)),3)","v":0.317}]
[null,280,{"$f":"ROUND((0.001*VLOOKUP(B67,Sichtfeld!$A$29:$Y$124,16,FALSE)),3)","v":0.16400000000000001},{"$f":"ROUND((0.001*VLOOKUP(B67,Sichtfeld!$A$29:$Y$124,17,FALSE)),3)","v":0.32800000000000001}]
[null,290,{"$f":"ROUND((0.001*VLOOKUP(B68,Sichtfeld!$A$29:$Y$124,16,FALSE)),3)","v":0.17},{"$f":"ROUND((0.001*VLOOKUP(B68,Sichtfeld!$A$29:$Y$124,17,FALSE)),3)","v":0.34}]
[null,300,{"$f":"ROUND((0.001*VLOOKUP(B69,Sichtfeld!$A$29:$Y$124,16,FALSE)),3)","v":0.17499999999999999},{"$f":"ROUND((0.001*VLOOKUP(B69,Sichtfeld!$A$29:$Y$124,17,FALSE)),3)","v":0.35099999999999998}]
[null,400,{"$f":"ROUND((0.001*VLOOKUP(B70,Sichtfeld!$A$29:$Y$124,16,FALSE)),3)","v":0.23200000000000001},{"$f":"ROUND((0.001*VLOOKUP(B70,Sichtfeld!$A$29:$Y$124,17,FALSE)),3)","v":0.46300000000000002}]
[null,500,{"$f":"ROUND((0.001*VLOOKUP(B71,Sichtfeld!$A$29:$Y$124,16,FALSE)),3)","v":0.28799999999999998},{"$f":"ROUND((0.001*VLOOKUP(B71,Sichtfeld!$A$29:$Y$124,17,FALSE)),3)","v":0.57599999999999996}]
[null,600,{"$f":"ROUND((0.001*VLOOKUP(B72,Sichtfeld!$A$29:$Y$124,16,FALSE)),3)","v":0.34399999999999997},{"$f":"ROUND((0.001*VLOOKUP(B72,Sichtfeld!$A$29:$Y$124,17,FALSE)),3)","v":0.68799999999999994}]
[null,700,{"$f":"ROUND((0.001*VLOOKUP(B73,Sichtfeld!$A$29:$Y$124,16,FALSE)),3)","v":0.4},{"$f":"ROUND((0.001*VLOOKUP(B73,Sichtfeld!$A$29:$Y$124,17,FALSE)),3)","v":0.80100000000000005}]
[null,800,{"$f":"ROUND((0.001*VLOOKUP(B74,Sichtfeld!$A$29:$Y$124,16,FALSE)),3)","v":0.45700000000000002},{"$f":"ROUND((0.001*VLOOKUP(B74,Sichtfeld!$A$29:$Y$124,17,FALSE)),3)","v":0.91400000000000003}]
[null,900,{"$f":"ROUND((0.001*VLOOKUP(B75,Sichtfeld!$A$29:$Y$124,16,FALSE)),3)","v":0.51300000000000001},{"$f":"ROUND((0.001*VLOOKUP(B75,Sichtfeld!$A$29:$Y$124,17,FALSE)),3)","v":1.026}]
[null,1000,{"$f":"ROUND((0.001*VLOOKUP(B76,Sichtfeld!$A$29:$Y$124,16,FALSE)),3)","v":0.56899999999999995},{"$f":"ROUND((0.001*VLOOKUP(B76,Sichtfeld!$A$29:$Y$124,17,FALSE)),3)","v":1.139}]
[]
[]
["16 mm"]
[null,"Arbeitsabstand, Bildfeldgröße"]
[]
[null,"Nutzabstand","Mindestbreite Modul 1D [µm]","Mindestbreite Modul 2D [µm]"]
[null,100,{"$f":"ROUND((0.001*VLOOKUP(B83,Sichtfeld!$A$29:$Y$124,24,FALSE)),3)","v":2.8000000000000001E-2},{"$f":"ROUND((0.001*VLOOKUP(B83,Sichtfeld!$A$29:$Y$124,25,FALSE)),3)","v":5.6000000000000001E-2}]
[null,{"$f":"B83+10","v":110},{"$f":"ROUND((0.001*VLOOKUP(B84,Sichtfeld!$A$29:$Y$124,24,FALSE)),3)","v":3.1E-2},{"$f":"ROUND((0.001*VLOOKUP(B84,Sichtfeld!$A$29:$Y$124,25,FALSE)),3)","v":6.2E-2}]
[null,{"$f":"B84+10","v":120},{"$f":"ROUND((0.001*VLOOKUP(B85,Sichtfeld!$A$29:$Y$124,24,FALSE)),3)","v":3.4000000000000002E-2},{"$f":"ROUND((0.001*VLOOKUP(B85,Sichtfeld!$A$29:$Y$124,25,FALSE)),3)","v":6.7000000000000004E-2}]
[null,130,{"$f":"ROUND((0.001*VLOOKUP(B86,Sichtfeld!$A$29:$Y$124,24,FALSE)),3)","v":3.5999999999999997E-2},{"$f":"ROUND((0.001*VLOOKUP(B86,Sichtfeld!$A$29:$Y$124,25,FALSE)),3)","v":7.2999999999999995E-2}]
[null,140,{"$f":"ROUND((0.001*VLOOKUP(B87,Sichtfeld!$A$29:$Y$124,24,FALSE)),3)","v":3.9E-2},{"$f":"ROUND((0.001*VLOOKUP(B87,Sichtfeld!$A$29:$Y$124,25,FALSE)),3)","v":7.9000000000000001E-2}]
[null,150,{"$f":"ROUND((0.001*VLOOKUP(B88,Sichtfeld!$A$29:$Y$124,24,FALSE)),3)","v":4.2000000000000003E-2},{"$f":"ROUND((0.001*VLOOKUP(B88,Sichtfeld!$A$29:$Y$124,25,FALSE)),3)","v":8.4000000000000005E-2}]
[null,160,{"$f":"ROUND((0.001*VLOOKUP(B89,Sichtfeld!$A$29:$Y$124,24,FALSE)),3)","v":4.4999999999999998E-2},{"$f":"ROUND((0.001*VLOOKUP(B89,Sichtfeld!$A$29:$Y$124,25,FALSE)),3)","v":0.09}]
[null,170,{"$f":"ROUND((0.001*VLOOKUP(B90,Sichtfeld!$A$29:$Y$124,24,FALSE)),3)","v":4.8000000000000001E-2},{"$f":"ROUND((0.001*VLOOKUP(B90,Sichtfeld!$A$29:$Y$124,25,FALSE)),3)","v":9.6000000000000002E-2}]
[null,180,{"$f":"ROUND((0.001*VLOOKUP(B91,Sichtfeld!$A$29:$Y$124,24,FALSE)),3)","v":5.0999999999999997E-2},{"$f":"ROUND((0.001*VLOOKUP(B91,Sichtfeld!$A$29:$Y$124,25,FALSE)),3)","v":0.10100000000000001}]
[null,190,{"$f":"ROUND((0.001*VLOOKUP(B92,Sichtfeld!$A$29:$Y$124,24,FALSE)),3)","v":5.3999999999999999E-2},{"$f":"ROUND((0.001*VLOOKUP(B92,Sichtfeld!$A$29:$Y$124,25,FALSE)),3)","v":0.107}]
[null,200,{"$f":"ROUND((0.001*VLOOKUP(B93,Sichtfeld!$A$29:$Y$124,24,FALSE)),3)","v":5.6000000000000001E-2},{"$f":"ROUND((0.001*VLOOKUP(B93,Sichtfeld!$A$29:$Y$124,25,FALSE)),3)","v":0.113}]
[null,210,{"$f":"ROUND((0.001*VLOOKUP(B94,Sichtfeld!$A$29:$Y$124,24,FALSE)),3)","v":5.8999999999999997E-2},{"$f":"ROUND((0.001*VLOOKUP(B94,Sichtfeld!$A$29:$Y$124,25,FALSE)),3)","v":0.11799999999999999}]
[null,220,{"$f":"ROUND((0.001*VLOOKUP(B95,Sichtfeld!$A$29:$Y$124,24,FALSE)),3)","v":6.2E-2},{"$f":"ROUND((0.001*VLOOKUP(B95,Sichtfeld!$A$29:$Y$124,25,FALSE)),3)","v":0.124}]
[null,230,{"$f":"ROUND((0.001*VLOOKUP(B96,Sichtfeld!$A$29:$Y$124,24,FALSE)),3)","v":6.5000000000000002E-2},{"$f":"ROUND((0.001*VLOOKUP(B96,Sichtfeld!$A$29:$Y$124,25,FALSE)),3)","v":0.13}]
[null,240,{"$f":"ROUND((0.001*VLOOKUP(B97,Sichtfeld!$A$29:$Y$124,24,FALSE)),3)","v":6.8000000000000005E-2},{"$f":"ROUND((0.001*VLOOKUP(B97,Sichtfeld!$A$29:$Y$124,25,FALSE)),3)","v":0.13500000000000001}]
[null,{"$f":"B97+10","v":250},{"$f":"ROUND((0.001*VLOOKUP(B98,Sichtfeld!$A$29:$Y$124,24,FALSE)),3)","v":7.0999999999999994E-2},{"$f":"ROUND((0.001*VLOOKUP(B98,Sichtfeld!$A$29:$Y$124,25,FALSE)),3)","v":0.14099999999999999}]
[null,{"$f":"B98+50","v":300},{"$f":"ROUND((0.001*VLOOKUP(B99,Sichtfeld!$A$29:$Y$124,24,FALSE)),3)","v":8.5000000000000006E-2},{"$f":"ROUND((0.001*VLOOKUP(B99,Sichtfeld!$A$29:$Y$124,25,FALSE)),3)","v":0.16900000000000001}]
[null,350,{"$f":"ROUND((0.001*VLOOKUP(B100,Sichtfeld!$A$29:$Y$124,24,FALSE)),3)","v":9.9000000000000005E-2},{"$f":"ROUND((0.001*VLOOKUP(B100,Sichtfeld!$A$29:$Y$124,25,FALSE)),3)","v":0.19700000000000001}]
[null,400,{"$f":"ROUND((0.001*VLOOKUP(B101,Sichtfeld!$A$29:$Y$124,24,FALSE)),3)","v":0.113},{"$f":"ROUND((0.001*VLOOKUP(B101,Sichtfeld!$A$29:$Y$124,25,FALSE)),3)","v":0.22600000000000001}]
[null,450,{"$f":"ROUND((0.001*VLOOKUP(B102,Sichtfeld!$A$29:$Y$124,24,FALSE)),3)","v":0.127},{"$f":"ROUND((0.001*VLOOKUP(B102,Sichtfeld!$A$29:$Y$124,25,FALSE)),3)","v":0.254}]
[null,500,{"$f":"ROUND((0.001*VLOOKUP(B103,Sichtfeld!$A$29:$Y$124,24,FALSE)),3)","v":0.14099999999999999},{"$f":"ROUND((0.001*VLOOKUP(B103,Sichtfeld!$A$29:$Y$124,25,FALSE)),3)","v":0.28199999999999997}]
[null,550,{"$f":"ROUND((0.001*VLOOKUP(B104,Sichtfeld!$A$29:$Y$124,24,FALSE)),3)","v":0.155},{"$f":"ROUND((0.001*VLOOKUP(B104,Sichtfeld!$A$29:$Y$124,25,FALSE)),3)","v":0.31}]
[null,600,{"$f":"ROUND((0.001*VLOOKUP(B105,Sichtfeld!$A$29:$Y$124,24,FALSE)),3)","v":0.16900000000000001},{"$f":"ROUND((0.001*VLOOKUP(B105,Sichtfeld!$A$29:$Y$124,25,FALSE)),3)","v":0.33800000000000002}]
[null,650,{"$f":"ROUND((0.001*VLOOKUP(B106,Sichtfeld!$A$29:$Y$124,24,FALSE)),3)","v":0.183},{"$f":"ROUND((0.001*VLOOKUP(B106,Sichtfeld!$A$29:$Y$124,25,FALSE)),3)","v":0.36599999999999999}]
[null,700,{"$f":"ROUND((0.001*VLOOKUP(B107,Sichtfeld!$A$29:$Y$124,24,FALSE)),3)","v":0.19700000000000001},{"$f":"ROUND((0.001*VLOOKUP(B107,Sichtfeld!$A$29:$Y$124,25,FALSE)),3)","v":0.39500000000000002}]
[null,750,{"$f":"ROUND((0.001*VLOOKUP(B108,Sichtfeld!$A$29:$Y$124,24,FALSE)),3)","v":0.21099999999999999},{"$f":"ROUND((0.001*VLOOKUP(B108,Sichtfeld!$A$29:$Y$124,25,FALSE)),3)","v":0.42299999999999999}]
[null,800,{"$f":"ROUND((0.001*VLOOKUP(B109,Sichtfeld!$A$29:$Y$124,24,FALSE)),3)","v":0.22500000000000001},{"$f":"ROUND((0.001*VLOOKUP(B109,Sichtfeld!$A$29:$Y$124,25,FALSE)),3)","v":0.45100000000000001}]
[null,850,{"$f":"ROUND((0.001*VLOOKUP(B110,Sichtfeld!$A$29:$Y$124,24,FALSE)),3)","v":0.23899999999999999},{"$f":"ROUND((0.001*VLOOKUP(B110,Sichtfeld!$A$29:$Y$124,25,FALSE)),3)","v":0.47899999999999998}]
[null,900,{"$f":"ROUND((0.001*VLOOKUP(B111,Sichtfeld!$A$29:$Y$124,24,FALSE)),3)","v":0.254},{"$f":"ROUND((0.001*VLOOKUP(B111,Sichtfeld!$A$29:$Y$124,25,FALSE)),3)","v":0.50700000000000001}]
[null,950,{"$f":"ROUND((0.001*VLOOKUP(B112,Sichtfeld!$A$29:$Y$124,24,FALSE)),3)","v":0.26800000000000002},{"$f":"ROUND((0.001*VLOOKUP(B112,Sichtfeld!$A$29:$Y$124,25,FALSE)),3)","v":0.53500000000000003}]
[null,1000,{"$f":"ROUND((0.001*VLOOKUP(B113,Sichtfeld!$A$29:$Y$124,24,FALSE)),3)","v":0.28199999999999997},{"$f":"ROUND((0.001*VLOOKUP(B113,Sichtfeld!$A$29:$Y$124,25,FALSE)),3)","v":0.56299999999999994}]

{"sheet":"Schärfentiefe","index":5,"n_rows":154,"n_cols":29,"rows_kept":154,"cut":false,"hidden":true,"merged":[[20,27,20,28],[20,6,20,7],[20,15,20,16],[20,25,20,26],[20,8,20,9],[20,17,20,18]]}
[{"$f":"Sichtfeld!A4","v":"Abstand Gehäusefront zu Sensor [mm]"},null,{"$f":"Sichtfeld!C4","v":34},null,"siehe auch \"\\\\emea.baumernet.org\\de04d\\Projekte\\34600180_Plattform_Stage_3\\3_kon\\Autofokus\\Berechnung_Schärfe.xlsx\""]
[{"$f":"Sichtfeld!A5","v":"Sensorbreite [mm]"}]
[{"$f":"Sichtfeld!A6","v":"Sensorhöhe [mm]"}]
[{"$f":"Sichtfeld!A7","v":"Min. Breite Modul 1D-Code [px]"}]
[{"$f":"Sichtfeld!A8","v":"Min. Breite Modul 2D-Code [px]"}]
[]
[{"$f":"Sichtfeld!A10","v":"Hersteller"},null,{"$f":"Sichtfeld!C10","v":"YTOT"},null,null,null,null,null,null,null,null,{"$f":"Sichtfeld!K10","v":"YTOT"},null,null,null,null,null,null,null,null,null,{"$f":"Sichtfeld!S10","v":"EVETAR"}]
[{"$f":"Sichtfeld!A11","v":"Objektiv"},null,{"$f":"Sichtfeld!C11","v":"YT1028-2MP"},null,null,null,null,null,null,null,null,{"$f":"Sichtfeld!K11","v":"YT10051-2MP"},null,null,null,null,null,null,null,null,null,{"$f":"Sichtfeld!S11","v":"M13B1618IRM12R1"}]
[{"$f":"Sichtfeld!A12","v":"Daten allg."},null,{"$f":"Sichtfeld!C12","v":"\\\\emea.baumernet.org\\de04d\\Projekte\\34600180_Plattform_Stage_3\\3_kon\\01_Optik\\3_Objektive_YTOT\\Datenblätter\\YT1028-2MP.pdf"},null,null,null,null,null,null,null,null,{"$f":"Sichtfeld!K12","v":"\\\\emea.baumernet.org\\de04d\\Projekte\\34600180_Plattform_Stage_3\\3_kon\\01_Optik\\3_Objektive_YTOT\\Datenblätter\\YT10051-2MP.pdf"},null,null,null,null,null,null,null,null,null,{"$f":"Sichtfeld!S12","v":" "}]
[{"$f":"Sichtfeld!A13","v":"Daten H1/H2"},null,{"$f":"Sichtfeld!C13","v":"\\\\emea.baumernet.org\\de04d\\Projekte\\34600180_Plattform_Stage_3\\3_kon\\01_Optik\\3_Objektive_YTOT\\Datenblätter\\YT10028_H1H2.pdf"},null,null,null,null,null,null,null,null,{"$f":"Sichtfeld!K13","v":"\\\\emea.baumernet.org\\de04d\\Projekte\\34600180_Plattform_Stage_3\\3_kon\\01_Optik\\3_Objektive_YTOT\\Datenblätter\\YT10051_H1H2.pdf"},null,null,null,null,null,null,null,null,null,{"$f":"Sichtfeld!S13","v":"\\\\emea.baumernet.org\\de04d\\Projekte\\34600180_Plattform_Stage_3\\3_kon\\01_Optik\\2_Objektive_Evetar\\Datenblätter\\16mmF1,8_11162414.pdf"}]
[{"$f":"Sichtfeld!A14","v":"Brennweite f [mm]"},null,{"$f":"Sichtfeld!C14","v":6},null,null,null,null,null,null,null,null,{"$f":"Sichtfeld!K14","v":8},null,null,null,null,null,null,null,null,null,{"$f":"Sichtfeld!S14","v":16}]
["Blende",null,3.5,null,null,null,null,null,null,null,null,3.5,null,null,null,null,null,null,null,null,null,1.8]
["ø Zerstreuungskreis Code lesen [µm]",null,9,null,null,null,null,null,null,null,null,9,null,null,null,null,null,null,null,null,null,9]
[{"$f":"Sichtfeld!A15","v":"Hauptebene 1 [mm]"},null,{"$f":"Sichtfeld!C15","v":9.02},null,null,null,null,null,null,null,null,{"$f":"Sichtfeld!K15","v":8.2799999999999976},null,null,null,null,null,null,null,null,null,{"$f":"Sichtfeld!S15","v":5.8500000000000014}]
[{"$f":"Sichtfeld!A16","v":"Hauptebene 2 [mm]"},null,{"$f":"Sichtfeld!C16","v":16.37},null,null,null,null,null,null,null,null,{"$f":"Sichtfeld!K16","v":14.109999999999998},null,null,null,null,null,null,null,null,null,{"$f":"Sichtfeld!S16","v":9.67}]
[{"$f":"Sichtfeld!A17","v":"Bildebene [mm]"},null,{"$f":"Sichtfeld!C17","v":22.2},null,null,null,null,null,null,null,null,{"$f":"Sichtfeld!K17","v":22.2},null,null,null,null,null,null,null,null,null,{"$f":"Sichtfeld!S17","v":22.14}]
[{"$f":"Sichtfeld!A18","v":"Position Front Objektiv bei unendlich"},null,{"$f":"Sichtfeld!C18","v":22.2},null,null,null,null,null,null,null,null,{"$f":"Sichtfeld!K18","v":22.2},null,null,null,null,null,null,null,null,null,{"$f":"Sichtfeld!S18","v":22.14}]
[{"$f":"Sichtfeld!A19","v":"Abstand Gehäusefront zu H1 bei unendlich => g_i [mm]"},null,{"$f":"Sichtfeld!C19","v":20.82},null,null,null,null,null,null,null,null,{"$f":"Sichtfeld!K19","v":20.079999999999998},null,null,null,null,null,null,null,null,null,{"$f":"Sichtfeld!S19","v":17.71}]
[{"$f":"Sichtfeld!A20","v":"x_max [mm]"},null,{"$f":"Sichtfeld!C20","v":2.6},null,null,null,null,null,null,null,null,{"$f":"Sichtfeld!K20","v":2.6},null,null,null,null,null,null,null,null,null,{"$f":"Sichtfeld!S20","v":2.6}]
[]
[null,null,null,null,null,null,"Schärfentiefe",null,"Schärfentiefe",null,null,null,null,null,null,"Schärfentiefe",null,"Schärfentiefe",null,null,null,null,null,null,null,"Schärfentiefe",null,"Schärfentiefe"]
[{"$f":"Sichtfeld!A23","v":"Nutzabstand g_a [mm]"},null,{"$f":"Sichtfeld!D23","v":"x"},{"$f":"Sichtfeld!E23","v":"beta"},"k eff.","g","nah","fern","nah","fern",null,{"$f":"Sichtfeld!L23","v":"x"},{"$f":"Sichtfeld!M23","v":"beta"},"k eff.","g","nah","fern","nah","fern",null,null,{"$f":"Sichtfeld!T23","v":"x"},{"$f":"Sichtfeld!U23","v":"beta"},"k eff.","g","nah","fern","nah","fern"]
[{"$f":"Sichtfeld!A24","v":0},null,null,{"$f":"Sichtfeld!E24","v":""},null,null,null,null,null,null,null,null,{"$f":"Sichtfeld!M24","v":""},null,null,null,null,null,null,null,null,null,{"$f":"Sichtfeld!U24","v":""}]
[{"$f":"Sichtfeld!A25","v":10}]
[{"$f":"Sichtfeld!A26","v":20}]
[{"$f":"Sichtfeld!A27","v":30}]
[{"$f":"Sichtfeld!A28","v":40}]
[50,null,{"$f":"Sichtfeld!D29","v":0.5602260604568805},{"$f":"Sichtfeld!E29","v":9.3371010076146871E-2},{"$f":"C$12*(1+D28)","v":3.8267985352665139},{"$f":"$A28+C$18-C28","v":70.259773939543109},{"$f":"(F28*C$11^2/(C$11^2+E28*C$13/1000*(F28-C$11))-(C$18-C28))/$A28-1","v":-8.1384337580102217E-2},{"$f":"(F28*C$11^2/(C$11^2-E28*C$13/1000*(F28-C$11))-(C$18-C28))/$A28-1","v":9.2046390884162665E-2},{"$f":"($A28*G28)+$A28","v":45.930783120994889},{"$f":"IF((($A28*H28)+$A28)>1500,1500,($A28*H28)+$A28)","v":54.602319544208136},null,{"$f":"Sichtfeld!L29","v":1.0486412445184463},{"$f":"Sichtfeld!M29","v":0.1310801555648059},{"$f":"L$12*(1+M28)","v":3.95878054447682},{"$f":"$A28+L$18-L28","v":69.031358755481548},{"$f":"(O28*L$11^2/(L$11^2+N28*L$13/1000*(O28-L$11))-(L$18-L28))/$A28-1","v":-4.5367286540439977E-2},{"$f":"(O28*L$11^2/(L$11^2-N28*L$13/1000*(O28-L$11))-(L$18-L28))/$A28-1","v":4.8558545541081299E-2},{"$f":"($A28*P28)+$A28","v":47.731635672978001},{"$f":"IF((($A28*Q28)+$A28)>1500,1500,($A28*Q28)+$A28)","v":52.427927277054067}]
[{"$f":"Sichtfeld!A30","v":60},null,{"$f":"Sichtfeld!D30","v":0.48428944488677672},{"$f":"Sichtfeld!E30","v":8.071490748112968E-2},3.7825021761839541,{"$f":"$A29+C$18-C29","v":80.335710555113224},{"$f":"(F29*C$11^2/(C$11^2+E29*C$13/1000*(F29-C$11))-(C$18-C29))/$A29-1","v":-8.793688818013079E-2},{"$f":"(F29*C$11^2/(C$11^2-E29*C$13/1000*(F29-C$11))-(C$18-C29))/$A29-1","v":0.10123445033970202},{"$f":"($A29*G29)+$A29","v":54.723786709192154},{"$f":"IF((($A29*H29)+$A29)>1500,1500,($A29*H29)+$A29)","v":66.074067020382117},null,{"$f":"Sichtfeld!L30","v":0.89911782552976405},{"$f":"Sichtfeld!M30","v":0.11238972819122046},3.8933640486692718,{"$f":"$A29+L$18-L29","v":79.180882174470241},{"$f":"(O29*L$11^2/(L$11^2+N29*L$13/1000*(O29-L$11))-(L$18-L29))/$A29-1","v":-4.9501256695833384E-2},{"$f":"(O29*L$11^2/(L$11^2-N29*L$13/1000*(O29-L$11))-(L$18-L29))/$A29-1","v":5.3516029954263411E-2},{"$f":"($A29*P29)+$A29","v":57.029924598249998},{"$f":"IF((($A29*Q29)+$A29)>1500,1500,($A29*Q29)+$A29)","v":63.210961797255806}]
[{"$f":"Sichtfeld!A31","v":70},null,{"$f":"Sichtfeld!D31","v":0.42657350810917904},{"$f":"Sichtfeld!E31","v":7.1095584684863197E-2},3.748834546397021,90.393426491890807,-9.4650809773138223E-2,0.1109094434582476,63.374443315880328,77.763661042077331,null,{"$f":"Sichtfeld!L31","v":0.78727835288649572},{"$f":"Sichtfeld!M31","v":9.8409794110812118E-2},3.8444342793878428,89.292721647113495,-5.3701383857951313E-2,5.8638586410993288E-2,66.240903129943405,74.104701048769527]
[{"$f":"Sichtfeld!A32","v":80},null,{"$f":"Sichtfeld!D32","v":0.38119924982139253},{"$f":"Sichtfeld!E32","v":6.3533208303565347E-2},3.7223662290624788,100.4388007501786,-0.10142348597696615,0.12096814072438566,71.886121121842706,89.67745125795085,null,{"$f":"Sichtfeld!L32","v":0.70037494641138665},{"$f":"Sichtfeld!M32","v":8.7546868301423678E-2},3.8064140390549834,99.379625053588612,-5.7928950859140294E-2,6.3887404076077514E-2,75.365683931268777,85.110992326086205]
[{"$f":"Sichtfeld!A33","v":90},null,{"$f":"Sichtfeld!D33","v":0.34457865339030747},{"$f":"Sichtfeld!E33","v":5.7429775565051619E-2},3.7010042144776811,110.47542134660969,-0.10819881393096376,0.13135557718852531,80.262106746213263,101.82200194696728,null,{"$f":"Sichtfeld!L33","v":0.63085797199083515},{"$f":"Sichtfeld!M33","v":7.8857246498854325E-2},3.7760003627459904,109.44914202800916,-6.2162140084663697E-2,6.9240747905632949E-2,84.405407392380269,96.231667311506968]
[{"$f":"Sichtfeld!A34","v":100},null,{"$f":"Sichtfeld!D34","v":0.31439509033992152},{"$f":"Sichtfeld!E34","v":5.2399181723320337E-2},3.6833971360316209,120.50560490966006,-0.11494403203127812,0.142041169555017,88.505596796872183,114.2041169555017,null,{"$f":"Sichtfeld!L34","v":0.57395993943681134},{"$f":"Sichtfeld!M34","v":7.1744992429601945E-2},3.7511074735036063,119.50604006056318,-6.6387820368086103E-2,7.4685675820265862E-2,93.361217963191393,107.46856758202658,null,null,{"$f":"Sichtfeld!T34","v":2.5825334688603263},{"$f":"Sichtfeld!U34","v":0.16140834180377037},{"$f":"V$12*(1+W33)","v":2.090535015246787},{"$f":"$A33+V$18-V33","v":115.12746653113967},{"$f":"(Y33*V$11^2/(V$11^2+X33*V$13/1000*(Y33-V$11))-(V$18-V33))/$A33-1","v":-8.3268434808403402E-3},{"$f":"(Y33*V$11^2/(V$11^2-X33*V$13/1000*(Y33-V$11))-(V$18-V33))/$A33-1","v":8.4490628363385056E-3},{"$f":"($A33*Z33)+$A33","v":99.16731565191597},{"$f":"IF((($A33*AA33)+$A33)>1500,1500,($A33*AA33)+$A33)","v":100.84490628363385}]
[{"$f":"Sichtfeld!A35","v":110},null,{"$f":"Sichtfeld!D35","v":0.28908484254276345},{"$f":"Sichtfeld!E35","v":4.8180807090460888E-2},3.6686328248166129,130.53091515745723,-0.12163913073977251,0.15300780739749142,96.61969561862503,126.83085881372406,null,{"$f":"Sichtfeld!L35","v":0.52651720484103492},{"$f":"Sichtfeld!M35","v":6.5814650605129449E-2},3.7303512771179528,129.55348279515894,-7.0597698667493103E-2,8.0214157048366097E-2,102.23425314657575,118.82355727532027,null,null,{"$f":"Sichtfeld!T35","v":2.3406932680614858},{"$f":"Sichtfeld!U35","v":0.14629332925384275},2.0633279926569172,125.36930673193852,-8.9708360885669691E-3,9.1143151138322054E-3,109.01320803025763,111.00257466252154]
[{"$f":"Sichtfeld!A36","v":120},null,{"$f":"Sichtfeld!D36","v":0.26755366387072854},{"$f":"Sichtfeld!E36","v":4.4592277311786943E-2},3.6560729705912545,140.55244633612926,-0.12827153504107325,0.1642463800316063,104.6074157950712,139.70956560379275,null,{"$f":"Sichtfeld!L36","v":0.48634563962127686},{"$f":"Sichtfeld!M36","v":6.0793204952659954E-2},3.7127762173343104,139.59365436037871,-7.4786349883326997E-2,8.5821084718913143E-2,111.02563801400076,130.29853016626959,null,null,{"$f":"Sichtfeld!T36","v":2.1410235974431728},{"$f":"Sichtfeld!U36","v":0.13381397484019825},2.0408651547123569,135.56897640255684,-9.6095826608058044E-3,9.7758901334681347E-3,118.84685008070331,121.17310681601617]
[{"$f":"Sichtfeld!A37","v":130},null,{"$f":"Sichtfeld!D37","v":0.24901261762003912},{"$f":"Sichtfeld!E37","v":4.1502102936673099E-2},3.645257360278356,150.57098738237994,-0.13483323122993163,0.17575282412404714,112.47167994010888,152.84786713612613,null,{"$f":"Sichtfeld!L37","v":0.45188768638163879},{"$f":"Sichtfeld!M37","v":5.6485960797704945E-2},3.697700862791967,149.62811231361835,-7.8950135648371611E-2,9.1503185212377991E-2,119.73648236571169,141.89541407760913,null,null,{"$f":"Sichtfeld!T37","v":1.9732261908766304},{"$f":"Sichtfeld!U37","v":0.12332663692978961},2.0219879464736215,145.73677380912338,-1.0244319527787704E-2,1.0435032895472762E-2,128.6682384613876,131.35655427641146]
[{"$f":"Sichtfeld!A38","v":140},null,{"$f":"Sichtfeld!D38","v":0.23287839003063482},{"$f":"Sichtfeld!E38","v":3.8813065005106194E-2},3.6358457275178715,160.58712160996936,-0.14131912069968222,0.18752643708056804,120.21532310204449,166.25370119127953,null,{"$f":"Sichtfeld!L38","v":0.42200214234709676},{"$f":"Sichtfeld!M38","v":5.275026779338636E-2},3.6846259372768526,159.6579978576529,-8.3086576771136733E-2,9.7258385207487974E-2,128.36787925204086,153.61617392904833,null,null,{"$f":"Sichtfeld!T38","v":1.8301419776903884},{"$f":"Sichtfeld!U38","v":0.11438387360564908},2.0058909724901683,155.87985802230963,-1.0875870030010892E-2,1.1092572730650785E-2,138.47737819579848,141.55296018229112]
[{"$f":"Sichtfeld!A39","v":150},null,{"$f":"Sichtfeld!D39","v":0.21871031550848841},{"$f":"Sichtfeld!E39","v":3.6451719251415479E-2},3.6275810173799545,170.60128968449152,-0.14772603035835152,0.19956886826334475,127.84109544624727,179.93533023950172,null,{"$f":"Sichtfeld!L39","v":0.39583344097354711},{"$f":"Sichtfeld!M39","v":4.9479180121693722E-2},3.6731771304259286,169.68416655902644,-8.719397175829835E-2,0.10308542703526058,136.92090423625524,165.46281405528907,null,null,{"$f":"Sichtfeld!T39","v":1.7066283051340321},{"$f":"Sichtfeld!U39","v":0.10666426907087725},1.991995684327579,166.00337169486596,-1.1504802938467451E-2,1.1749082701846492E-2,148.27427955922988,151.76236240527697]
[{"$f":"Sichtfeld!A40","v":160},null,{"$f":"Sichtfeld!D40","v":0.20616923552039168},{"$f":"Sichtfeld!E40","v":3.4361539253398792E-2},3.6202653873868953,180.61383076447959,-0.15405209347996274,0.21188349306681542,135.35166504320597,193.90135889069046,null,{"$f":"Sichtfeld!L40","v":0.37272736919891258},{"$f":"Sichtfeld!M40","v":4.6590921149864815E-2},3.6630682240245265,179.70727263080107,-9.1271155749944155E-2,0.10898362573898379,145.39661508000893,177.4373801182374,null,null,{"$f":"Sichtfeld!T40","v":1.5988896677360316},{"$f":"Sichtfeld!U40","v":9.9930604233501738E-2},1.9798750876203033,176.11111033226399,-1.213152338345469E-2,1.2404971111914742E-2,158.05895625864724,161.98479537790635]
[{"$f":"Sichtfeld!A41","v":170},null,{"$f":"Sichtfeld!D41","v":0.19498983354174015},{"$f":"Sichtfeld!E41","v":3.2498305590290218E-2},3.6137440695660161,190.62501016645825,-0.16029634900566436,0.22447501324063102,142.74962066903706,208.16075225090728,null,{"$f":"Sichtfeld!L41","v":0.35217501781178839},{"$f":"Sichtfeld!M41","v":4.402187722647375E-2},3.6540765702926583,189.7278249821882,-9.5317343068929916E-2,0.11495271053396761,153.79605167828191,189.54196079077448,null,null,{"$f":"Sichtfeld!T41","v":1.5040603194013045},{"$f":"Sichtfeld!U41","v":9.4003769962581377E-2},1.9692067859326463,186.2059396805987,-1.275632754715228E-2,1.3060536553872959E-2,167.83142431698411,172.22029121415841]
[{"$f":"Sichtfeld!A42","v":180},null,{"$f":"Sichtfeld!D42","v":0.18496155824878713},{"$f":"Sichtfeld!E42","v":3.082692637479878E-2},3.6078942423117963,200.63503844175119,-0.16645847462495866,0.23734919624744788,150.03747456750745,222.7228553245406,null,{"$f":"Sichtfeld!L42","v":0.33377449716240903},{"$f":"Sichtfeld!M42","v":4.1721812145301441E-2},3.6460263425085548,199.74622550283758,-9.9332021413578886E-2,0.12099271840853842,162.12023614555579,201.77868931353692,null,null,{"$f":"Sichtfeld!T42","v":1.4199340303256633},{"$f":"Sichtfeld!U42","v":8.8745876895354139E-2},1.9597425784116376,196.29006596967434,-1.3379436878840911E-2,1.3716002355352863E-2,177.59170136180865,182.46888042396353]
[{"$f":"Sichtfeld!A43","v":190},null,{"$f":"Sichtfeld!D43","v":0.17591517502589227},{"$f":"Sichtfeld!E43","v":2.9319195837649612E-2},3.6026171854317734,210.6440848249741,-0.17253860449697522,0.2505127030747476,157.2176651455747,237.59741358420206,null,{"$f":"Sichtfeld!L43","v":0.31720416906608762},{"$f":"Sichtfeld!M43","v":3.9650521133259717E-2},3.6387768239664089,209.7627958309339,-0.10331487897202607,0.12710392097517276,170.37017299531504,214.14974498528284,null,null,{"$f":"Sichtfeld!T43","v":1.3447834887677459},{"$f":"Sichtfeld!U43","v":8.4048968047983438E-2},1.9512881424863702,206.36521651123226,-1.4001020228977423E-2,1.4371538864385691E-2,187.33980615649429,192.73059238423329]
[{"$f":"Sichtfeld!A44","v":200},null,{"$f":"Sichtfeld!D44","v":0.16771309786423672},{"$f":"Sichtfeld!E44","v":2.7952182977372703E-2},3.5978326404208048,220.65228690213576,-0.17853720206298096,0.26397297412147758,164.29255958740382,252.79459482429553,null,{"$f":"Sichtfeld!L44","v":0.30220354102323199},{"$f":"Sichtfeld!M44","v":3.7775442627903964E-2},3.632214049197664,219.77779645897675,-0.10726575311190834,0.13328677312246384,178.54684937761834,226.65735462449277,null,null,{"$f":"Sichtfeld!T44","v":1.2772362924332441},{"$f":"Sichtfeld!U44","v":7.9827268277077451E-2},1.9436890828987397,216.43276370756678,-1.4621208588438739E-2,1.5027278291857238E-2,197.07575828231225,203.00545565837146]
[{"$f":"Sichtfeld!A45","v":210},null,{"$f":"Sichtfeld!D45","v":0.16024231651989851},{"$f":"Sichtfeld!E45","v":2.6707052753316477E-2},3.5934746846366075,230.65975768348011,-0.18445496962217911,0.27773815435410132,171.26445637934239,268.32501241436125,null,{"$f":"Sichtfeld!L45","v":0.28855937731555059},{"$f":"Sichtfeld!M45","v":3.6069922164443428E-2},3.6262447275755516,229.79144062268443,-0.11118459355870169,0.13954187631683612,186.65123535267264,239.30379402653557,null,null,{"$f":"Sichtfeld!T45","v":1.2161877695470054},{"$f":"Sichtfeld!U45","v":7.6011735596687627E-2},1.9368211240740378,226.49381223045299,-1.5240105154828654E-2,1.5683324849724567E-2,206.79957791748598,213.29349821844215]
[{"$f":"Sichtfeld!A46","v":220},null,{"$f":"Sichtfeld!D46","v":0.15340914046664977},{"$f":"Sichtfeld!E46","v":2.5568190077774972E-2},3.5894886652722122,240.66659085953336,-0.19029278298732044,0.29181704578375167,178.13558774278951,284.19975007242539,null,{"$f":"Sichtfeld!L46","v":0.27609543558061489},{"$f":"Sichtfeld!M46","v":3.4511929447576521E-2},3.6207917530665172,239.80390456441938,-0.11507143551697308,0.14586995196705943,194.68428418626593,252.09138943275309,null,null,{"$f":"Sichtfeld!T46","v":1.1607384135341334},{"$f":"Sichtfeld!U46","v":7.2546150845883603E-2},1.9305830715225905,236.54926158646589,-1.5857792362329204E-2,1.6339761832044442E-2,216.51128568028759,223.59474760304977]
[{"$f":"Sichtfeld!A47","v":230},null,{"$f":"Sichtfeld!D47","v":0.14713523722748789},{"$f":"Sichtfeld!E47","v":2.4522539537914917E-2},3.5858288883827023,250.67286476277252,-0.19605164358883076,0.30621907950202876,184.90812197456893,300.43038828546662,null,{"$f":"Sichtfeld!L47","v":0.26466476966416508},{"$f":"Sichtfeld!M47","v":3.3083096208020787E-2},3.6157908367280731,249.81533523033582,-0.11892637974865494,0.15227182183878019,202.64693265780937,265.02251902291943,null,null,{"$f":"Sichtfeld!T47","v":1.1101481546993313},{"$f":"Sichtfeld!U47","v":6.9384259668708273E-2},1.9248916674036749,246.59985184530069,-1.647433688925537E-2,1.6996656659624021E-2,226.21090251547128,233.90923103171352]
[{"$f":"Sichtfeld!A48","v":240},null,{"$f":"Sichtfeld!D48","v":0.14135460766466679},{"$f":"Sichtfeld!E48","v":2.3559101277442956E-2},3.5824568544710504,260.67864539233534,-0.20173264293322091,0.32095430213795706,191.58416569602699,317.02903251310971,null,{"$f":"Sichtfeld!L48","v":0.25414387936933736},{"$f":"Sichtfeld!M48","v":3.1767984921166371E-2},3.611187947224082,259.82585612063065,-0.12274957760483407,0.15874839349772785,210.54010137483982,278.09961443945468,null,null,{"$f":"Sichtfeld!T48","v":1.0638023893241098},{"$f":"Sichtfeld!U48","v":6.6487649332757137E-2},1.9196777687989628,256.64619761067587,-1.7089793288865285E-2,1.7654064538187297E-2,235.89844961067234,244.23697548916496]
[{"$f":"Sichtfeld!A49","v":250},null,{"$f":"Sichtfeld!D49","v":0.13601124937676445},{"$f":"Sichtfeld!E49","v":2.266854156279547E-2},3.5793398954697837,270.68398875062326,-0.20733693594783531,0.33603337328586913,198.16576601304118,334.00834332146729,null,{"$f":"Sichtfeld!L49","v":0.24442820951466615},{"$f":"Sichtfeld!M49","v":3.0553526189334584E-2},3.6069373416626709,269.83557179048535,-0.12654121964064935,0.16530064939925548,218.36469508983765,291.32516234981387,null,null,{"$f":"Sichtfeld!T49","v":1.0211863716404821},{"$f":"Sichtfeld!U49","v":6.3824148227529784E-2},1.9148834668095536,266.68881362835953,-1.7704206664300282E-2,1.8312031153784769E-2,245.57394833392493,254.5780077884462]
[{"$f":"Sichtfeld!A50","v":260},null,{"$f":"Sichtfeld!D50","v":0.13105733216036697},{"$f":"Sichtfeld!E50","v":2.1842888693395054E-2},3.5764501104268827,280.68894266783963,-0.2128657208088981,0.35146757156367703,204.65491258968649,351.38156860655602,null,{"$f":"Sichtfeld!L50","v":0.23542864836986155},{"$f":"Sichtfeld!M50","v":2.942858104623329E-2},3.6030000336618166,279.84457135163012,-0.13030152685946039,0.17192963866232347,226.12160301654029,304.70170605220409,null,null,{"$f":"Sichtfeld!T50","v":0.98186565343854681},{"$f":"Sichtfeld!U50","v":6.1366603339909231E-2},1.9104598860118365,276.72813434656143,-1.8317614667985316E-2,1.8970594687718334E-2,255.23742018632382,264.93235461880676]
[{"$f":"Sichtfeld!A51","v":270},null,{"$f":"Sichtfeld!D51","v":0.12645175917211304},{"$f":"Sichtfeld!E51","v":2.1075293195350158E-2},3.5737635261837255,290.69354824082791,-0.21832022356068492,0.36726880770704495,211.05353963861506,369.16257808090211,null,{"$f":"Sichtfeld!L51","v":0.22706877562700356},{"$f":"Sichtfeld!M51","v":2.8383596953375268E-2},3.5993425893368132,289.85293122437298,-0.13403074391176595,0.17863647084802192,233.8116991438232,318.23184712896591,null,null,{"$f":"Sichtfeld!T51","v":0.94547096294496669},{"$f":"Sichtfeld!U51","v":5.909193518405937E-2},1.9063654833313068,286.76452903705501,-1.8930049015865369E-2,1.9629787342710925E-2,264.88888676571634,275.30004258253194]
[{"$f":"Sichtfeld!A52","v":280},null,{"$f":"Sichtfeld!D52","v":0.12215902186630956},{"$f":"Sichtfeld!E52","v":2.0359836977717125E-2},3.5712594294220099,300.69784097813368,-0.22370168631659892,0.38344964361751588,217.36352783135231,387.36590021290442,null,{"$f":"Sichtfeld!L52","v":0.21928267903768983},{"$f":"Sichtfeld!M52","v":2.7410334879710188E-2},3.5959361720789853,299.86071732096229,-0.13772913376491913,0.18542231125508479,241.43584254582265,331.91824715142377,null,null,{"$f":"Sichtfeld!T52","v":0.91168638695165782},{"$f":"Sichtfeld!U52","v":5.6980399184478919E-2},1.902564718532062,296.79831361304832,-1.9541536648069235E-2,2.028963651283E-2,274.52836973854062,285.68109822359241]
[{"$f":"Sichtfeld!A53","v":290},null,{"$f":"Sichtfeld!D53","v":0.11814828100617092},{"$f":"Sichtfeld!E53","v":1.9691380167697135E-2},3.5689198305869403,310.70185171899379,-0.22901135816635243,0.40002331664263302,223.58670613175781,406.00676182636357,null,{"$f":"Sichtfeld!L53","v":0.21201320709741367},{"$f":"Sichtfeld!M53","v":2.6501650887175505E-2},3.5927557781051145,309.86798679290257,-0.14139697349172198,0.19228837737820581,248.99487768740062,345.76362943967968,null,null,{"$f":"Sichtfeld!T53","v":0.88024004158515368},{"$f":"Sichtfeld!U53","v":5.5015002599073062E-2},1.8990270046783315,306.8297599584148,-2.0152100628408331E-2,2.0950165690261757E-2,284.15589081776159,296.07554805017588]
[{"$f":"Sichtfeld!A54","v":300},null,{"$f":"Sichtfeld!D54","v":0.11439262331575151},{"$f":"Sichtfeld!E54","v":1.9065437219294084E-2},3.566729030267529,320.70560737668427,-0.23425048814708194,0.41700376862497368,229.72485355587543,425.10113058749209,null,{"$f":"Sichtfeld!L54","v":0.20521055938760924},{"$f":"Sichtfeld!M54","v":2.5651319923450797E-2},3.5897796197320773,319.8747894406124,-0.14503455091886353,0.19923593626874125,256.48963472434093,359.7707808806224,null,null,{"$f":"Sichtfeld!T54","v":0.85089663945856842},{"$f":"Sichtfeld!U54","v":5.3181039966159971E-2},1.8957258719390881,316.85910336054144,-2.0761760848593935E-2,2.1611395175286763E-2,293.77147174542182,306.48341855258604]
[{"$f":"Sichtfeld!A55","v":310},null,{"$f":"Sichtfeld!D55","v":0.11086845580473437},{"$f":"Sichtfeld!E55","v":1.8478075967455078E-2},3.5646732658860927,330.70913154419526,-0.23942031980214606,0.43440567944810127,235.77970086133473,444.66576062891136,null,{"$f":"Sichtfeld!L55","v":0.19883114078038489},{"$f":"Sichtfeld!M55","v":2.4853892597547226E-2},3.5869886240914153,329.8811688592196,-0.14864216194232194,0.20626630260425372,263.92092979788021,373.94255380731863,null,null,{"$f":"Sichtfeld!T55","v":0.82345151711862741},{"$f":"Sichtfeld!U55","v":5.1465719819913755E-2},1.8926382956758447,326.88654848288138,-2.1370534584753464E-2,2.227334263740377E-2,303.37513427872642,316.90473621759514]
[{"$f":"Sichtfeld!A56","v":320},null,{"$f":"Sichtfeld!D56","v":0.10755500890013536},{"$f":"Sichtfeld!E56","v":1.7925834816687362E-2},3.5627404218584058,340.71244499109986,-0.24452208697070199,0.45224450495276836,241.75293216937536,464.71824158488585,null,{"$f":"Sichtfeld!L56","v":0.19283662359489995},{"$f":"Sichtfeld!M56","v":2.4104577949364374E-2},3.5843660228227749,339.88716337640506,-0.15222010836462752,0.21338083732159907,271.28956532331921,388.28186794291173,null,null,{"$f":"Sichtfeld!T56","v":0.79772579791944054},{"$f":"Sichtfeld!U56","v":4.9857862369965589E-2},1.8897441522659379,336.91227420208054,-2.1978436941063384E-2,2.293602356267499E-2,312.9669001788597,327.339527540056]
[{"$f":"Sichtfeld!A57","v":330},null,{"$f":"Sichtfeld!D57","v":0.10443392623673731},{"$f":"Sichtfeld!E57","v":1.7405654372788345E-2},3.5609197903047591,350.71556607376328,-0.24955701053800039,0.4705365192109694,247.64618652245986,485.2770513396199,null,{"$f":"Sichtfeld!L57","v":0.18719317494372945},{"$f":"Sichtfeld!M57","v":2.3399146867964234E-2},3.5818970140378745,349.89280682505625,-0.15576869614371203,0.22058094670352335,278.59633027257502,402.79171241216272,null,null,{"$f":"Sichtfeld!T57","v":0.77356244568258603},{"$f":"Sichtfeld!U57","v":4.8347652855161592E-2},1.8870257751392909,346.93643755431742,-2.2585481206260916E-2,2.359945161325161E-2,322.5467912019339,337.78781903237302]
[{"$f":"Sichtfeld!A58","v":340},null,{"$f":"Sichtfeld!D58","v":0.10148892396620113},{"$f":"Sichtfeld!E58","v":1.6914820661033676E-2},3.5592018723136176,360.71851107603379,-0.25452629594021769,0.48929886123896926,253.46105938032599,506.36161282124954,null,{"$f":"Sichtfeld!L58","v":0.18187081627417001},{"$f":"Sichtfeld!M58","v":2.2733852034272105E-2},3.5795684821199525,359.89812918372581,-0.15928823396880731,0.22786808183474294,285.8420004506055,417.47514782381262,null,null,{"$f":"Sichtfeld!T58","v":0.75082302306623205},{"$f":"Sichtfeld!U58","v":4.6926438941640232E-2},1.8844675900949523,356.95917697693375,-2.3191679142306687E-2,2.4263638918503139E-2,332.11482909161572,348.24963723229109]
[{"$f":"Sichtfeld!A59","v":350},null,{"$f":"Sichtfeld!D59","v":9.8705506213889294E-2},{"$f":"Sichtfeld!E59","v":1.6450917702317512E-2},3.5575782119581114,370.7212944937861,-0.25943113126510708,0.50854958631015301,259.19910405721254,527.99235520855359,null,{"$f":"Sichtfeld!L59","v":0.17684288943752335},{"$f":"Sichtfeld!M59","v":2.2105361179692501E-2},3.5773687641289236,369.90315711056246,-0.16277903209800393,0.23524373836292223,293.02733876569863,432.33530842702277,null,null,{"$f":"Sichtfeld!T59","v":0.7293850117864622},{"$f":"Sichtfeld!U59","v":4.5586563236654248E-2},1.8820558138259778,366.98061498821352,-2.3797041219757564E-2,2.4928596312419504E-2,341.67103557308485,358.72500870934681]
[{"$f":"Sichtfeld!A60","v":360},null,{"$f":"Sichtfeld!D60","v":9.6070726173707044E-2},{"$f":"Sichtfeld!E60","v":1.6011787695617258E-2},3.5560412569346602,380.72392927382629,-0.26427268582535579,0.52830772209970012,264.86183310287191,550.19077995589203,null,{"$f":"Sichtfeld!L60","v":0.17208560916168381},{"$f":"Sichtfeld!M60","v":2.1510701145210885E-2},3.5752874540082384,379.9079143908383,-0.16624140140650612,0.24270945651456666,300.15309549365782,447.37540434524396,null,null,{"$f":"Sichtfeld!T60","v":0.70913958405816402},{"$f":"Sichtfeld!U60","v":4.4321224003635203E-2},1.8797782032065435,377.00086041594182,-2.4401576810952452E-2,2.5594333528479618E-2,351.21543234805711,369.21396007025265]
[{"$f":"Sichtfeld!A61","v":370},null,{"$f":"Sichtfeld!D61","v":9.3572984521159697E-2},{"$f":"Sichtfeld!E61","v":1.5595497420193078E-2},{"$f":"C$12*(1+D60)","v":3.5545842409706756},390.72642701547886,-0.26905210910847333,0.54859332995940657,270.45071962986486,572.97953208498041,null,{"$f":"Sichtfeld!L61","v":0.16757768603659429},{"$f":"Sichtfeld!M61","v":2.0947210754572825E-2},{"$f":"L$12*(1+M60)","v":3.5733152376410047},389.91242231396336,-0.1696756526055534,0.25026682132699141,307.22000853594523,462.59872389098683,null,null,{"$f":"Sichtfeld!T61","v":0.68998973888182036},{"$f":"Sichtfeld!U61","v":4.3124358680113897E-2},1.8776238456242051,387.02001026111816,-2.5005294349555784E-2,2.6260859360595745E-2,360.74804109066434,379.71651796342042]
[{"$f":"Sichtfeld!A62","v":380},null,{"$f":"Sichtfeld!D62","v":9.1201858515262302E-2},{"$f":"Sichtfeld!E62","v":1.520030975254404E-2},3.5532010841339039,400.72879814148473,-0.27377053002757845,0.56942757168535918,275.96719858952019,596.38247724043651,null,{"$f":"Sichtfeld!L62","v":0.16330000737710293},{"$f":"Sichtfeld!M62","v":2.0412500922136256E-2},3.5714437532274772,399.91669999262285,-0.17308209560035248,0.2579174630660479,314.22880367186605,478.00863596509822,null,null,{"$f":"Sichtfeld!T62","v":0.67184873522575117},{"$f":"Sichtfeld!U62","v":4.199054595160992E-2},1.8755829827128978,397.03815126477423,-2.5608201463080849E-2,2.6928181796811668E-2,370.26888344402926,390.23270908278846]
[{"$f":"Sichtfeld!A63","v":390},null,{"$f":"Sichtfeld!D63","v":8.8947956471912448E-2},{"$f":"Sichtfeld!E63","v":1.4824659411985788E-2},3.5518863079419507,410.73105204352805,-0.2784290564132661,0.59083278220596225,281.41266799882624,620.42478506032523,null,{"$f":"Sichtfeld!L63","v":0.159235365851913},{"$f":"Sichtfeld!M63","v":1.9904420731489372E-2},3.5696654725602128,409.9207646341481,-0.17646103896181253,0.26566305780589605,321.18019480489312,493.60859254429943,null,null,{"$f":"Sichtfeld!T63","v":0.65463876826456158},{"$f":"Sichtfeld!U63","v":4.091492301653564E-2},1.8736468614297641,407.05536123173545,-2.6210305083573249E-2,2.7596308130975578E-2,379.77798101740643,400.76256017108045]
[{"$f":"Sichtfeld!A64","v":400},null,{"$f":"Sichtfeld!D64","v":8.6802793319805005E-2},{"$f":"Sichtfeld!E64","v":1.4467132219970119E-2},3.5506349627698954,420.73319720668019,-0.28302877469895615,0.61283254868492643,286.78849012041752,645.13301947397053,null,{"$f":"Sichtfeld!L64","v":0.15536822773779591},{"$f":"Sichtfeld!M64","v":1.9421028467224325E-2},3.5679735996352848,419.92463177226216,-0.17981278949189727,0.27350532815226836,328.07488420324108,509.40213126090737,null,null,{"$f":"Sichtfeld!T64","v":0.63828984572742797},{"$f":"Sichtfeld!U64","v":3.9893115357963305E-2},1.8718076076443342,417.07171015427252,-2.6811611540528468E-2,2.8265245056495525E-2,389.27535538378862,411.30609802259823]
[{"$f":"Sichtfeld!A65","v":410},null,{"$f":"Sichtfeld!D65","v":8.4758683758934694E-2},{"$f":"Sichtfeld!E65","v":1.4126447293156522E-2},3.5494425655260482,430.73524131624106,-0.28757074976167463,0.63545179660509321,292.0959925977134,670.53523660808821,null,{"$f":"Sichtfeld!L65","v":0.15168453420659489},{"$f":"Sichtfeld!M65","v":1.8960566775823751E-2},3.566361983715383,429.92831546579339,-0.18313765186632358,0.28144604409473661,334.91356273480733,525.39287807884205,null,null,{"$f":"Sichtfeld!T65","v":0.62273882988083074},{"$f":"Sichtfeld!U65","v":3.892117686755258E-2},1.8700581183615947,427.08726117011918,-2.7412126639280388E-2,2.8934998745440366E-2,398.76102807789505,421.86334948563058]
[{"$f":"Sichtfeld!A66","v":420},null,{"$f":"Sichtfeld!D66","v":8.2808650182926158E-2},{"$f":"Sichtfeld!E66","v":1.3801441697156313E-2},3.5483050459400474,440.73719134981707,-0.29205602488769167,0.65871688347589963,297.33646954716949,696.66109105987789,null,{"$f":"Sichtfeld!L66","v":0.14817153027769336},{"$f":"Sichtfeld!M66","v":1.852144128471141E-2},3.56482504449649,439.93182846972229,-0.18643592834142442,0.28948702397668047,341.69691009660175,541.58455007020575,null,null,{"$f":"Sichtfeld!T66","v":0.60792861730510594},{"$f":"Sichtfeld!U66","v":3.7995538581569448E-2},{"$f":"V$12*(1+W65)","v":1.868391969446825},437.10207138269487,-2.8011855727433366E-2,2.9605574915579247E-2,408.23502059447799,432.43434146454331]
[{"$f":"Sichtfeld!A67","v":430},null,{"$f":"Sichtfeld!D67","v":8.0946343038647228E-2},{"$f":"Sichtfeld!E67","v":1.3491057173107971E-2},3.5472187001058777,450.73905365696135,-0.29648562183835903,0.68265570089163363,302.51118260950562,723.54195138340242,null,{"$f":"Sichtfeld!L67","v":0.14481761704263363},{"$f":"Sichtfeld!M67","v":1.810220213032877E-2},3.5633577074561504,449.93518238295735,-0.18970791851444146,0.29763013557428231,348.42559503879016,557.98095829694137,null,null,{"$f":"Sichtfeld!T67","v":0.59380743385258938},{"$f":"Sichtfeld!U67","v":3.7112964615786455E-2},1.8668033363084156,447.11619256614739,-2.8610803751409564E-2,3.0276978887451955E-2,417.69735438689389,443.01910092160432]
[{"$f":"Sichtfeld!A68","v":440},null,{"$f":"Sichtfeld!D68","v":7.9165971705435823E-2},{"$f":"Sichtfeld!E68","v":1.3194328617576162E-2},3.5461801501615167,460.74083402829456,-0.30086054099616599,0.70729778576099878,307.62136196168694,751.2110257348395,null,{"$f":"Sichtfeld!L68","v":0.1416122235486057},{"$f":"Sichtfeld!M68","v":1.7701527943576996E-2},3.5619553478025194,459.93838777645135,-0.19295391912846005,0.30587729727791646,355.10027558347758,574.58601080228323,null,null,{"$f":"Sichtfeld!T68","v":0.58032822632557668},{"$f":"Sichtfeld!U68","v":3.6270514145348501E-2},1.8652869254616273,457.12967177367443,-2.9208975304781948E-2,3.094921563315256E-2,427.14805086589593,453.61765487858713]
[{"$f":"Sichtfeld!A69","v":450},null,{"$f":"Sichtfeld!D69","v":7.7462244308094341E-2},{"$f":"Sichtfeld!E69","v":1.291037405135077E-2},3.5451863091797278,470.7425377556919,-0.30518176157478238,0.73267444163276352,312.66820729134793,779.70349873474356,null,{"$f":"Sichtfeld!L69","v":0.13854569535513406},{"$f":"Sichtfeld!M69","v":1.7318211919392049E-2},3.560613741717872,469.94145430464482,-0.19617422391475858,0.31423047937101622,361.72159923835864,591.40371571695732,null,null,{"$f":"Sichtfeld!T69","v":0.56744813572143471},{"$f":"Sichtfeld!U69","v":3.5465508482590273E-2},1.8638379152686626,467.14255186427852,-2.980637466974978E-2,3.1622289818192817E-2,436.5871313986126,464.23003041818674]
[{"$f":"Sichtfeld!A70","v":460},null,{"$f":"Sichtfeld!D70","v":7.5830315144031601E-2},{"$f":"Sichtfeld!E70","v":1.2638385857340598E-2},3.5442343505006924,480.74416968485593,-0.30945024187985315,0.75881887115936952,317.65288873526754,809.05668073331003,null,{"$f":"Sichtfeld!L70","v":0.13560919728519139},{"$f":"Sichtfeld!M70","v":1.6951149660647671E-2},3.5593290238122668,479.94439080271479,-0.19936912346660862,0.32269170540290126,368.29020320536006,608.43818448533455,null,null,{"$f":"Sichtfeld!T70","v":0.55512803954925971},{"$f":"Sichtfeld!U70","v":3.4695502471829405E-2},1.8624519044492929,477.15487196045069,-3.0403005852862819E-2,3.2296205837565539E-2,446.01461730768312,474.85625468528013]
[{"$f":"Sichtfeld!A71","v":470},null,{"$f":"Sichtfeld!D71","v":7.4265738624518463E-2},{"$f":"Sichtfeld!E71","v":1.2377623104084511E-2},3.5433216808642953,490.74573426137545,-0.31366691960972792,0.785766320872614,322.57654778342788,839.31017081012851,null,{"$f":"Sichtfeld!L71","v":0.13279462830507782},{"$f":"Sichtfeld!M71","v":1.6599328538133392E-2},3.5580976498834671,489.94720537169491,-0.20253890513957251,0.33126305365320396,374.80671458440094,625.69363521700586,null,null,{"$f":"Sichtfeld!T71","v":0.54333215286584391},{"$f":"Sichtfeld!U71","v":3.3958259554114037E-2},1.8611248671974054,487.16666784713414,-3.0998872615901729E-2,3.2970967846916999E-2,455.43052987052619,485.49635488805097]
[{"$f":"Sichtfeld!A72","v":480},null,{"$f":"Sichtfeld!D72","v":7.2764428806635806E-2},{"$f":"Sichtfeld!E72","v":1.2127404801105976E-2},3.5424459168038709,500.74723557119336,-0.31783271218726006,0.81355423959546269,327.44029815011515,870.50603500582201,null,{"$f":"Sichtfeld!L72","v":0.13009454680357635},{"$f":"Sichtfeld!M72","v":1.6261818350448088E-2},3.5569163642265686,499.94990545319638,-0.20568385297417757,0.33994665868652274,381.27175057239475,643.17439616953095,null,null,{"$f":"Sichtfeld!T72","v":0.5320276794163874},{"$f":"Sichtfeld!U72","v":3.3251729963523866E-2},1.8598531139343428,497.17797232058359,-3.1593978502661768E-2,3.3646579789591069E-2,464.83489031872233,496.1503582990037]
[{"$f":"Sichtfeld!A73","v":490},null,{"$f":"Sichtfeld!D73","v":7.1322623740456947E-2},{"$f":"Sichtfeld!E73","v":1.1887103956742742E-2},3.5416048638485997,510.74867737625954,-0.32194851711540551,0.84222245198462442,332.24522661345134,902.68900147246597,null,{"$f":"Sichtfeld!L73","v":0.12750210481740964},{"$f":"Sichtfeld!M73","v":1.5937763102178128E-2},3.5557821708576238,509.95249789518255,-0.20880424763752425,0.34874471299675713,387.68591865761312,660.88490936841094,null,null,{"$f":"Sichtfeld!T73","v":0.52118450568212893},{"$f":"Sichtfeld!U73","v":3.2574031605133495E-2},1.8586332568892403,507.18881549431785,-3.2188326862261252E-2,3.4323045420160181E-2,474.22771983749197,506.81829225587848]
[{"$f":"Sichtfeld!A74","v":500},null,{"$f":"Sichtfeld!D74","v":6.9936853975264057E-2},{"$f":"Sichtfeld!E74","v":1.16561423292102E-2},3.5407964981522362,520.75006314602479,-0.3260152123506399,0.87181334889329443,336.99239382468005,935.90667444664723,null,{"$f":"Sichtfeld!L74","v":0.12501098997736904},{"$f":"Sichtfeld!M74","v":1.5626373747172087E-2},3.5546923081151021,519.9549890100227,-0.21190036638093956,0.35765946874130594,394.04981680953023,678.829734370653,null,null,{"$f":"Sichtfeld!T74","v":0.51077493179516864},{"$f":"Sichtfeld!U74","v":3.1923433237197589E-2},1.8574621798269557,517.1992250682049,-3.278192086948517E-2,3.5000368324971776E-2,483.60903956525743,517.50018416248588]
[{"$f":"Sichtfeld!A75","v":510},null,{"$f":"Sichtfeld!D75","v":6.8603914670006816E-2},{"$f":"Sichtfeld!E75","v":1.1433985778332921E-2},3.5400189502241655,530.75139608533004,-0.33003365668927653,0.9023720964663513,341.68283508846901,970.20976919783914,null,{"$f":"Sichtfeld!L75","v":0.1226153741380358},{"$f":"Sichtfeld!M75","v":1.5326921767251945E-2},3.5536442261853822,529.95738462586201,-0.21497248301124317,0.36669323956594368,400.364033664266,697.01355217863124,null,null,{"$f":"Sichtfeld!T75","v":0.50077343423507159},{"$f":"Sichtfeld!U75","v":3.1298339639692814E-2},1.8563370113514472,527.20922656576499,-3.3374763542598607E-2,3.5678551940132808E-2,492.97887059327473,528.19606148946775]
[{"$f":"Sichtfeld!A76","v":520},null,{"$f":"Sichtfeld!D76","v":6.7320840835463969E-2},{"$f":"Sichtfeld!E76","v":1.1220140139240281E-2},3.5392704904873407,540.75267915916459,-0.33400469016264056,0.93394686613618538,346.31756111542688,1005.6523703908164,null,{"$f":"Sichtfeld!L76","v":0.12030986780990816},{"$f":"Sichtfeld!M76","v":1.5038733476237708E-2},3.5526355671668317,539.95969013219019,-0.21802086787357478,0.37584840252175078,406.6291487057411,715.44116931131043,null,null,{"$f":"Sichtfeld!T76","v":0.491156456008639},{"$f":"Sichtfeld!U76","v":3.0697278500541322E-2},1.8552551013009744,537.2188435439914,-3.3966857758985003E-2,3.6357599567307775E-2,502.33723396532781,538.90595177500006]
[{"$f":"Sichtfeld!A77","v":530},null,{"$f":"Sichtfeld!D77","v":6.6084885305372154E-2},{"$f":"Sichtfeld!E77","v":1.1014147550893231E-2},3.5385495164281258,550.75391511469468,-0.3379291344377644,0.96658908798179444,350.89755874798487,1042.292216630351,null,{"$f":"Sichtfeld!L77","v":0.1180894796435723},{"$f":"Sichtfeld!M77","v":1.4761184955449905E-2},3.5516641473440744,549.96191052035647,-0.22104578784404816,0.38512740007597701,412.84573244265448,734.11752204026789,null,null,{"$f":"Sichtfeld!T77","v":0.48190222066591559},{"$f":"Sichtfeld!U77","v":3.0118888791620724E-2},1.8542139998249172,547.22809777933412,-3.4558206268915148E-2,3.7037514387622483E-2,511.68415067747497,549.6298826254399]
[{"$f":"Sichtfeld!A78","v":540},null,{"$f":"Sichtfeld!D78","v":6.4893499092022466E-2},{"$f":"Sichtfeld!E78","v":1.0815583182000326E-2},3.5378545411370008,560.75510650090803,-0.34180779322087107,1.0003537302535035,355.42379166072965,1080.1910143368918,null,{"$f":"Sichtfeld!L78","v":0.11594958032384284},{"$f":"Sichtfeld!M78","v":1.449369754047815E-2},3.5507279413916732,559.96405041967614,-0.22404750633075354,0.39453274221920309,419.01434658139306,753.0476807983697,null,null,{"$f":"Sichtfeld!T78","v":0.47299056704974873},{"$f":"Sichtfeld!U78","v":2.956191044060914E-2},1.8532114387930965,557.23700943295034,-3.5148811707699679E-2,3.7718299473943118E-2,521.01964167784217,560.36788171592923]
[{"$f":"Sichtfeld!A79","v":550},null,{"$f":"Sichtfeld!D79","v":6.374431383017054E-2},{"$f":"Sichtfeld!E79","v":1.0624052305025139E-2},3.5371841830675881,570.75625568616988,-0.34564145266139401,1.0352996082586583,359.8972010362333,1119.4147845422622,null,{"$f":"Sichtfeld!L79","v":0.1138858703235428},{"$f":"Sichtfeld!M79","v":1.4235733790443378E-2},3.5498250682665518,569.9661141296765,-0.22702628328185603,0.40406700867157652,425.13554419497916,772.23685476936703,null,null,{"$f":"Sichtfeld!T79","v":0.46440280212902962},{"$f":"Sichtfeld!U79","v":2.9025175133066374E-2},1.8522453152395195,567.24559719787101,-3.5738676606446917E-2,3.839995780173977E-2,530.34372786645417,571.11997679095691]
[{"$f":"Sichtfeld!A80","v":560},null,{"$f":"Sichtfeld!D80","v":6.2635126055113233E-2},{"$f":"Sichtfeld!E80","v":1.0439187675856726E-2},3.5365371568654984,580.75736487394488,-0.34943088175469439,1.0714897262593492,364.31870621737113,1160.0342467052355,null,{"$f":"Sichtfeld!L80","v":0.1118943510449526},{"$f":"Sichtfeld!M80","v":1.3986793880618921E-2},3.5489537785821659,579.96810564895509,-0.22998237519971776,0.41373285119133119,431.2098698881581,791.69039666714548,null,null,{"$f":"Sichtfeld!T80","v":0.45612156964682526},{"$f":"Sichtfeld!U80","v":2.8507598102924289E-2},1.8513136765852638,577.25387843035321,-3.6327803401600578E-2,3.9082492258728729E-2,539.6564300951037,581.88619566488808]
[{"$f":"Sichtfeld!A81","v":570},null,{"$f":"Sichtfeld!D81","v":6.1563883095175242E-2},{"$f":"Sichtfeld!E81","v":1.026064718252395E-2},3.5359122651388337,590.75843611690493,-0.35317683274197231,1.108991656563088,368.6892053370758,1202.12524424096,null,{"$f":"Sichtfeld!L81","v":0.10997129893928559},{"$f":"Sichtfeld!M81","v":1.3746412367413037E-2},3.5481124432859459,589.97002870106076,-0.23291603516012738,0.42353299598919669,437.23785995872743,811.41380771384206,null,null,{"$f":"Sichtfeld!T81","v":0.44813073263287606},{"$f":"Sichtfeld!U81","v":2.8008170789553529E-2},1.8504147074211963,587.26186926736716,-3.6916194443425532E-2,3.9765905653442069E-2,548.95776916724742,592.66656622246194]
[{"$f":"Sichtfeld!A82","v":580},null,{"$f":"Sichtfeld!D82","v":6.0528670387554939E-2},{"$f":"Sichtfeld!E82","v":1.0088111731262887E-2},3.5353083910594196,600.75947132961255,-0.35688004150615171,1.1478779606050824,373.00957592643203,1245.769217150948,null,{"$f":"Sichtfeld!L82","v":0.10811324225301178},{"$f":"Sichtfeld!M82","v":1.3514155281623814E-2},3.5472995434856833,599.97188675774703,-0.23582751283585301,0.43347024625268138,443.22004255520528,831.41274282655513,null,null,{"$f":"Sichtfeld!T82","v":0.44041526810332243},{"$f":"Sichtfeld!U82","v":2.7525954256457111E-2},1.8495467176616229,597.26958473189666,-3.7503852003567095E-2,4.0450200722869534E-2,558.24776583793107,603.46111641926427]
[{"$f":"Sichtfeld!A83","v":590},null,{"$f":"Sichtfeld!D83","v":5.9527700054673005E-2},{"$f":"Sichtfeld!E83","v":9.9212833424472662E-3},3.5347244916985656,610.76047229994538,-0.36054122796275312,1.1882266575428382,377.28067550197568,1291.0537279502746,null,{"$f":"Sichtfeld!L83","v":0.10631694009390458},{"$f":"Sichtfeld!M83","v":1.3289617511740709E-2},3.5465136612910926,609.97368305990608,-0.23871705452384506,0.44354748478461481,449.15693783093138,851.69301602292273,null,null,{"$f":"Sichtfeld!T83","v":0.43296117249479948},{"$f":"Sichtfeld!U83","v":2.7060073280923962E-2},1.8487081319056631,607.27703882750529,-3.8090778281801851E-2,4.1135380139282418E-2,567.52644081373694,614.2698742821766]
[{"$f":"Sichtfeld!A84","v":600},null,{"$f":"Sichtfeld!D84","v":5.8559300594765773E-2},{"$f":"Sichtfeld!E84","v":9.7598834324642524E-3},3.5341595920136246,620.76144069940528,-0.36416109644496497,1.2301217467303189,381.50334213302102,1338.0730480381912,null,{"$f":"Sichtfeld!L84","v":0.10457936355260244},{"$f":"Sichtfeld!M84","v":1.3072420444076143E-2},3.5457534715542667,619.97542063644744,-0.24158490317550585,0.45376767676070262,455.04905809469648,872.26060605642158,null,null,{"$f":"Sichtfeld!T84","v":0.42575537657791074},{"$f":"Sichtfeld!U84","v":2.6609711036118439E-2},1.8478974798650134,617.28424462342218,-3.8676975412081815E-2,4.1821446516340455E-2,576.7938147527509,625.09286790980423]
[{"$f":"Sichtfeld!A85","v":610},null,{"$f":"Sichtfeld!D85","v":5.7621907564112007E-2},{"$f":"Sichtfeld!E85","v":9.6036512606913742E-3},3.5336127794124197,630.76237809243594,-0.36774033608228895,1.2736537914340689,385.67839498980373,1386.928812774782,null,{"$f":"Sichtfeld!L85","v":0.10289767864628629},{"$f":"Sichtfeld!M85","v":1.2862209830783606E-2},3.5450177344077423,629.97710232135375,-0.24443129842953237,0.46413387261125982,460.89690795798526,893.12166229286845,null,null,{"$f":"Sichtfeld!T85","v":0.41878566875868728},{"$f":"Sichtfeld!U85","v":2.6174104297416068E-2},1.8471133877353492,627.29121433124135,-3.926244546795099E-2,4.25084024145721E-2,586.04990826454991,635.93012547288902]
[{"$f":"Sichtfeld!A86","v":620},null,{"$f":"Sichtfeld!D86","v":5.6714055140105302E-2},{"$f":"Sichtfeld!E86","v":9.4523425233531688E-3},3.5330831988317364,640.76328594485994,-0.37127962117227187,1.3189205723272273,389.80663487319146,1437.7307548428807,null,{"$f":"Sichtfeld!L86","v":0.10126923088392914},{"$f":"Sichtfeld!M86","v":1.2658653860493075E-2},3.5443052885117261,639.97873076911605,-0.24725647664689443,0.47464921103266611,466.70098447892542,914.28251084025305,null,null,{"$f":"Sichtfeld!T86","v":0.41204062581800827},{"$f":"Sichtfeld!U86","v":2.5752539113626554E-2},1.8463545704045279,637.29795937418203,-3.9847190467415028E-2,4.319625034629726E-2,595.29474191020267,646.78167521470425]
[{"$f":"Sichtfeld!A87","v":630},null,{"$f":"Sichtfeld!D87","v":5.5834368469788842E-2},{"$f":"Sichtfeld!E87","v":9.3057280783015155E-3},3.5325700482740556,650.7641656315302,-0.37477961154494988,1.3660278206854723,393.88884472668155,1490.5975270318477,null,{"$f":"Sichtfeld!L87","v":9.9691531275539091E-2},{"$f":"Sichtfeld!M87","v":1.2461441409444295E-2},3.5436150449330555,649.9803084687245,-0.25006067094758067,0.48531692213450617,472.46177730302418,935.74966094473893,null,null,{"$f":"Sichtfeld!T87","v":0.40550955026094471},{"$f":"Sichtfeld!U87","v":2.5344346891310147E-2},1.8456198244043582,647.30449044973909,-4.0431212377323611E-2,4.3884992780058196E-2,604.52833620228614,657.64754545143671]
[{"$f":"Sichtfeld!A88","v":640},null,{"$f":"Sichtfeld!D88","v":5.4981556720292701E-2},{"$f":"Sichtfeld!E88","v":9.1635927867147731E-3},3.532072574753502,660.76501844327981,-0.37824095291973203,1.4150900428561348,397.92579013137151,1500,null,{"$f":"Sichtfeld!L88","v":9.8162243629701607E-2},{"$f":"Sichtfeld!M88","v":1.2270280453716221E-2},3.5429459815880069,659.9818377563704,-0.25284411124878881,0.49614033072878194,478.17976880077515,957.52981166642041,null,null,{"$f":"Sichtfeld!T88","v":0.3991824135501929},{"$f":"Sichtfeld!U88","v":2.4948900846886436E-2},1.8449080215243956,657.31081758644984,-4.1014513117322515E-2,4.4574632144620097E-2,613.75071160491359,668.52776457255686]
[{"$f":"Sichtfeld!A89","v":650},null,{"$f":"Sichtfeld!D89","v":5.4154406756367734E-2},{"$f":"Sichtfeld!E89","v":9.0257344593953018E-3},3.5315900706078835,670.76584559324374,-0.38166427725452379,1.4662314495328843,401.91821978455954,1500,null,{"$f":"Sichtfeld!L89","v":9.6679173004019958E-2},{"$f":"Sichtfeld!M89","v":1.2084896625500852E-2},3.5422971381892534,669.98332082699608,-0.25560702430428062,0.50712285976802729,483.85543420221757,979.62985884921773,null,null,{"$f":"Sichtfeld!T89","v":0.39304980458928185},{"$f":"Sichtfeld!U89","v":2.456561278683075E-2},1.8442181030162954,667.31695019541075,-4.1597094563424197E-2,4.5265170832581303E-2,622.9618885337743,679.42236104117785]
[{"$f":"Sichtfeld!A90","v":660},null,{"$f":"Sichtfeld!D90","v":5.3351777380839849E-2},{"$f":"Sichtfeld!E90","v":8.8919628968094182E-3},3.5311218701388327,680.76664822261921,-0.38505020308696514,1.5195870057116347,405.86686596260301,1500,null,{"$f":"Sichtfeld!L90","v":9.5240255187206913E-2},{"$f":"Sichtfeld!M90","v":1.1905031898399043E-2},3.5416676116443968,679.98475974481289,-0.25834963374465891,0.5182680339396073,489.48924172852514,1002.0569024001409,null,null,{"$f":"Sichtfeld!T90","v":0.38710288289723849},{"$f":"Sichtfeld!U90","v":2.4193930181078849E-2},1.8435490743259417,677.3228971171028,-4.2178958551239099E-2,4.5956611203646247E-2,632.16188735618221,690.33136339440648]
[{"$f":"Sichtfeld!A91","v":670},null,{"$f":"Sichtfeld!D91","v":5.2572594079663304E-2},{"$f":"Sichtfeld!E91","v":8.7620990132804104E-3},3.5306673465464815,690.76742740592044,-0.38839933586770803,1.5753036200128405,409.77244496863563,1500,null,{"$f":"Sichtfeld!L91","v":9.3843547107837821E-2},{"$f":"Sichtfeld!M91","v":1.1730443388483308E-2},3.5410565518596915,689.98615645289215,-0.26107216011836165,0.52957948342398287,495.08165272069766,1024.8182538940684,null,null,{"$f":"Sichtfeld!T91","v":0.38133333598301533},{"$f":"Sichtfeld!U91","v":2.3833333498936706E-2},1.842900000298086,687.32866666401696,-4.2760106878903636E-2,4.664895558758686E-2,641.35072839113457,701.25480024368323]
[{"$f":"Sichtfeld!A92","v":680},null,{"$f":"Sichtfeld!D92","v":5.1815844221096086E-2},{"$f":"Sichtfeld!E92","v":8.6359740368518109E-3},3.5302259091289812,700.76818415577895,-0.39171226828571082,1.6335414954370107,413.63565756571666,1500,null,{"$f":"Sichtfeld!L92","v":9.2487218075234523E-2},{"$f":"Sichtfeld!M92","v":1.1560902259404133E-2},3.5404631579079142,699.98751278192481,-0.26377482093318516,0.54106094782522463,500.63312176543411,1047.9214445211528,null,null,{"$f":"Sichtfeld!T92","v":0.37573334048664719},{"$f":"Sichtfeld!U92","v":2.348333378041554E-2},1.8422700008047479,697.33426665951333,-4.3340541309740521E-2,4.7342206286939081E-2,650.52843190937642,712.19270027511857]
[{"$f":"Sichtfeld!A93","v":690},null,{"$f":"Sichtfeld!D93","v":5.1080572663806834E-2},{"$f":"Sichtfeld!E93","v":8.5134287773009822E-3},{"$f":"C$12*(1+D92)","v":3.5297970007205537},710.76891942733619,-0.39498958058555889,1.6944756677061998,417.45718939596435,1500,null,{"$f":"Sichtfeld!L93","v":9.1169541769204443E-2},{"$f":"Sichtfeld!M93","v":1.1396192721154667E-2},{"$f":"L$12*(1+M92)","v":3.5398866745240416},709.98883045823084,-0.26645783069818341,0.55271628028259845,506.14409681825344,1071.3742333949929,null,null,{"$f":"Sichtfeld!T93","v":0.37029552670497878},{"$f":"Sichtfeld!U93","v":2.3143470419060893E-2},1.8416582467543097,707.33970447329511,-4.3920263574675156E-2,4.8036365579448681E-2,659.69501813347415,723.14509224981964]
[{"$f":"Sichtfeld!A94","v":700},null,{"$f":"Sichtfeld!D94","v":5.0365877733781872E-2},{"$f":"Sichtfeld!E94","v":8.3943129556252084E-3},3.5293800953446883,{"$f":"$A93+C$18-C93","v":720.76963412226632},{"$f":"(F93*C$11^2/(C$11^2+E93*C$13/1000*(F93-C$11))-(C$18-C93))/$A93-1","v":-0.39823184087686136},{"$f":"(F93*C$11^2/(C$11^2-E93*C$13/1000*(F93-C$11))-(C$18-C93))/$A93-1","v":1.7582977623014395},{"$f":"($A93*G93)+$A93","v":421.23771138619702},{"$f":"IF((($A93*H93)+$A93)>1500,1500,($A93*H93)+$A93)","v":1500},null,{"$f":"Sichtfeld!L94","v":8.988888890621638E-2},{"$f":"Sichtfeld!M94","v":1.1236111113278824E-2},3.5393263888964759,{"$f":"$A93+L$18-L93","v":719.99011111109382},{"$f":"(O93*L$11^2/(L$11^2+N93*L$13/1000*(O93-L$11))-(L$18-L93))/$A93-1","v":-0.26912140096580506},{"$f":"(O93*L$11^2/(L$11^2-N93*L$13/1000*(O93-L$11))-(L$18-L93))/$A93-1","v":0.56454945177262617},{"$f":"($A93*P93)+$A93","v":511.61501932393645},{"$f":"IF((($A93*Q93)+$A93)>1500,1500,($A93*Q93)+$A93)","v":1095.1846162408383},null,null,{"$f":"Sichtfeld!T94","v":0.36501294616130053},{"$f":"Sichtfeld!U94","v":2.2813309135082952E-2},1.8410639564431495,{"$f":"$A93+V$18-V93","v":717.34498705383874},-4.4499275374439096E-2,4.8731435720302807E-2,{"$f":"($A93*Z93)+$A93","v":668.85050723789266},{"$f":"IF((($A93*AA93)+$A93)>1500,1500,($A93*AA93)+$A93)","v":734.11200500421194}]
[{"$f":"Sichtfeld!A95","v":710},null,{"$f":"Sichtfeld!D95","v":4.9670907534391517E-2},{"$f":"Sichtfeld!E95","v":8.2784845890601505E-3},3.5289746960617108,730.77032909246566,-0.40143960543579316,1.8252180073459696,424.97788014058688,1500,null,{"$f":"Sichtfeld!L95","v":8.864372051459668E-2},{"$f":"Sichtfeld!M95","v":1.1080465064325732E-2},3.53878162772514,729.99135627948544,-0.27176574037414858,0.57656455561162301,517.04632433435449,1119.3608344842523,null,null,{"$f":"Sichtfeld!T95","v":0.35987904191989628},{"$f":"Sichtfeld!U95","v":2.249244011999384E-2},1.8404863922159889,727.3501209580802,-4.5077578381575778E-2,4.9427418944168133E-2,677.99491934908121,745.09346745035941]
[{"$f":"Sichtfeld!A96","v":720},null,{"$f":"Sichtfeld!D96","v":4.8994856558010724E-2},{"$f":"Sichtfeld!E96","v":8.1658094263377529E-3},3.5285803329921821,740.77100514344204,-0.40461341899887471,1.8954675468760027,428.67833832081021,1500,null,{"$f":"Sichtfeld!L96","v":8.7432581762016071E-2},{"$f":"Sichtfeld!M96","v":1.0929072720254856E-2},3.5382517545208922,739.99256741823797,-0.27439105468923597,0.58876581216936885,522.43844062375013,1143.9113847619456,null,null,{"$f":"Sichtfeld!T96","v":0.35488762137674712},{"$f":"Sichtfeld!U96","v":2.2180476336046209E-2},1.8399248574048832,737.35511237862329,-4.5655174242277163E-2,5.0124317467046486E-2,687.12827454556043,756.08950857627349]
[{"$f":"Sichtfeld!A97","v":730},null,{"$f":"Sichtfeld!D97","v":4.8336962570772357E-2},{"$f":"Sichtfeld!E97","v":8.0561604284593719E-3},3.528196561499608,750.77166303742933,-0.40775381504910524,1.9693011081293608,432.33971501415317,1500,null,{"$f":"Sichtfeld!L97","v":8.625409628223224E-2},{"$f":"Sichtfeld!M97","v":1.0781762035280123E-2},3.5377361671234806,749.99374590371781,-0.27699754684721167,0.60115757380524215,527.79179080153551,1168.8450288778267,null,null,{"$f":"Sichtfeld!T97","v":0.35003283128969542},{"$f":"Sichtfeld!U97","v":2.1877051955605766E-2},1.8393786935200904,747.35996716871034,-4.6232064578059173E-2,5.082213348797926E-2,696.25059285801683,767.1001574462249]
[{"$f":"Sichtfeld!A98","v":740},null,{"$f":"Sichtfeld!D98","v":4.7696503744532492E-2},{"$f":"Sichtfeld!E98","v":7.9494172907601107E-3},3.5278229605176605,760.77230349625552,-0.41086131609456911,2.0470000877119254,435.96262609001889,1500,null,{"$f":"Sichtfeld!L98","v":8.5106960954703936E-2},{"$f":"Sichtfeld!M98","v":1.0638370119336217E-2},3.5372342954176768,759.99489303904534,-0.27958541699639317,0.61374433003890405,533.10679142266906,1194.1708042287889,null,null,{"$f":"Sichtfeld!T98","v":0.34530913483513359},{"$f":"Sichtfeld!U98","v":2.1581820927198625E-2},{"$f":"V$12*(1+W97)","v":1.8388472776689573},757.3646908651649,{"$f":"(Y97*V$11^2/(V$11^2+X97*V$13/1000*(Y97-V$11))-(V$18-V97))/$A97-1","v":-4.6808250987298017E-2},{"$f":"(Y97*V$11^2/(V$11^2-X97*V$13/1000*(Y97-V$11))-(V$18-V97))/$A97-1","v":5.1520869190605056E-2},705.3618942693995,778.1254432010478]
[{"$f":"Sichtfeld!A99","v":750},null,{"$f":"Sichtfeld!D99","v":4.7072796014901996E-2},{"$f":"Sichtfeld!E99","v":7.8454660024852487E-3},3.527459131008698,770.77292720398509,-0.41393643393965707,2.1288761354477441,439.54767454525722,1500,null,{"$f":"Sichtfeld!L99","v":8.3989941095694576E-2},{"$f":"Sichtfeld!M99","v":1.0498742636961551E-2},3.5367455992293655,769.9960100589044,-0.28215486253910727,0.62653071296838414,538.38385309566956,1219.8980347262882,null,null,{"$f":"Sichtfeld!T99","v":0.34071129050227},{"$f":"Sichtfeld!U99","v":2.1294455656393041E-2},1.8383300201815074,767.36928870949782,-4.7383735046638731E-2,5.2220526744589657E-2,714.46219871502092,789.1653950584423]
[{"$f":"Sichtfeld!A100","v":760},null,{"$f":"Sichtfeld!D100","v":4.6465190642948073E-2},{"$f":"Sichtfeld!E100","v":7.7441984404854666E-3},3.5271046945416993,780.7735348093571,-0.41697966994904478,2.2152753321309593,443.09545083872598,1500,null,{"$f":"Sichtfeld!L100","v":8.2901866023462389E-2},{"$f":"Sichtfeld!M100","v":1.0362733252932049E-2},3.5362695663852626,779.99709813397658,-0.28470607817325011,0.63952150294926069,543.62338058832995,1246.0363422414382,null,null,{"$f":"Sichtfeld!T100","v":0.33623433265478297},{"$f":"Sichtfeld!U100","v":2.1014645790922413E-2},1.8378263624236604,777.3737656673452,-4.7958518312290477E-2,5.2921108306940745E-2,723.55152608265928,800.22004231327492]
[{"$f":"Sichtfeld!A101","v":770},null,{"$f":"Sichtfeld!D101","v":4.5873071963967504E-2},{"$f":"Sichtfeld!E101","v":7.6455119939883515E-3},3.5267592919789594,790.77412692803614,-0.41999151530458156,2.3065830792614013,446.60653321547221,1500,null,{"$f":"Sichtfeld!L101","v":8.1841624963658433E-2},{"$f":"Sichtfeld!M101","v":1.0230203120457099E-2},3.5358057109215997,789.99815837503638,-0.28723925593352706,0.65272163454953813,548.82577293118413,1272.5956586031443,null,null,{"$f":"Sichtfeld!T101","v":0.33187355360894344},{"$f":"Sichtfeld!U101","v":2.074209710056113E-2},1.8373357747810102,787.37812644639109,-4.8532602321210705E-2,5.3622616023216274E-2,732.62989621266775,811.28941433787656]
[{"$f":"Sichtfeld!A102","v":780},null,{"$f":"Sichtfeld!D102","v":4.5295855306221711E-2},{"$f":"Sichtfeld!E102","v":7.5493092177071107E-3},3.5264225822619748,800.77470414469383,-0.42297245125524729,2.4032298464616071,450.0814880209071,1500,null,{"$f":"Sichtfeld!L102","v":8.0808163265373878E-2},{"$f":"Sichtfeld!M102","v":1.0101020408173763E-2},3.5353535714286082,799.99919183673467,-0.28975458523233055,0.66613620279576158,553.9914235187822,1299.5862381806942,null,null,{"$f":"Sichtfeld!T102","v":0.327624487091839},{"$f":"Sichtfeld!U102","v":2.0476530443238425E-2},1.8368577547978291,797.3823755129082,-4.9105988592204164E-2,5.4325052028636467E-2,741.69732889808074,822.37354058233643]
[{"$f":"Sichtfeld!A103","v":790},null,{"$f":"Sichtfeld!D103","v":4.473298506491119E-2},{"$f":"Sichtfeld!E103","v":7.4554975108207912E-3},3.5260942412878729,810.77526701493514,-0.42592294936033659,2.5056979573737324,453.52087000533407,1500,null,{"$f":"Sichtfeld!L103","v":7.9800478900438065E-2},{"$f":"Sichtfeld!M103","v":9.9750598625500311E-3},3.5349127095189252,810.0001995210996,-0.29225225290021262,0.67977046972696797,559.12072020883204,1327.0186710843047,null,null,{"$f":"Sichtfeld!T103","v":0.3234828929557807},{"$f":"Sichtfeld!U103","v":2.0217680809737369E-2},1.8363918254575273,807.38651710704426,-4.9678678626928319E-2,5.5028418449110772E-2,750.75384388472662,833.47245057479756]
[{"$f":"Sichtfeld!A104","v":800},null,{"$f":"Sichtfeld!D104","v":4.4183932917576385E-2},{"$f":"Sichtfeld!E104","v":7.3639888196018457E-3},3.5257739608686061,820.77581606708247,-0.42884347172603487,2.61452963974414,456.92522261917208,1500,null,{"$f":"Sichtfeld!L104","v":7.8817619221126733E-2},{"$f":"Sichtfeld!M104","v":9.8522024026419224E-3},3.5344827084092469,820.00118238077891,-0.29473244322593362,0.69362987127415843,564.21404541925313,1354.9038970193269,null,null,{"$f":"Sichtfeld!T104","v":0.31944474304157211},{"$f":"Sichtfeld!U104","v":1.9965296440098111E-2},1.8359375335921766,817.39055525695846,-5.0250673910825272E-2,5.5732717402186438E-2,759.79946087133976,844.58617392174915]
[{"$f":"Sichtfeld!A105","v":810},null,{"$f":"Sichtfeld!D105","v":4.364819617012472E-2},{"$f":"Sichtfeld!E105","v":7.2746993616847715E-3},3.5254614477658968,830.77635180382993,-0.43173447123554876,2.730336623264523,460.2950782992055,1500,null,{"$f":"Sichtfeld!L105","v":7.7858677955589428E-2},{"$f":"Sichtfeld!M105","v":9.7323347444489838E-3},3.5340631716055713,830.00214132204451,-0.29719533799604858,0.70772002448414995,569.27177622320062,1383.2532198321614,null,null,{"$f":"Sichtfeld!T105","v":0.31550620808832264},{"$f":"Sichtfeld!U105","v":1.9719138005517889E-2},1.8354944484099323,827.39449379191171,-5.0821975913980078E-2,5.6437950997922037E-2,768.83419950967618,855.71474030831689]
[{"$f":"Sichtfeld!A106","v":820},null,{"$f":"Sichtfeld!D106","v":4.3125296220978271E-2},{"$f":"Sichtfeld!E106","v":7.187549370158499E-3},3.525156422795555,840.77687470377907,-0.4345963917729545,2.8538116438389642,463.63095874617733,1500,null,{"$f":"Sichtfeld!L106","v":7.6922792418997687E-2},{"$f":"Sichtfeld!M106","v":9.6153490523738089E-3},3.5336537216833084,840.0030772075811,-0.29964111653402259,0.72204673510799622,574.29428444210146,1412.0783227885568,null,null,{"$f":"Sichtfeld!T106","v":0.31166364560243665},{"$f":"Sichtfeld!U106","v":1.9478977850153185E-2},1.8350621601302757,837.39833635439754,-5.1392586091914438E-2,5.7144121339700593E-2,777.85807940463019,866.85817949855448]
[{"$f":"Sichtfeld!A107","v":830},null,{"$f":"Sichtfeld!D107","v":4.2614777135042914E-2},{"$f":"Sichtfeld!E107","v":7.1024628558411353E-3},3.5248586199954439,850.77738522286495,-0.43742966844093012,2.9857423111887811,466.93337519402797,1500,null,{"$f":"Sichtfeld!L107","v":7.6009140924270469E-2},{"$f":"Sichtfeld!M107","v":9.5011426155329794E-3},3.5332539991543652,850.00399085907577,-0.30206995573884554,0.73661600557546048,579.28193673675821,1441.3912846276321,null,null,{"$f":"Sichtfeld!T107","v":0.30791358860426499},{"$f":"Sichtfeld!U107","v":1.9244599287766114E-2},1.834640278717979,847.40208641139577,-5.1962505886324228E-2,5.7851230524978092E-2,786.8711201143509,878.0165213357318]
[{"$f":"Sichtfeld!A108","v":840},null,{"$f":"Sichtfeld!D108","v":4.2116204317494521E-2},{"$f":"Sichtfeld!E108","v":7.0193673862462688E-3},3.5245677858518616,860.77788379568256,-0.4402347277725317,3.1270279262958063,470.20282867107335,1500,null,{"$f":"Sichtfeld!L108","v":7.5116940375039576E-2},{"$f":"Sichtfeld!M108","v":9.3896175468752355E-3},3.5328636614140634,860.00488305962494,-0.30448203012314068,0.75143404337856889,584.23509469656187,1471.2045964379979,null,null,{"$f":"Sichtfeld!T108","v":0.30425273517823825},{"$f":"Sichtfeld!U108","v":1.9015795948639055E-2},1.8342284327075502,857.4057472648218,-5.2531736725758393E-2,5.8559280645982037E-2,795.87334115036299,889.18979574262494]
[{"$f":"Sichtfeld!A109","v":850},null,{"$f":"Sichtfeld!D109","v":4.1629163279310433E-2},{"$f":"Sichtfeld!E109","v":6.9381938798892991E-3},3.5242836785796126,870.7783708367208,-0.44301198793717633,3.278700007641385,473.43981025340014,1500,null,{"$f":"Sichtfeld!L109","v":7.4245444026018959E-2},{"$f":"Sichtfeld!M109","v":9.2806805032535477E-3},3.5324823817613873,870.00575455597402,-0.30687751185075218,0.76650726988882267,589.15411492686064,1500,null,null,{"$f":"Sichtfeld!T109","v":0.30067793876185078},{"$f":"Sichtfeld!U109","v":1.8792371172615827E-2},1.8338262681107087,867.40932206123819,-5.3100280026252666E-2,5.9268273790356263E-2,804.86476197768525,900.37803272180281]
[{"$f":"Sichtfeld!A110","v":860},null,{"$f":"Sichtfeld!D110","v":4.1153258488236588E-2},{"$f":"Sichtfeld!E110","v":6.8588764147070559E-3},3.5240060674514746,880.77884674151187,-0.44576185894098719,3.4419475168801643,476.64480131075101,1500,null,{"$f":"Sichtfeld!L110","v":7.3393939398158636E-2},{"$f":"Sichtfeld!M110","v":9.1742424247690055E-3},3.5321098484866913,880.00660606060183,-0.30925657077380142,0.78184232963437195,594.03934913453077,1500,null,null,{"$f":"Sichtfeld!T110","v":0.29718619911216138},{"$f":"Sichtfeld!U110","v":1.8574137444510239E-2},1.8334334474001186,877.41281380088788,-5.3668137191915655E-2,5.9978212041763124E-2,813.84540201495258,911.58126235591624]
[{"$f":"Sichtfeld!A111","v":870},null,{"$f":"Sichtfeld!D111","v":4.0688112296834333E-2},{"$f":"Sichtfeld!E111","v":6.7813520494718884E-3},3.5237347321731516,890.77931188770322,-0.44848474282166251,3.6181480889907052,479.81827374515365,1500,null,{"$f":"Sichtfeld!L111","v":7.2561746334827149E-2},{"$f":"Sichtfeld!M111","v":9.0702182918543529E-3},3.53174576402149,890.00743825366521,-0.31161937446920751,0.79744610006531169,598.89114421178942,1500,null,null,{"$f":"Sichtfeld!T111","v":0.29377465389552526},{"$f":"Sichtfeld!U111","v":1.8360915868470547E-2},1.833049648563247,887.41622534610451,-5.4235309615473404E-2,6.0689097480443044E-2,822.81528063453811,922.79951480798547]
[{"$f":"Sichtfeld!A112","v":880},null,{"$f":"Sichtfeld!D112","v":4.0233363943116274E-2},{"$f":"Sichtfeld!E112","v":6.7055606571850973E-3},3.5234694623001479,900.77976663605693,-0.45118103383801578,3.8089070032408712,482.96069022254613,1500,null,{"$f":"Sichtfeld!L112","v":7.1748215189643361E-2},{"$f":"Sichtfeld!M112","v":8.9685268987062319E-3},3.5313898441454721,900.00825178481045,-0.31396608827466477,0.81332570183723218,603.70984231829493,1500,null,null,{"$f":"Sichtfeld!T112","v":0.29044057085121722},{"$f":"Sichtfeld!U112","v":1.815253567819896E-2},1.832674564220758,897.41955942914888,-5.4801798678778879E-2,6.1400932183734769E-2,831.77441716267458,934.03282032168659]
[{"$f":"Sichtfeld!A113","v":890},null,{"$f":"Sichtfeld!D113","v":3.9788668617120493E-2},{"$f":"Sichtfeld!E113","v":6.6314447695214286E-3},3.5232100566933253,910.78021133138293,-0.4538511186543428,4.0161062298660806,486.07250439763493,1500,null,{"$f":"Sichtfeld!L113","v":7.0952725134361572E-2},{"$f":"Sichtfeld!M113","v":8.8690906417950733E-3},3.5310418172462823,910.00904727486568,-0.31629687532407713,0.82948850964533816,608.49578096157143,1500,null,null,{"$f":"Sichtfeld!T113","v":0.28718134048324373},{"$f":"Sichtfeld!U113","v":1.7948833780203316E-2},1.8323079008043661,907.42281865951679,-5.5367605753281923E-2,6.2113718226560533E-2,840.72283087957908,945.28120922163885]
[{"$f":"Sichtfeld!A114","v":900},null,{"$f":"Sichtfeld!D114","v":3.9353696588875664E-2},{"$f":"Sichtfeld!E114","v":6.5589494314792721E-3},3.5229563230101775,920.78064630341123,-0.45649537651976024,4.2419667285021516,489.15416113221579,1500,null,{"$f":"Sichtfeld!L114","v":7.0174682578340253E-2},{"$f":"Sichtfeld!M114","v":8.7718353222955743E-3},3.5307014236280345,920.0098253174217,-0.31861189658244438,0.84594216364376074,613.2492930758001,1500,null,null,{"$f":"Sichtfeld!T114","v":0.28399446924015592},{"$f":"Sichtfeld!U114","v":1.774965432751097E-2},1.8319493777895199,917.42600553075988,-5.5932732200470459E-2,6.2827457681882359E-2,849.66054101957661,956.54471191369407]
[{"$f":"Sichtfeld!A115","v":910},null,{"$f":"Sichtfeld!D115","v":3.8928132392754833E-2},{"$f":"Sichtfeld!E115","v":6.4880220654634467E-3},3.5227080772291224,930.78107186760735,-0.4591141794426612,4.4891283725323063,492.20609670717829,1500,null,{"$f":"Sichtfeld!L115","v":6.9413519691011061E-2},{"$f":"Sichtfeld!M115","v":8.6766899613802007E-3},3.5303684148648307,930.01058648030903,-0.32091131088020242,0.86269458148720313,617.97070709901573,1500,null,null,{"$f":"Sichtfeld!T115","v":0.28087757314398232},{"$f":"Sichtfeld!U115","v":1.7554848321498565E-2},1.8315987269786977,927.42912242685611,-5.6497179372282269E-2,6.3542152621122616E-2,858.58756677122312,967.82335888522152]
[{"$f":"Sichtfeld!A116","v":920},null,{"$f":"Sichtfeld!D116","v":3.8511674064579893E-2},{"$f":"Sichtfeld!E116","v":6.4186123440946432E-3},3.522465143204331,940.78148832593547,-0.4617078923604282,4.7607536052579578,495.22873902840604,1500,null,{"$f":"Sichtfeld!L116","v":6.8668693019276361E-2},{"$f":"Sichtfeld!M116","v":8.5835866274087281E-3},3.5300425531959303,940.01133130698076,-0.32319527494701739,0.87975397103479902,622.66034704874403,1500,null,null,{"$f":"Sichtfeld!T116","v":0.27782837183514175},{"$f":"Sichtfeld!U116","v":1.736427323969823E-2},1.8312556918314566,937.43217162816495,-5.7060948611487361E-2,6.4257805114561917E-2,867.50392727743167,979.117180705397]
[{"$f":"Sichtfeld!A117","v":930},null,{"$f":"Sichtfeld!D117","v":3.8104032426588219E-2},{"$f":"Sichtfeld!E117","v":6.3506720710977006E-3},3.5222273522488421,950.78189596757352,-0.46427687330454104,5.0606634770211505,498.22250782677685,1500,null,{"$f":"Sichtfeld!L117","v":6.7939682193070894E-2},{"$f":"Sichtfeld!M117","v":8.4924602741296863E-3},3.5297236109594539,950.01206031780703,-0.32546394344503515,0.89712884375900681,627.31853259611728,1500,null,null,{"$f":"Sichtfeld!T117","v":0.2748446830020157},{"$f":"Sichtfeld!U117","v":1.7177792687623768E-2},1.8309200268377228,947.43515531699802,-5.7624041252046232E-2,6.4974417231710158E-2,876.40964163559704,990.4262080254905]
[{"$f":"Sichtfeld!A118","v":940},null,{"$f":"Sichtfeld!D118","v":3.7704930418044569E-2},{"$f":"Sichtfeld!E118","v":6.284155069677653E-3},3.5219945427438719,960.78229506958201,-0.46682147356121495,5.3935185127834622,501.18781485245796,1500,null,{"$f":"Sichtfeld!L118","v":6.7225988712664275E-2},{"$f":"Sichtfeld!M118","v":8.4032485890836849E-3},3.5294113700617928,960.01277401128732,-0.32771746900158971,0.91482802890555703,631.94557913850565,1500,null,null,{"$f":"Sichtfeld!T118","v":0.27192441716522353},{"$f":"Sichtfeld!U118","v":1.6995276072825687E-2},1.8305914969310861,957.43807558283481,-5.8186458619445824E-2,6.5691991041654019E-2,885.30472889772091,1001.7504715791548]
[{"$f":"Sichtfeld!A119","v":950},null,{"$f":"Sichtfeld!D119","v":3.7314102467007615E-2},{"$f":"Sichtfeld!E119","v":6.2190170778388312E-3},3.5217665597724359,970.78268589753304,-0.46934203782769668,5.7650626478185316,504.12506406368817,1500,null,{"$f":"Sichtfeld!L119","v":6.6527134811735777E-2},{"$f":"Sichtfeld!M119","v":8.3158918514658776E-3},3.5291056214801304,970.01347286518831,-0.32995600224137267,0.93286068845395365,636.54179787069597,1500,null,null,{"$f":"Sichtfeld!T119","v":0.26906557279261278},{"$f":"Sichtfeld!U119","v":1.6816598299538604E-2},1.8302698769391694,967.44093442720737,-5.8748202031013275E-2,6.6410528613383146E-2,894.18920807053735,1013.090002182714]
[{"$f":"Sichtfeld!A120","v":960},null,{"$f":"Sichtfeld!D120","v":3.6931293900863693E-2},{"$f":"Sichtfeld!E120","v":6.1552156501489185E-3},3.5215432547755214,980.78306870609913,-0.47183890436434972,6.1824574716018708,507.03465181022426,1500,null,{"$f":"Sichtfeld!L120","v":6.5842662390139139E-2},{"$f":"Sichtfeld!M120","v":8.2303327987653715E-3},3.5288061647956788,980.01415733760996,-0.3321796918180695,0.95123633293178078,641.10749585465328,1500,null,null,{"$f":"Sichtfeld!T120","v":0.26626623171870278},{"$f":"Sichtfeld!U120","v":1.6641639482416367E-2},1.8299549510683493,977.44373376828139,-5.9309272796209456E-2,6.7130032016096353E-2,903.06309811563892,1024.4448307354526]
[{"$f":"Sichtfeld!A121","v":970},null,{"$f":"Sichtfeld!D121","v":3.6556260392956119E-2},{"$f":"Sichtfeld!E121","v":6.0927100654898057E-3},3.521324485229214,990.78344373960704,-0.47431240514264827,6.6547483503804541,509.91696701163119,1500,null,{"$f":"Sichtfeld!L121","v":6.5172132012435213E-2},{"$f":"Sichtfeld!M121","v":8.1465165015567591E-3},3.5285128077554488,990.01482786798761,-0.33438868444546699,0.96996483814017331,645.64297608789707,1500,null,null,{"$f":"Sichtfeld!T121","v":0.26352455484766324},{"$f":"Sichtfeld!U121","v":1.6470284677977991E-2},1.8296465124203605,987.44647544515237,-5.9869672216905534E-2,6.7850503319490718E-2,911.92641794960161,1035.8149882199059]
[{"$f":"Sichtfeld!A122","v":980},null,{"$f":"Sichtfeld!D122","v":3.6188767442240533E-2},{"$f":"Sichtfeld!E122","v":6.0314612403732986E-3},3.5211101143413068,1000.7838112325578,-0.4767628659892037,7.1935274075517199,512.77239133058038,1500,null,{"$f":"Sichtfeld!L122","v":6.4515121966962852E-2},{"$f":"Sichtfeld!M122","v":8.0643902458675948E-3},3.5282253658605369,1000.015484878033,-0.33658312492803466,0.9890564628522549,650.14853757052606,1500,null,null,{"$f":"Sichtfeld!T122","v":0.26083877811998946},{"$f":"Sichtfeld!U122","v":1.6302423632499105E-2},1.8293443625384984,997.4491612218801,-6.0429401587640652E-2,6.8571944594029599E-2,920.77918644411216,1047.200505702149]
[{"$f":"Sichtfeld!A123","v":990},null,{"$f":"Sichtfeld!D123","v":3.5828589884602025E-2},{"$f":"Sichtfeld!E123","v":5.9714316474348758E-3},3.520900010766022,1010.7841714101155,-0.4791906067259365,7.8138977017541684,515.60129934132283,1500,null,{"$f":"Sichtfeld!L123","v":6.3871227380730033E-2},{"$f":"Sichtfeld!M123","v":7.9839034225918926E-3},3.5279436619790716,1010.0161287726194,-0.3387631561909904,1.0085218675511731,654.62447537091953,1500,null,null,{"$f":"Sichtfeld!T123","v":0.25820720872292213},{"$f":"Sichtfeld!U123","v":1.6137950545184333E-2},1.829048310981332,1007.4517927912771,-6.0988462195866733E-2,6.929435791120131E-2,929.62142242609195,1058.6014143320892]
[{"$f":"Sichtfeld!A124","v":1000},null,{"$f":"Sichtfeld!D124","v":3.5475511432480289E-2},{"$f":"Sichtfeld!E124","v":5.9125852387470002E-3},3.5206940483356144,1020.7845244885675,-0.48159594130651306,8.5359113236125062,518.40405869348695,1500,null,{"$f":"Sichtfeld!L124","v":6.3240059387680958E-2},{"$f":"Sichtfeld!M124","v":7.9050074234634539E-3},3.527667525982122,1020.0167599406124,-0.34092891930985203,1.0283721342796595,659.07108069014794,1500,null,null,{"$f":"Sichtfeld!T124","v":0.25562822152880926},{"$f":"Sichtfeld!U124","v":1.5976763845551713E-2},1.828758174921993,1017.4543717784712,-6.154685532217441E-2,7.0017745343757376E-2,938.45314467782555,1070.0177453437573]
[]
[]
[]
[]
[]
[]
[]
[]
[]
[]
[]
[]
[]
[]
[]
[]
[]
[]
[]
[]
[]
[]
[]
[]
[]
[]
[]
[]
[]
[]
[null,null,"y = 0.0031x2 + 0.2133x + 68.382"]

{"sheet":"Daten Gesamt","index":6,"n_rows":13,"n_cols":7,"rows_kept":13,"cut":false,"hidden":true,"merged":[[5,1,5,2],[5,3,5,4],[5,5,5,6],[8,1,8,2],[8,3,8,4],[8,5,8,6],[2,1,2,2],[0,1,0,2],[0,3,0,4],[2,3,2,4],[0,5,0,6],[2,5,2,6]]}
["Gerät","IDC200.W06",null,"IDC200.W08",null,"IDC200.W16"]
["Wertebereich (Nutzabstand)",50,1000,50,1000,100,1000]
["Bereich","Bildfeld",null,"Bildfeld",null,"Bildfeld"]
["Bereich x/ y","Bildfeld x in mm","Bildfeld y in mm","Bildfeld x in mm","Bildfeld y in mm","Bildfeld x in mm","Bildfeld y in mm"]
["Funktion","y = 0.6395x + 9.4062","y = 0.4x + 6","y = 0.4807x + 5.4607","y = 0.301x + 3.4154","y = 0.2399x + 0.0592","y = 0.1502x + 0.0912"]
["Bereich","Modulgrösse",null,"Modulgrösse",null,"Modulgrösse"]
["Bereich 1D / 2D","1D","2D","1D","2D","1D","2D"]
["Funktion","y = 0.0008x + 0.0108","y = 0.0015x + 0.0219","y = 0.0006x + 0.0065","y = 0.0011x + 0.0129","y = 0.0003x + 3E-05","y = 0.0006x - 8E-05"]
["Bereich","Schärfentiefe",null,"Schärfentiefe",null,"Schärfentiefe"]
["Bereich nah/fern","nah","fern","nah","fern","nah","fern"]
["Funktion","y = -0.0003x2 + 0.7875x + 15.973",null,null,null,"y = -0.0057x2 + 9.9606x - 9.5868","y = 0.0071x2 + 9.9734x - 9.5555"]
[]
["Fixwerte"]

{"sheet":"IDC Sichtfeldrechner","index":7,"n_rows":100,"n_cols":11,"rows_kept":100,"cut":false,"hidden":false,"merged":[[8,4,8,6],[5,5,5,6],[13,10,13,11],[14,10,14,11],[15,10,15,11],[22,2,22,3],[22,4,22,5],[31,2,31,3],[29,2,29,3],[31,4,31,5],[21,4,21,5],[21,6,21,7],[31,6,31,7],[22,6,22,7],[29,4,29,5],[29,6,29,7]]}
[]
[null,null,null,"IDC Sichtfeldrechner"]
[]
[]
[]
[null,{"$f":"IF(K18=1,\"IDC2xx.W06\",IF(K18=2,\"IDC2xx.W08\",\"IDC2xx.W16\"))","v":"IDC2xx.W06"},null,null,null,"Leseabstand eingeben:",null,500]
[]
[null,null,"Leseabstand"]
[null,null,{"$f":"H6","v":500},null,"Modulgrösse eingeben (optional):"]
[null,null,null,null,null,null,null,{"$f":"IF(ISNUMBER(H9),H9*39.37,\"\")","v":""}]
[null,"Sichtfeldbreite"]
[null,{"$f":"IF(K18=1,$C$24,IF(K18=2,$E$24,IF(K18=3,$G$24,\"\")))","v":329.44004041345568}]
[]
[]
[]
[null,"Sichtfeldhöhe"]
[null,{"$f":"IF(K18=1,$D$24,IF(K18=2,$F$24,IF(K18=3,$H$24,\"\")))","v":205.90002525840981}]
[null,null,null,null,null,null,null,null,null,null,1]
[]
[]
[]
[null,"Ergebnisse"]
[null,"Leseabstand [mm]",{"$f":"H6","v":500},null,{"$f":"H6","v":500},null,{"$f":"H6","v":500}]
[null,"Sichtfeld x*y [mm]",{"$f":"IF(ISNUMBER(C71),$C$56/C71,\"\")","v":329.44004041345568},{"$f":"IF(ISNUMBER(C71),$C$57/C71,\"\")","v":205.90002525840981},{"$f":"IF(ISNUMBER(E71),$C$56/E71,\"\")","v":245.73839472481109},{"$f":"IF(ISNUMBER(E71),$C$57/E71,\"\")","v":153.58649670300693},{"$f":"IF(ISNUMBER(G71),$C$56/G71,\"\")","v":120.28781401636911},{"$f":"IF(ISNUMBER(G71),$C$57/G71,\"\")","v":75.179883760230695}]
[null,"Tiefenscharfe von…bis [mm] bis max. 1.5m",{"$f":"$H$6*$C$99+$H$6","v":336.99239382468005},{"$f":"IF(($H$6*$C$100+$H$6)>1500,1500,$H$6*$C$100+$H$6)","v":935.90667444664723},{"$f":"$H$6*$E$99+$H$6","v":394.04981680953023},{"$f":"IF(($H$6*$E$100+$H$6)>1500,1500,$H$6*$E$100+$H$6)","v":678.829734370653},{"$f":"IF(ISNUMBER(G99),$H$6*$G$99+$H$6,\"\")","v":483.60903956525743},{"$f":"IF(ISNUMBER(G100),$H$6*$G$100+$H$6,\"\")","v":517.50018416248588}]
[null,"Code Modulgrösse"]
[null,"minimale Modulgrösse 1D [mm] | [mil]",{"$f":"IF(ISNUMBER($C$71),$C$58*$C$54/$C$71,\"\")/1000","v":0.38606254735951839},{"$f":"C27*39.37","v":15.199282489544238},{"$f":"IF(ISNUMBER(E71),$C$58*$C$54/E71,\"\")/1000","v":0.28797468131813803},{"$f":"E27*39.37","v":11.337563203495094},{"$f":"IF(ISNUMBER(G24),$C$58*$C$54/G71/1000,\"\")","v":0.14096228205043257},{"$f":"IF(ISNUMBER(G24),G27*39.37,\"\")","v":5.5496850443255301}]
[null,"minimale Modulgrösse 2D [mm]  | [mil]",{"$f":"IF(ISNUMBER(C71),$C$59*$C$54/C71,\"\")/1000","v":0.77212509471903679},{"$f":"C28*39.37","v":30.398564979088476},{"$f":"IF(ISNUMBER(E71),$C$59*$C$54/E71,\"\")/1000","v":0.57594936263627605},{"$f":"E28*39.37","v":22.675126406990188},{"$f":"IF(ISNUMBER(G71),$C$59*$C$54/G71/1000,\"\")","v":0.28192456410086514},{"$f":"IF(ISNUMBER(G24),G28*39.37,\"\")","v":11.09937008865106}]
[null,"Textgrösse*"]
[null,"Mindesttexthöhe* [mm]",{"$f":"C24/$C$53*25","v":6.4343757893253057},null,{"$f":"F24/E52*25","v":4.7995780219689665},null,{"$f":"IF(ISNUMBER(H24),H24/G52*25,\"\")","v":2.3493713675072092}]
[null,"Pixelgrösse"]
[null,"Pixel pro Milimeter",{"$f":"C53/C24","v":3.8853807764034003},null,{"$f":"E52/F24","v":5.2087912490573629},null,{"$f":"G52/H24","v":10.641144412399196}]
[]
[null,"*Die Zeichengrösse hängt stark von der Schriftart und der Druckqualität ab. Diese Zahlen sind nur als allgemeiner Hinweis gedacht."]
[]
[]
[]
[]
[]
[]
[]
[]
[]
[]
[]
[]
[]
[]
[]
[]
[null,"Hilfsdaten:"]
[null,"Bildhöhe",800,null,800,null,800]
[null,"Bildbreite",1280,null,1280,null,1280]
[null,"Pixelgrösse",3,null,3,null,3]
[null,"Abstand Gehäusefront zu Sensor [mm]",34,null,34,null,34]
[null,"Sensorbreite [mm]",3.84,null,3.84,null,3.84]
[null,"Sensorhöhe [mm]",2.4,null,2.4,null,2.4]
[null,"Min. Breite Modul 1D-Code [px]",1.5,null,1.5,null,1.5]
[null,"Min. Breite Modul 2D-Code [px]",3,null,3,null,3]
[null,"Brennweite f [mm]",6,null,8,null,16]
[null,"Hauptebene 1 [mm]",9.02,null,8.2799999999999976,null,5.8500000000000014]
[null,"Hauptebene 2 [mm]",16.37,null,14.109999999999998,null,9.67]
[null,"Bildebene [mm]",22.2,null,22.2,null,22.14]
[null,"Position Front Objektiv bei unendlich",22.2,null,22.2,null,22.14]
[null,"Abstand Gehäusefront zu H1 bei unendlich => g_i [mm]",20.82,null,20.079999999999998,null,17.71]
[null,"x_max [mm]",2.6,null,2.6,null,2.6]
[null,"Min. Arbeitsabstand [mm]",50,null,50,null,100]
[]
[null,"p",{"$f":"$C$60-$H$6-C65","v":-514.82000000000005},null,{"$f":"E60-$H$6-E65","v":-512.08000000000004},null,{"$f":"G60-$H$6-G65","v":-501.71}]
[null,"x",{"$f":"IF(C69^2/4-C$60^2 >=0,-C69/2-SQRT(C69^2/4-C$60^2),\"\")","v":6.9936853975264057E-2},null,{"$f":"IF(E69^2/4-E$60^2 >=0,-E69/2-SQRT(E69^2/4-E$60^2),\"\")","v":0.12501098997736904},null,{"$f":"IF(G69^2/4-G$60^2 >=0,-G69/2-SQRT(G69^2/4-G$60^2),\"\")","v":0.51077493179516864}]
[null,"beta",{"$f":"IF(H6>49,IF(AND(ISNUMBER(C70),C70<C$66),(C$60+C70)/($H6+C$65-C70),\"\"),\"\")","v":1.16561423292102E-2},null,{"$f":"IF(AND(ISNUMBER(E70),E70<E$66,H6>49),(E$60+E70)/($H6+E$65-E70),\"\")","v":1.5626373747172087E-2},null,{"$f":"IF(AND(ISNUMBER(G70),G70<G$66),(G$60+G70)/($H6+G$65-G70),\"\")","v":3.1923433237197589E-2}]
[null,null,"1D","2D","1D","2D","1D","2D"]
[null,"beta min (min. Auflösung)",{"$f":"C$58*C$54/$H$9","v":{"$error":"#DIV/0!"}},{"$f":"C$59*C$54/$H$9","v":{"$error":"#DIV/0!"}},{"$f":"E$58*E$54/$H$9","v":{"$error":"#DIV/0!"}},{"$f":"E$59*E$54/$H$9","v":{"$error":"#DIV/0!"}},{"$f":"G$58*G$54/$H$9","v":{"$error":"#DIV/0!"}},{"$f":"G$59*G$54/$H$9","v":{"$error":"#DIV/0!"}}]
[null,"p für x-Berechnung",{"$f":"(1-C73)*C$60","v":{"$error":"#DIV/0!"}},{"$f":"(1-D73)*C$60","v":{"$error":"#DIV/0!"}},{"$f":"(1-E73)*E$60","v":{"$error":"#DIV/0!"}},{"$f":"(1-F73)*E$60","v":{"$error":"#DIV/0!"}},{"$f":"(1-G73)*G$60","v":{"$error":"#DIV/0!"}},{"$f":"(1-H73)*G$60","v":{"$error":"#DIV/0!"}}]
[null,"q für x-Berechnung",{"$f":"-C73*C$60^2","v":{"$error":"#DIV/0!"}},{"$f":"-D73*C$60^2","v":{"$error":"#DIV/0!"}},{"$f":"-E73*E$60^2","v":{"$error":"#DIV/0!"}},{"$f":"-F73*E$60^2","v":{"$error":"#DIV/0!"}},{"$f":"-G73*G$60^2","v":{"$error":"#DIV/0!"}},{"$f":"-H73*G$60^2","v":{"$error":"#DIV/0!"}}]
[null,"x",{"$f":"-C74/2+SQRT((C74/2)^2-C75)","v":{"$error":"#DIV/0!"}},{"$error":"#DIV/0!"},{"$error":"#DIV/0!"},{"$error":"#DIV/0!"},{"$error":"#DIV/0!"},{"$error":"#DIV/0!"}]
[null,"g (gesamt)",{"$f":"IF(C76<=C$66,(C$60^2+C$60*C76)/C76,0)","v":{"$error":"#DIV/0!"}},{"$f":"IF(D76<=C$66,(C$60^2+C$60*D76)/D76,0)","v":{"$error":"#DIV/0!"}},{"$f":"IF(E76<=E$66,(E$60^2+E$60*E76)/E76,0)","v":{"$error":"#DIV/0!"}},{"$f":"IF(F76<=E$66,(E$60^2+E$60*F76)/F76,0)","v":{"$error":"#DIV/0!"}},{"$f":"IF(G76<=G$66,(G$60^2+G$60*G76)/G76,0)","v":{"$error":"#DIV/0!"}},{"$f":"IF(H76<=G$66,(G$60^2+G$60*H76)/H76,0)","v":{"$error":"#DIV/0!"}}]
[null,"g_a (außen)",{"$f":"IF(C76<=C$66,C77-C$65+C76,0)","v":{"$error":"#DIV/0!"}},{"$f":"IF(D76<=C$66,D77-C$65+D76,0)","v":{"$error":"#DIV/0!"}},{"$f":"IF(E76<=E$66,E77-E$65+E76,0)","v":{"$error":"#DIV/0!"}},{"$f":"IF(F76<=E$66,F77-E$65+F76,0)","v":{"$error":"#DIV/0!"}},{"$f":"IF(G76<=G$66,G77-G$65+G76,0)","v":{"$error":"#DIV/0!"}},{"$f":"IF(H76<=G$66,H77-G$65+H76,0)","v":{"$error":"#DIV/0!"}}]
[null,"beta min (opt. Auflösung)",{"$f":"2*C$58*C$54/$H$9","v":{"$error":"#DIV/0!"}},{"$f":"2*C$59*C$54/$H$9","v":{"$error":"#DIV/0!"}},{"$f":"2*E$58*E$54/$H$9","v":{"$error":"#DIV/0!"}},{"$f":"2*E$59*E$54/$H$9","v":{"$error":"#DIV/0!"}},{"$f":"2*G$58*G$54/$H$9","v":{"$error":"#DIV/0!"}},{"$f":"2*G$59*G$54/$H$9","v":{"$error":"#DIV/0!"}}]
[null,"p für x-Berechnung",{"$f":"(1-C79)*C$60","v":{"$error":"#DIV/0!"}},{"$f":"(1-D79)*C$60","v":{"$error":"#DIV/0!"}},{"$f":"(1-E79)*E$60","v":{"$error":"#DIV/0!"}},{"$f":"(1-F79)*E$60","v":{"$error":"#DIV/0!"}},{"$f":"(1-G79)*G$60","v":{"$error":"#DIV/0!"}},{"$f":"(1-H79)*G$60","v":{"$error":"#DIV/0!"}}]
[null,"q für x-Berechnung",{"$f":"-C79*C$60^2","v":{"$error":"#DIV/0!"}},{"$f":"-D79*C$60^2","v":{"$error":"#DIV/0!"}},{"$f":"-E79*E$60^2","v":{"$error":"#DIV/0!"}},{"$f":"-F79*E$60^2","v":{"$error":"#DIV/0!"}},{"$f":"-G79*G$60^2","v":{"$error":"#DIV/0!"}},{"$f":"-H79*G$60^2","v":{"$error":"#DIV/0!"}}]
[null,"x",{"$f":"-C80/2+SQRT((C80/2)^2-C81)","v":{"$error":"#DIV/0!"}},{"$error":"#DIV/0!"},{"$error":"#DIV/0!"},{"$error":"#DIV/0!"},{"$error":"#DIV/0!"},{"$error":"#DIV/0!"}]
[null,"g (gesamt)",{"$f":"IF(C82<=C$66,(C$60^2+C$60*C82)/C82,0)","v":{"$error":"#DIV/0!"}},{"$f":"IF(D82<=C$66,(C$60^2+C$60*D82)/D82,0)","v":{"$error":"#DIV/0!"}},{"$f":"IF(E82<=E$66,(E$60^2+E$60*E82)/E82,0)","v":{"$error":"#DIV/0!"}},{"$f":"IF(F82<=E$66,(E$60^2+E$60*F82)/F82,0)","v":{"$error":"#DIV/0!"}},{"$f":"IF(G82<=G$66,(G$60^2+G$60*G82)/G82,0)","v":{"$error":"#DIV/0!"}},{"$f":"IF(H82<=G$66,(G$60^2+G$60*H82)/H82,0)","v":{"$error":"#DIV/0!"}}]
[null,"g_a (außen)",{"$f":"IF(C82<=C$66,C83-C$65+C82,0)","v":{"$error":"#DIV/0!"}},{"$f":"IF(D82<=C$66,D83-C$65+D82,0)","v":{"$error":"#DIV/0!"}},{"$f":"IF(E82<=E$66,E83-E$65+E82,0)","v":{"$error":"#DIV/0!"}},{"$f":"IF(F82<=E$66,F83-E$65+F82,0)","v":{"$error":"#DIV/0!"}},{"$f":"IF(G82<=G$66,G83-G$65+G82,0)","v":{"$error":"#DIV/0!"}},{"$f":"IF(H82<=G$66,H83-G$65+H82,0)","v":{"$error":"#DIV/0!"}}]
[]
[null,"SCHÄRFENTIEFE"]
[null,"Brennweite f [mm]",6,null,8,null,16]
[null,"Blende",3.5,null,3.5,null,1.8]
[null,"ø Zerstreuungskreis Code lesen [µm]",9,null,9,null,9]
[null,"Hauptebene 1 [mm]",9.02,null,8.2799999999999976,null,5.8500000000000014]
[null,"Hauptebene 2 [mm]",16.37,null,14.109999999999998,null,9.67]
[null,"Bildebene [mm]",22.2,null,22.2,null,22.14]
[null,"Position Front Objektiv bei unendlich",22.2,null,22.2,null,22.14]
[null,"Abstand Gehäusefront zu H1 bei unendlich => g_i [mm]",20.82,null,20.079999999999998,null,17.71]
[null,"x_max [mm]",2.6,null,2.6,null,2.6]
[]
[null,"k eff.",{"$f":"$C$88*(1+$C$71)","v":3.5407964981522362},null,{"$f":"$E$88*(1+$E$71)","v":3.5546923081151021},null,{"$f":"IF(ISNUMBER(G71),$G$88*(1+$G$71),\"\")","v":1.8574621798269557}]
[null,"g",{"$f":"$H$6+C$94-C$70","v":520.75006314602479},null,{"$f":"$H$6+E$94-E$70","v":519.9549890100227},null,{"$f":"IF(ISNUMBER(G71),$H$6+G$94-G$70,\"\")","v":517.1992250682049}]
[null,"nah [%]",{"$f":"(C98*C$87^2/(C$87^2+C$97*C$89/1000*(C98-C$87))-(C$94-C$70))/$H$6-1","v":-0.3260152123506399},null,{"$f":"(E98*E$87^2/(E$87^2+E$97*E$89/1000*(E98-E$87))-(E$94-E$70))/$H$6-1","v":-0.21190036638093956},null,{"$f":"IF(ISNUMBER(G71),(G98*G$87^2/(G$87^2+G$97*G$89/1000*(G98-G$87))-(G$94-G$70))/$H$6-1,\"\")","v":-3.278192086948517E-2}]
[null,"fern [%]",{"$f":"(C98*C$87^2/(C$87^2-C$97*C$89/1000*(C98-C$87))-(C$94-C$70))/$H$6-1","v":0.87181334889329443},null,{"$f":"(E98*E$87^2/(E$87^2-E$97*E$89/1000*(E98-E$87))-(E$94-E$70))/$H$6-1","v":0.35765946874130594},null,{"$f":"IF(ISNUMBER(G71),(G98*G$87^2/(G$87^2-G$97*G$89/1000*(G98-G$87))-(G$94-G$70))/$H$6-1,\"\")","v":3.5000368324971776E-2}]

{"sheet":"IDC FoV Calculator English","index":8,"n_rows":95,"n_cols":9,"rows_kept":95,"cut":false,"hidden":true,"merged":[[24,1,24,2],[24,3,24,4],[24,5,24,6],[26,1,26,2],[26,3,26,4],[26,5,26,6],[16,1,16,2],[16,3,16,4],[16,5,16,6],[17,1,17,2],[17,3,17,4],[17,5,17,6],[1,11,1,12],[14,1,14,2],[14,3,14,4],[14,5,14,6],[15,1,15,2],[15,3,15,4],[15,5,15,6]]}
["Field of View Calculator"]
[]
[{"$f":"IF(B16=1,\"IDC200.W06\",IF(B16=2,\"IDC200.W08\",\"IDC200.W16\"))","v":"IDC200.W16"},null,null,null,null,"Type in reading distance:",null,500]
[]
[]
[null,{"$f":"H3","v":500}]
[]
["FoV Width",null,null,null,null,"Type in module size:",null,null,"[mm]"]
[{"$f":"IF($B$16=1,$B$19,IF($B$16=2,$D$19,IF($B$16=3,$F$19,\"\")))","v":120.28781401636911},null,null,null,null,null,null,{"$f":"IF(ISNUMBER(H8),H8*39.37,\"\")","v":""},"[mil]"]
[]
[]
[]
["FoV Height"]
[{"$f":"IF($B$16=1,$C$19,IF($B$16=2,$E$19,IF($B$16=3,$G$19,\"\")))","v":75.179883760230695}]
[null,"Link Website - W06",null,"Link Website - W08",null,"Link Website - W16"]
[null,3,2,false,null,false]
["Results"]
["reading distance [mm]",{"$f":"H3","v":500},null,{"$f":"H3","v":500},null,{"$f":"H3","v":500}]
["Field of view x*y [mm]",{"$f":"IF(ISNUMBER(B66),$B$51/B66,\"\")","v":329.44004041345568},{"$f":"IF(ISNUMBER(B66),$B$52/B66,\"\")","v":205.90002525840981},{"$f":"IF(ISNUMBER(D66),$B$51/D66,\"\")","v":245.73839472481109},{"$f":"IF(ISNUMBER(D66),$B$52/D66,\"\")","v":153.58649670300693},{"$f":"IF(ISNUMBER(F66),$B$51/F66,\"\")","v":120.28781401636911},{"$f":"IF(ISNUMBER(F66),$B$52/F66,\"\")","v":75.179883760230695}]
["depth of field from…to [mm] until max. 1.5m",{"$f":"$H$3*$B$94+$H$3","v":336.99239382468005},{"$f":"IF(($H$3*$B$95+$H$3)>1500,1500,$H$3*$B$95+$H$3)","v":935.90667444664723},{"$f":"$H$3*$D$94+$H$3","v":394.04981680953023},{"$f":"IF(($H$3*$D$95+$H$3)>1500,1500,$H$3*$D$95+$H$3)","v":678.829734370653},{"$f":"IF(ISNUMBER(F94),$H$3*$F$94+$H$3,\"\")","v":483.60903956525743},{"$f":"IF(ISNUMBER(F95),$H$3*$F$95+$H$3,\"\")","v":517.50018416248588}]
["Code module size"]
["minimum module size 1D [mm] | [mil]",{"$f":"IF(ISNUMBER($B$66),$B$53*$B$49/$B$66,\"\")/1000","v":0.38606254735951839},{"$f":"B22*39.37","v":15.199282489544238},{"$f":"IF(ISNUMBER(D66),$B$53*$B$49/D66,\"\")/1000","v":0.28797468131813803},{"$f":"D22*39.37","v":11.337563203495094},{"$f":"IF(ISNUMBER(F19),$B$53*$B$49/F66/1000,\"\")","v":0.14096228205043257},{"$f":"IF(ISNUMBER(F19),F22*39.37,\"\")","v":5.5496850443255301}]
["minimum module size 2D [mm] | [mil]",{"$f":"IF(ISNUMBER(B66),$B$54*$B$49/B66,\"\")/1000","v":0.77212509471903679},{"$f":"B23*39.37","v":30.398564979088476},{"$f":"IF(ISNUMBER(D66),$B$54*$B$49/D66,\"\")/1000","v":0.57594936263627605},{"$f":"D23*39.37","v":22.675126406990188},{"$f":"IF(ISNUMBER(F66),$B$54*$B$49/F66/1000,\"\")","v":0.28192456410086514},{"$f":"IF(ISNUMBER(F19),F23*39.37,\"\")","v":11.09937008865106}]
["Text size for OCR and OCV"]
["minimum text height [mm]",{"$f":"B19/$B$48*25","v":6.4343757893253057},null,{"$f":"E19/D47*25","v":4.7995780219689665},null,{"$f":"IF(ISNUMBER(G19),G19/F47*25,\"\")","v":2.3493713675072092}]
["pixel size"]
["pixel per milimeter",{"$f":"B48/B19","v":3.8853807764034003},null,{"$f":"D47/E19","v":5.2087912490573629},null,{"$f":"F47/G19","v":10.641144412399196}]
[]
[]
[]
[]
[]
[]
[]
[]
[]
[]
[]
[]
[]
[]
[]
[]
[]
[]
["Hilfsdaten:"]
["Bildhöhe",800,null,800,null,800]
["Bildbreite",1280,null,1280,null,1280]
["Pixelgrösse",3,null,3,null,3]
["Abstand Gehäusefront zu Sensor [mm]",34,null,34,null,34]
["Sensorbreite [mm]",3.84,null,3.84,null,3.84]
["Sensorhöhe [mm]",2.4,null,2.4,null,2.4]
["Min. Breite Modul 1D-Code [px]",1.5,null,1.5,null,1.5]
["Min. Breite Modul 2D-Code [px]",3,null,3,null,3]
["Brennweite f [mm]",6,null,8,null,16]
["Hauptebene 1 [mm]",9.02,null,8.2799999999999976,null,5.8500000000000014]
["Hauptebene 2 [mm]",16.37,null,14.109999999999998,null,9.67]
["Bildebene [mm]",22.2,null,22.2,null,22.14]
["Position Front Objektiv bei unendlich",22.2,null,22.2,null,22.14]
["Abstand Gehäusefront zu H1 bei unendlich => g_i [mm]",20.82,null,20.079999999999998,null,17.71]
["x_max [mm]",2.6,null,2.6,null,2.6]
["Min. Arbeitsabstand [mm]",50,null,50,null,100]
[]
["p",{"$f":"$B$55-$H$3-B60","v":-514.82000000000005},null,{"$f":"D55-$H$3-D60","v":-512.08000000000004},null,{"$f":"F55-$H$3-F60","v":-501.71}]
["x",{"$f":"IF(B64^2/4-B$55^2 >=0,-B64/2-SQRT(B64^2/4-B$55^2),\"\")","v":6.9936853975264057E-2},null,{"$f":"IF(D64^2/4-D$55^2 >=0,-D64/2-SQRT(D64^2/4-D$55^2),\"\")","v":0.12501098997736904},null,{"$f":"IF(F64^2/4-F$55^2 >=0,-F64/2-SQRT(F64^2/4-F$55^2),\"\")","v":0.51077493179516864}]
["beta",{"$f":"IF(H3>49,IF(AND(ISNUMBER(B65),B65<B$61),(B$55+B65)/($H3+B$60-B65),\"\"),\"\")","v":1.16561423292102E-2},null,{"$f":"IF(AND(ISNUMBER(D65),D65<D$61,H3>49),(D$55+D65)/($H3+D$60-D65),\"\")","v":1.5626373747172087E-2},null,{"$f":"IF(AND(ISNUMBER(F65),F65<F$61),(F$55+F65)/($H3+F$60-F65),\"\")","v":3.1923433237197589E-2}]
[null,"1D","2D","1D","2D","1D","2D"]
["beta min (min. Auflösung)",{"$f":"B$53*B$49/$H$8","v":{"$error":"#DIV/0!"}},{"$f":"B$54*B$49/$H$8","v":{"$error":"#DIV/0!"}},{"$f":"D$53*D$49/$H$8","v":{"$error":"#DIV/0!"}},{"$f":"D$54*D$49/$H$8","v":{"$error":"#DIV/0!"}},{"$f":"F$53*F$49/$H$8","v":{"$error":"#DIV/0!"}},{"$f":"F$54*F$49/$H$8","v":{"$error":"#DIV/0!"}}]
["p für x-Berechnung",{"$f":"(1-B68)*B$55","v":{"$error":"#DIV/0!"}},{"$f":"(1-C68)*B$55","v":{"$error":"#DIV/0!"}},{"$f":"(1-D68)*D$55","v":{"$error":"#DIV/0!"}},{"$f":"(1-E68)*D$55","v":{"$error":"#DIV/0!"}},{"$f":"(1-F68)*F$55","v":{"$error":"#DIV/0!"}},{"$f":"(1-G68)*F$55","v":{"$error":"#DIV/0!"}}]
["q für x-Berechnung",{"$f":"-B68*B$55^2","v":{"$error":"#DIV/0!"}},{"$f":"-C68*B$55^2","v":{"$error":"#DIV/0!"}},{"$f":"-D68*D$55^2","v":{"$error":"#DIV/0!"}},{"$f":"-E68*D$55^2","v":{"$error":"#DIV/0!"}},{"$f":"-F68*F$55^2","v":{"$error":"#DIV/0!"}},{"$f":"-G68*F$55^2","v":{"$error":"#DIV/0!"}}]
["x",{"$f":"-B69/2+SQRT((B69/2)^2-B70)","v":{"$error":"#DIV/0!"}},{"$error":"#DIV/0!"},{"$error":"#DIV/0!"},{"$error":"#DIV/0!"},{"$error":"#DIV/0!"},{"$error":"#DIV/0!"}]
["g (gesamt)",{"$f":"IF(B71<=B$61,(B$55^2+B$55*B71)/B71,0)","v":{"$error":"#DIV/0!"}},{"$f":"IF(C71<=B$61,(B$55^2+B$55*C71)/C71,0)","v":{"$error":"#DIV/0!"}},{"$f":"IF(D71<=D$61,(D$55^2+D$55*D71)/D71,0)","v":{"$error":"#DIV/0!"}},{"$f":"IF(E71<=D$61,(D$55^2+D$55*E71)/E71,0)","v":{"$error":"#DIV/0!"}},{"$f":"IF(F71<=F$61,(F$55^2+F$55*F71)/F71,0)","v":{"$error":"#DIV/0!"}},{"$f":"IF(G71<=F$61,(F$55^2+F$55*G71)/G71,0)","v":{"$error":"#DIV/0!"}}]
["g_a (außen)",{"$f":"IF(B71<=B$61,B72-B$60+B71,0)","v":{"$error":"#DIV/0!"}},{"$f":"IF(C71<=B$61,C72-B$60+C71,0)","v":{"$error":"#DIV/0!"}},{"$f":"IF(D71<=D$61,D72-D$60+D71,0)","v":{"$error":"#DIV/0!"}},{"$f":"IF(E71<=D$61,E72-D$60+E71,0)","v":{"$error":"#DIV/0!"}},{"$f":"IF(F71<=F$61,F72-F$60+F71,0)","v":{"$error":"#DIV/0!"}},{"$f":"IF(G71<=F$61,G72-F$60+G71,0)","v":{"$error":"#DIV/0!"}}]
["beta min (opt. Auflösung)",{"$f":"2*B$53*B$49/$H$8","v":{"$error":"#DIV/0!"}},{"$f":"2*B$54*B$49/$H$8","v":{"$error":"#DIV/0!"}},{"$f":"2*D$53*D$49/$H$8","v":{"$error":"#DIV/0!"}},{"$f":"2*D$54*D$49/$H$8","v":{"$error":"#DIV/0!"}},{"$f":"2*F$53*F$49/$H$8","v":{"$error":"#DIV/0!"}},{"$f":"2*F$54*F$49/$H$8","v":{"$error":"#DIV/0!"}}]
["p für x-Berechnung",{"$f":"(1-B74)*B$55","v":{"$error":"#DIV/0!"}},{"$f":"(1-C74)*B$55","v":{"$error":"#DIV/0!"}},{"$f":"(1-D74)*D$55","v":{"$error":"#DIV/0!"}},{"$f":"(1-E74)*D$55","v":{"$error":"#DIV/0!"}},{"$f":"(1-F74)*F$55","v":{"$error":"#DIV/0!"}},{"$f":"(1-G74)*F$55","v":{"$error":"#DIV/0!"}}]
["q für x-Berechnung",{"$f":"-B74*B$55^2","v":{"$error":"#DIV/0!"}},{"$f":"-C74*B$55^2","v":{"$error":"#DIV/0!"}},{"$f":"-D74*D$55^2","v":{"$error":"#DIV/0!"}},{"$f":"-E74*D$55^2","v":{"$error":"#DIV/0!"}},{"$f":"-F74*F$55^2","v":{"$error":"#DIV/0!"}},{"$f":"-G74*F$55^2","v":{"$error":"#DIV/0!"}}]
["x",{"$f":"-B75/2+SQRT((B75/2)^2-B76)","v":{"$error":"#DIV/0!"}},{"$error":"#DIV/0!"},{"$error":"#DIV/0!"},{"$error":"#DIV/0!"},{"$error":"#DIV/0!"},{"$error":"#DIV/0!"}]
["g (gesamt)",{"$f":"IF(B77<=B$61,(B$55^2+B$55*B77)/B77,0)","v":{"$error":"#DIV/0!"}},{"$f":"IF(C77<=B$61,(B$55^2+B$55*C77)/C77,0)","v":{"$error":"#DIV/0!"}},{"$f":"IF(D77<=D$61,(D$55^2+D$55*D77)/D77,0)","v":{"$error":"#DIV/0!"}},{"$f":"IF(E77<=D$61,(D$55^2+D$55*E77)/E77,0)","v":{"$error":"#DIV/0!"}},{"$f":"IF(F77<=F$61,(F$55^2+F$55*F77)/F77,0)","v":{"$error":"#DIV/0!"}},{"$f":"IF(G77<=F$61,(F$55^2+F$55*G77)/G77,0)","v":{"$error":"#DIV/0!"}}]
["g_a (außen)",{"$f":"IF(B77<=B$61,B78-B$60+B77,0)","v":{"$error":"#DIV/0!"}},{"$f":"IF(C77<=B$61,C78-B$60+C77,0)","v":{"$error":"#DIV/0!"}},{"$f":"IF(D77<=D$61,D78-D$60+D77,0)","v":{"$error":"#DIV/0!"}},{"$f":"IF(E77<=D$61,E78-D$60+E77,0)","v":{"$error":"#DIV/0!"}},{"$f":"IF(F77<=F$61,F78-F$60+F77,0)","v":{"$error":"#DIV/0!"}},{"$f":"IF(G77<=F$61,G78-F$60+G77,0)","v":{"$error":"#DIV/0!"}}]
[]
["SCHÄRFENTIEFE"]
["Brennweite f [mm]",6,null,8,null,16]
["Blende",3.5,null,3.5,null,1.8]
["ø Zerstreuungskreis Code lesen [µm]",9,null,9,null,9]
["Hauptebene 1 [mm]",9.02,null,8.2799999999999976,null,5.8500000000000014]
["Hauptebene 2 [mm]",16.37,null,14.109999999999998,null,9.67]
["Bildebene [mm]",22.2,null,22.2,null,22.14]
["Position Front Objektiv bei unendlich",22.2,null,22.2,null,22.14]
["Abstand Gehäusefront zu H1 bei unendlich => g_i [mm]",20.82,null,20.079999999999998,null,17.71]
["x_max [mm]",2.6,null,2.6,null,2.6]
[]
["k eff.",{"$f":"$B$83*(1+$B$66)","v":3.5407964981522362},null,{"$f":"$D$83*(1+$D$66)","v":3.5546923081151021},null,{"$f":"IF(ISNUMBER(F66),$F$83*(1+$F$66),\"\")","v":1.8574621798269557}]
["g",{"$f":"$H$3+B$89-B$65","v":520.75006314602479},null,{"$f":"$H$3+D$89-D$65","v":519.9549890100227},null,{"$f":"IF(ISNUMBER(F66),$H$3+F$89-F$65,\"\")","v":517.1992250682049}]
["nah [%]",{"$f":"(B93*B$82^2/(B$82^2+B$92*B$84/1000*(B93-B$82))-(B$89-B$65))/$H$3-1","v":-0.3260152123506399},null,{"$f":"(D93*D$82^2/(D$82^2+D$92*D$84/1000*(D93-D$82))-(D$89-D$65))/$H$3-1","v":-0.21190036638093956},null,{"$f":"IF(ISNUMBER(F66),(F93*F$82^2/(F$82^2+F$92*F$84/1000*(F93-F$82))-(F$89-F$65))/$H$3-1,\"\")","v":-3.278192086948517E-2}]
["fern [%]",{"$f":"(B93*B$82^2/(B$82^2-B$92*B$84/1000*(B93-B$82))-(B$89-B$65))/$H$3-1","v":0.87181334889329443},null,{"$f":"(D93*D$82^2/(D$82^2-D$92*D$84/1000*(D93-D$82))-(D$89-D$65))/$H$3-1","v":0.35765946874130594},null,{"$f":"IF(ISNUMBER(F66),(F93*F$82^2/(F$82^2-F$92*F$84/1000*(F93-F$82))-(F$89-F$65))/$H$3-1,\"\")","v":3.5000368324971776E-2}]

{"sheet":"Kalkulator","index":9,"n_rows":94,"n_cols":8,"rows_kept":94,"cut":false,"hidden":true,"merged":[[32,0,35,0],[15,1,15,2],[15,3,15,4],[15,5,15,6],[32,1,33,1],[16,1,16,2],[16,3,16,4],[16,5,16,6],[17,1,17,2],[17,3,17,4],[17,5,17,6],[24,1,24,2],[24,3,24,4],[24,5,24,6]]}
["Sichtfeldrechner"]
[]
[null,null,null,null,null,"Leseabstand eingeben:",null,10]
[]
[]
[]
[]
["Sichtfeldbreite",{"$f":"H3","v":10},null,null,null,"Modulgrösse eingeben:",null,200]
[{"$f":"IF($B$16=1,$B$19,IF($B$16=2,$D$19,IF($B$16=3,$F$19,\"\")))","v":""}]
[]
[]
[]
["Sichtfeldhöhe"]
[{"$f":"IF($B$16=1,$C$19,IF($B$16=2,$E$19,IF($B$16=3,$G$19,\"\")))","v":""}]
[]
[null,3,2,false,null,false]
["Ergebnisse",null,null,null,null,null,null,"wenn ganze Spalte beim jew. IDC grün, dann ist IDC geeignet"]
["Leseabstand [mm]",{"$f":"H3","v":10},null,{"$f":"H3","v":10},null,{"$f":"H3","v":10}]
["Sichtfeld x*y [mm]",{"$f":"IF(ISNUMBER(B65),$B$50/B65,\"\")","v":14.894818123214398},{"$f":"IF(ISNUMBER(B65),$B$51/B65,\"\")","v":9.3092613270089988},{"$f":"IF(ISNUMBER(D65),$B$50/D65,\"\")","v":""},{"$f":"IF(ISNUMBER(D65),$B$51/D65,\"\")","v":""},{"$f":"IF(ISNUMBER(F65),$B$50/F65,\"\")","v":""},{"$f":"IF(ISNUMBER(F65),$B$51/F65,\"\")","v":""}]
["Tiefenscharfe von…bis [mm] bis max. 1.5m",{"$f":"$H$3*$B$93+$H$3","v":9.2689229960629902},{"$f":"IF(($H$3*$B$94+$H$3)>1500,1500,$H$3*$B$94+$H$3)","v":10.769513133450712},{"$f":"$H$3*$D$93+$H$3","v":{"$error":"#VALUE!"}},{"$f":"IF(($H$3*$D$94+$H$3)>1500,1500,$H$3*$D$94+$H$3)","v":{"$error":"#VALUE!"}},{"$f":"IF(ISNUMBER(F93),$H$3*$F$93+$H$3,\"\")","v":""},{"$f":"IF(ISNUMBER(F94),$H$3*$F$94+$H$3,\"\")","v":""}]
["Modulgrösse [mm]"]
["min. Modulgrösse [µm] 1D min. / Optimum",{"$f":"IF(ISNUMBER(B65),$B$52*$B$48/B65,\"\")","v":17.454864988141871},{"$f":"B22*2","v":34.909729976283742},{"$f":"IF(ISNUMBER(D65),$B$52*$B$48/D65,\"\")","v":""},{"$f":"D22*2","v":{"$error":"#VALUE!"}},{"$f":"IF(ISNUMBER(F65),$B$52*$B$48/F65,\"\")","v":""},{"$f":"IF(ISNUMBER(F65),F22*2,\"\")","v":""}]
["min. Modulgrösse [µm] 2D min. / Optimum",{"$f":"IF(ISNUMBER(B65),$B$53*$B$48/B65,\"\")","v":34.909729976283742},{"$f":"B23*2","v":69.819459952567485},{"$f":"IF(ISNUMBER(D65),$B$53*$B$48/D65,\"\")","v":""},{"$f":"D23*2","v":{"$error":"#VALUE!"}},{"$f":"IF(ISNUMBER(F65),$B$53*$B$48/F65,\"\")","v":""},{"$f":"IF(ISNUMBER(F65),F23*2,\"\")","v":""}]
["Textgrösse [mm]"]
["Mindesttexthöhe",{"$f":"C19/$B$46*25","v":0.1818215102931445},null,{"$f":"E19/D46*25","v":{"$error":"#VALUE!"}},null,{"$f":"G19/F46*25","v":{"$error":"#VALUE!"}}]
[]
["Arbeitsabstand bei gewünschter Modulgrösse"]
["Arbeitsabstand bei gew. Modulgrösse 1D (max. Entfernung/  Referenzabstand - kleiner besser)",{"$f":"IF(B$61<=B72,B72,\"-\")","v":251.98166666666623},{"$f":"IF(B$61<=B78,B78,\"-\")","v":118.78333333333332},{"$f":"IF(D$61<=D72,D72,\"-\")","v":343.65555555555613},{"$f":"IF(D$61<=D78,D78,\"-\")","v":166.05777777777786},{"$f":"IF(F$61<=F72,F72,\"-\")","v":709.7611111111122},{"$f":"IF(F$61<=F78,F78,\"-\")","v":354.5655555555557}]
["Arbeitsabstand bei gew. Modulgrösse 2D (max./opt.)",{"$f":"IF(B$61<=C72,C72,\"-\")","v":118.78333333333332},{"$f":"IF(B$61<=C78,C78,\"-\")","v":52.38666666666667},{"$f":"IF(D$61<=E72,E72,\"-\")","v":166.05777777777786},{"$f":"IF(D$61<=E78,E78,\"-\")","v":77.528888888888872},{"$f":"IF(F$61<=G72,G72,\"-\")","v":354.5655555555557},{"$f":"IF(F$61<=G78,G78,\"-\")","v":177.50777777777773}]
[]
[]
[]
["zur Visualisierung des Arbeitsabstands bei gewünschter Modulgrösse könnte man dies grafisch wie folgt lösen: Was meint Ihr?","optimaler Arbeitsbereich"]
[null,null,null,null,"Referenzabstand"]
[null,null,null,null,"max"]
[]
[]
[]
[]
[]
[]
[]
[]
[]
["Hilfsdaten:"]
["Bildhöhe",1280,null,1280,null,1280]
["Bildbreite",800,null,800,null,800]
["Pixelgrösse",3,null,3,null,3]
["Abstand Gehäusefront zu Sensor [mm]",34,null,34,null,34]
["Sensorbreite [mm]",3.84,null,3.84,null,3.84]
["Sensorhöhe [mm]",2.4,null,2.4,null,2.4]
["Min. Breite Modul 1D-Code [px]",1.5,null,1.5,null,1.5]
["Min. Breite Modul 2D-Code [px]",3,null,3,null,3]
["Brennweite f [mm]",6,null,8,null,16]
["Hauptebene 1 [mm]",9.02,null,8.2799999999999976,null,5.8500000000000014]
["Hauptebene 2 [mm]",16.37,null,14.109999999999998,null,9.67]
["Bildebene [mm]",22.2,null,22.2,null,22.14]
["Position Front Objektiv bei unendlich",22.2,null,22.2,null,22.14]
["Abstand Gehäusefront zu H1 bei unendlich => g_i [mm]",20.82,null,20.079999999999998,null,17.71]
["x_max [mm]",2.6,null,2.6,null,2.6]
["Min. Arbeitsabstand [mm]",50,null,50,null,100]
[]
["p",{"$f":"$B$54-$H$3-B59","v":-24.82},null,{"$f":"D54-$H$3-D59","v":-22.08},null,{"$f":"F54-$H$3-F59","v":-11.71}]
["x",{"$f":"IF(B63^2/4-B$54^2 >=0,-B63/2-SQRT(B63^2/4-B$54^2),\"\")","v":1.5468466824775042},null,{"$f":"IF(D63^2/4-D$54^2 >=0,-D63/2-SQRT(D63^2/4-D$54^2),\"\")","v":3.4320042061000064},null,{"$f":"IF(F63^2/4-F$54^2 >=0,-F63/2-SQRT(F63^2/4-F$54^2),\"\")","v":""}]
["beta",{"$f":"IF(AND(ISNUMBER(B64),B64<B$60),(B$54+B64)/($H3+B$59-B64),\"\")","v":0.25780778041291741},null,{"$f":"IF(AND(ISNUMBER(D64),D64<D$60),(D$54+D64)/($H3+D$59-D64),\"\")","v":""},null,{"$f":"IF(AND(ISNUMBER(F64),F64<F$60),(F$54+F64)/($H3+F$59-F64),\"\")","v":""}]
[null,"1D","2D","1D","2D","1D","2D"]
["beta min (min. Auflösung)",{"$f":"B$52*B$48/$H$8","v":2.2499999999999999E-2},{"$f":"B$53*B$48/$H$8","v":4.4999999999999998E-2},{"$f":"D$52*D$48/$H$8","v":2.2499999999999999E-2},{"$f":"D$53*D$48/$H$8","v":4.4999999999999998E-2},{"$f":"F$52*F$48/$H$8","v":2.2499999999999999E-2},{"$f":"F$53*F$48/$H$8","v":4.4999999999999998E-2}]
["p für x-Berechnung",{"$f":"(1-B67)*B$54","v":5.8650000000000002},{"$f":"(1-C67)*B$54","v":5.7299999999999995},{"$f":"(1-D67)*D$54","v":7.82},{"$f":"(1-E67)*D$54","v":7.64},{"$f":"(1-F67)*F$54","v":15.64},{"$f":"(1-G67)*F$54","v":15.28}]
["q für x-Berechnung",{"$f":"-B67*B$54^2","v":-0.80999999999999994},{"$f":"-C67*B$54^2","v":-1.6199999999999999},{"$f":"-D67*D$54^2","v":-1.44},{"$f":"-E67*D$54^2","v":-2.88},{"$f":"-F67*F$54^2","v":-5.76},{"$f":"-G67*F$54^2","v":-11.52}]
["x",{"$f":"-B68/2+SQRT((B68/2)^2-B69)","v":0.13500000000000023},0.27,0.17999999999999972,0.35999999999999988,0.35999999999999943,0.71999999999999975]
["g (gesamt)",{"$f":"IF(B70<=B$60,(B$54^2+B$54*B70)/B70,0)","v":272.66666666666623},{"$f":"IF(C70<=B$60,(B$54^2+B$54*C70)/C70,0)","v":139.33333333333331},{"$f":"IF(D70<=D$60,(D$54^2+D$54*D70)/D70,0)","v":363.55555555555611},{"$f":"IF(E70<=D$60,(D$54^2+D$54*E70)/E70,0)","v":185.77777777777783},{"$f":"IF(F70<=F$60,(F$54^2+F$54*F70)/F70,0)","v":727.11111111111222},{"$f":"IF(G70<=F$60,(F$54^2+F$54*G70)/G70,0)","v":371.55555555555566}]
["g_a (außen)",{"$f":"IF(B70<=B$60,B71-B$59+B70,0)","v":251.98166666666623},{"$f":"IF(C70<=B$60,C71-B$59+C70,0)","v":118.78333333333332},{"$f":"IF(D70<=D$60,D71-D$59+D70,0)","v":343.65555555555613},{"$f":"IF(E70<=D$60,E71-D$59+E70,0)","v":166.05777777777786},{"$f":"IF(F70<=F$60,F71-F$59+F70,0)","v":709.7611111111122},{"$f":"IF(G70<=F$60,G71-F$59+G70,0)","v":354.5655555555557}]
["beta min (opt. Auflösung)",{"$f":"2*B$52*B$48/$H$8","v":4.4999999999999998E-2},{"$f":"2*B$53*B$48/$H$8","v":0.09},{"$f":"2*D$52*D$48/$H$8","v":4.4999999999999998E-2},{"$f":"2*D$53*D$48/$H$8","v":0.09},{"$f":"2*F$52*F$48/$H$8","v":4.4999999999999998E-2},{"$f":"2*F$53*F$48/$H$8","v":0.09}]
["p für x-Berechnung",{"$f":"(1-B73)*B$54","v":5.7299999999999995},{"$f":"(1-C73)*B$54","v":5.46},{"$f":"(1-D73)*D$54","v":7.64},{"$f":"(1-E73)*D$54","v":7.28},{"$f":"(1-F73)*F$54","v":15.28},{"$f":"(1-G73)*F$54","v":14.56}]
["q für x-Berechnung",{"$f":"-B73*B$54^2","v":-1.6199999999999999},{"$f":"-C73*B$54^2","v":-3.2399999999999998},{"$f":"-D73*D$54^2","v":-2.88},{"$f":"-E73*D$54^2","v":-5.76},{"$f":"-F73*F$54^2","v":-11.52},{"$f":"-G73*F$54^2","v":-23.04}]
["x",{"$f":"-B74/2+SQRT((B74/2)^2-B75)","v":0.27},0.54,0.35999999999999988,0.7200000000000002,0.71999999999999975,1.4400000000000004]
["g (gesamt)",{"$f":"IF(B76<=B$60,(B$54^2+B$54*B76)/B76,0)","v":139.33333333333331},{"$f":"IF(C76<=B$60,(B$54^2+B$54*C76)/C76,0)","v":72.666666666666671},{"$f":"IF(D76<=D$60,(D$54^2+D$54*D76)/D76,0)","v":185.77777777777783},{"$f":"IF(E76<=D$60,(D$54^2+D$54*E76)/E76,0)","v":96.888888888888872},{"$f":"IF(F76<=F$60,(F$54^2+F$54*F76)/F76,0)","v":371.55555555555566},{"$f":"IF(G76<=F$60,(F$54^2+F$54*G76)/G76,0)","v":193.77777777777774}]
["g_a (außen)",{"$f":"IF(B76<=B$60,B77-B$59+B76,0)","v":118.78333333333332},{"$f":"IF(C76<=B$60,C77-B$59+C76,0)","v":52.38666666666667},{"$f":"IF(D76<=D$60,D77-D$59+D76,0)","v":166.05777777777786},{"$f":"IF(E76<=D$60,E77-D$59+E76,0)","v":77.528888888888872},{"$f":"IF(F76<=F$60,F77-F$59+F76,0)","v":354.5655555555557},{"$f":"IF(G76<=F$60,G77-F$59+G76,0)","v":177.50777777777773}]
[]
["SCHÄRFENTIEFE"]
["Brennweite f [mm]",6,null,8,null,16]
["Blende",3.5,null,3.5,null,1.8]
["ø Zerstreuungskreis Code lesen [µm]",9,null,9,null,9]
["Hauptebene 1 [mm]",9.02,null,8.2799999999999976,null,5.8500000000000014]
["Hauptebene 2 [mm]",16.37,null,14.109999999999998,null,9.67]
["Bildebene [mm]",22.2,null,22.2,null,22.14]
["Position Front Objektiv bei unendlich",22.2,null,22.2,null,22.14]
["Abstand Gehäusefront zu H1 bei unendlich => g_i [mm]",20.82,null,20.079999999999998,null,17.71]
["x_max [mm]",2.6,null,2.6,null,2.6]
[]
["k eff.",{"$f":"$B$82*(1+$B$65)","v":4.4023272314452111},null,{"$f":"$D$82*(1+$D$65)","v":{"$error":"#VALUE!"}},null,{"$f":"IF(ISNUMBER(F65),$F$82*(1+$F$65),\"\")","v":""}]
["g",{"$f":"$H$3+B$88-B$64","v":29.273153317522496},null,{"$f":"$H$3+D$88-D$64","v":26.647995793899991},null,{"$f":"IF(ISNUMBER(F65),$H$3+F$88-F$64,\"\")","v":""}]
["nah [%]",{"$f":"(B92*B$81^2/(B$81^2+B$91*B$83/1000*(B92-B$81))-(B$88-B$64))/$H$3-1","v":-7.3107700393700958E-2},null,{"$f":"(D92*D$81^2/(D$81^2+D$91*D$83/1000*(D92-D$81))-(D$88-D$64))/$H$3-1","v":{"$error":"#VALUE!"}},null,{"$f":"IF(ISNUMBER(F65),(F92*F$81^2/(F$81^2+F$91*F$83/1000*(F92-F$81))-(F$88-F$64))/$H$3-1,\"\")","v":""}]
["fern [%]",{"$f":"(B92*B$81^2/(B$81^2-B$91*B$83/1000*(B92-B$81))-(B$88-B$64))/$H$3-1","v":7.6951313345071215E-2},null,{"$f":"(D92*D$81^2/(D$81^2-D$91*D$83/1000*(D92-D$81))-(D$88-D$64))/$H$3-1","v":{"$error":"#VALUE!"}},null,{"$f":"IF(ISNUMBER(F65),(F92*F$81^2/(F$81^2-F$91*F$83/1000*(F92-F$81))-(F$88-F$64))/$H$3-1,\"\")","v":""}]